BEGIN:VCALENDAR
VERSION:2.0
PRODID:-//Båstad Camping - ECPv6.15.20//NONSGML v1.0//EN
CALSCALE:GREGORIAN
METHOD:PUBLISH
X-WR-CALNAME:Båstad Camping
X-ORIGINAL-URL:https://www.bastadcamping.se
X-WR-CALDESC:Händelser för Båstad Camping
REFRESH-INTERVAL;VALUE=DURATION:PT1H
X-Robots-Tag:noindex
X-PUBLISHED-TTL:PT1H
BEGIN:VTIMEZONE
TZID:Europe/Stockholm
BEGIN:DAYLIGHT
TZOFFSETFROM:+0100
TZOFFSETTO:+0200
TZNAME:CEST
DTSTART:20230326T010000
END:DAYLIGHT
BEGIN:STANDARD
TZOFFSETFROM:+0200
TZOFFSETTO:+0100
TZNAME:CET
DTSTART:20231029T010000
END:STANDARD
BEGIN:DAYLIGHT
TZOFFSETFROM:+0100
TZOFFSETTO:+0200
TZNAME:CEST
DTSTART:20240331T010000
END:DAYLIGHT
BEGIN:STANDARD
TZOFFSETFROM:+0200
TZOFFSETTO:+0100
TZNAME:CET
DTSTART:20241027T010000
END:STANDARD
BEGIN:DAYLIGHT
TZOFFSETFROM:+0100
TZOFFSETTO:+0200
TZNAME:CEST
DTSTART:20250330T010000
END:DAYLIGHT
BEGIN:STANDARD
TZOFFSETFROM:+0200
TZOFFSETTO:+0100
TZNAME:CET
DTSTART:20251026T010000
END:STANDARD
END:VTIMEZONE
BEGIN:VEVENT
DTSTART;TZID=Europe/Stockholm:20240803T140000
DTEND;TZID=Europe/Stockholm:20240803T153000
DTSTAMP:20260420T002151
CREATED:20240709T072609Z
LAST-MODIFIED:20240710T131645Z
UID:4377-1722693600-1722699000@www.bastadcamping.se
SUMMARY:Whiskyprovning
DESCRIPTION:Varmt välkomna på Whiskyprovning med Peter och Ulf! \nEfter förra whiskyprovningen blev vi ombedda att göra en ny med Whisky ifrån Världens alla hörn. Den 3/8 tar vi med er på en resa med nya smaker. Vi kommer att bjuda på Whisky ifrån Frankrike\, Japan\, Indien\, USA (obs en singelmalt)\, Sverige och en Svensk Whisky som är lagrad på lite ovanliga fat.\nHoppas att vi ses! \nHälsningar\,\nPeter och Ulf \nAnmäl dig nu för att säkra din plats. Anmälan görs via Telefon: +46 0431 755 11 eller mail: info@bastadcamping.se \nPris: 350 kr per person
URL:https://www.bastadcamping.se/event/whiskyprovning/
LOCATION:Torget
ATTACH;FMTTYPE=image/jpeg:https://www.bastadcamping.se/wp-content/uploads/2023/05/pexels-anna-pyshniuk-7799797-scaled.jpg
ORGANIZER;CN="Torget":MAILTO:torget@bastadcamping.se
END:VEVENT
END:VCALENDAR