BEGIN:VCALENDAR
VERSION:2.0
PRODID:-//Båstad Camping - ECPv6.15.20//NONSGML v1.0//EN
CALSCALE:GREGORIAN
METHOD:PUBLISH
X-WR-CALNAME:Båstad Camping
X-ORIGINAL-URL:https://www.bastadcamping.se
X-WR-CALDESC:Händelser för Båstad Camping
REFRESH-INTERVAL;VALUE=DURATION:PT1H
X-Robots-Tag:noindex
X-PUBLISHED-TTL:PT1H
BEGIN:VTIMEZONE
TZID:Europe/Stockholm
BEGIN:DAYLIGHT
TZOFFSETFROM:+0100
TZOFFSETTO:+0200
TZNAME:CEST
DTSTART:20240331T010000
END:DAYLIGHT
BEGIN:STANDARD
TZOFFSETFROM:+0200
TZOFFSETTO:+0100
TZNAME:CET
DTSTART:20241027T010000
END:STANDARD
BEGIN:DAYLIGHT
TZOFFSETFROM:+0100
TZOFFSETTO:+0200
TZNAME:CEST
DTSTART:20250330T010000
END:DAYLIGHT
BEGIN:STANDARD
TZOFFSETFROM:+0200
TZOFFSETTO:+0100
TZNAME:CET
DTSTART:20251026T010000
END:STANDARD
BEGIN:DAYLIGHT
TZOFFSETFROM:+0100
TZOFFSETTO:+0200
TZNAME:CEST
DTSTART:20260329T010000
END:DAYLIGHT
BEGIN:STANDARD
TZOFFSETFROM:+0200
TZOFFSETTO:+0100
TZNAME:CET
DTSTART:20261025T010000
END:STANDARD
END:VTIMEZONE
BEGIN:VEVENT
DTSTART;TZID=Europe/Stockholm:20250726T180000
DTEND;TZID=Europe/Stockholm:20250726T220000
DTSTAMP:20260419T144346
CREATED:20250703T111700Z
LAST-MODIFIED:20250703T111700Z
UID:4802-1753552800-1753567200@www.bastadcamping.se
SUMMARY:Trubadurkväll med Rasmus Hanák
DESCRIPTION:Vi välkomnar Rasmus Hanák upp på scen! \nRasmus bjuder till en kväll med sköna låtar som alla känner igen. \nGlöm inte att boka bord i restaurangen på info@bastadcamping.se eller 0431 755 11
URL:https://www.bastadcamping.se/event/trubadurkvall-med-rasmus-hanak/
LOCATION:Torget
ATTACH;FMTTYPE=image/jpeg:https://www.bastadcamping.se/wp-content/uploads/2023/05/IMG_2138-scaled.jpg
ORGANIZER;CN="Torget":MAILTO:torget@bastadcamping.se
END:VEVENT
END:VCALENDAR