BEGIN:VCALENDAR
VERSION:2.0
PRODID:-//Båstad Camping - ECPv6.15.20//NONSGML v1.0//EN
CALSCALE:GREGORIAN
METHOD:PUBLISH
X-ORIGINAL-URL:https://www.bastadcamping.se
X-WR-CALDESC:Händelser för Båstad Camping
REFRESH-INTERVAL;VALUE=DURATION:PT1H
X-Robots-Tag:noindex
X-PUBLISHED-TTL:PT1H
BEGIN:VTIMEZONE
TZID:Europe/Stockholm
BEGIN:DAYLIGHT
TZOFFSETFROM:+0100
TZOFFSETTO:+0200
TZNAME:CEST
DTSTART:20240331T010000
END:DAYLIGHT
BEGIN:STANDARD
TZOFFSETFROM:+0200
TZOFFSETTO:+0100
TZNAME:CET
DTSTART:20241027T010000
END:STANDARD
BEGIN:DAYLIGHT
TZOFFSETFROM:+0100
TZOFFSETTO:+0200
TZNAME:CEST
DTSTART:20250330T010000
END:DAYLIGHT
BEGIN:STANDARD
TZOFFSETFROM:+0200
TZOFFSETTO:+0100
TZNAME:CET
DTSTART:20251026T010000
END:STANDARD
BEGIN:DAYLIGHT
TZOFFSETFROM:+0100
TZOFFSETTO:+0200
TZNAME:CEST
DTSTART:20260329T010000
END:DAYLIGHT
BEGIN:STANDARD
TZOFFSETFROM:+0200
TZOFFSETTO:+0100
TZNAME:CET
DTSTART:20261025T010000
END:STANDARD
END:VTIMEZONE
BEGIN:VEVENT
DTSTART;TZID=Europe/Stockholm:20250719T180000
DTEND;TZID=Europe/Stockholm:20250719T220000
DTSTAMP:20260421T121617
CREATED:20250220T125809Z
LAST-MODIFIED:20250220T125809Z
UID:4569-1752948000-1752962400@www.bastadcamping.se
SUMMARY:Trubadurafton med Kalle Sellbrink
DESCRIPTION:Varmt välkommen upp på scen Kalle Sellbrink! \nNu kör vi två dagars underhållning med god musik när sommaren är som bäst!\nKalle blandar härliga låtar med stor igenkänningsfaktor. \nGlöm inte att boka bord i restaurangen via telefon: 0431-755 11 eller mail: info@bastadcamping.se \nVi ses!
URL:https://www.bastadcamping.se/event/trubadurafton-med-kalle-sellbrink-2/
LOCATION:Torget
ATTACH;FMTTYPE=image/jpeg:https://www.bastadcamping.se/wp-content/uploads/2024/04/Kalle-Sellbrink.jpg
ORGANIZER;CN="Torget":MAILTO:torget@bastadcamping.se
END:VEVENT
BEGIN:VEVENT
DTSTART;TZID=Europe/Stockholm:20250718T180000
DTEND;TZID=Europe/Stockholm:20250718T220000
DTSTAMP:20260421T121617
CREATED:20250220T125647Z
LAST-MODIFIED:20250220T125647Z
UID:4567-1752861600-1752876000@www.bastadcamping.se
SUMMARY:Trubadurafton med Kalle Sellbrink
DESCRIPTION:Varmt välkommen upp på scen Kalle Sellbrink! \nNu kör vi två dagars underhållning med god musik när sommaren är som bäst!\nKalle blandar härliga låtar med stor igenkänningsfaktor. \nGlöm inte att boka bord i restaurangen via telefon: 0431-755 11 eller mail: info@bastadcamping.se \nVi ses!
URL:https://www.bastadcamping.se/event/trubadurafton-med-kalle-sellbrink/
LOCATION:Torget
ATTACH;FMTTYPE=image/jpeg:https://www.bastadcamping.se/wp-content/uploads/2024/04/Kalle-Sellbrink.jpg
ORGANIZER;CN="Torget":MAILTO:torget@bastadcamping.se
END:VEVENT
BEGIN:VEVENT
DTSTART;TZID=Europe/Stockholm:20250718T180000
DTEND;TZID=Europe/Stockholm:20250718T200000
DTSTAMP:20260421T121617
CREATED:20250321T113028Z
LAST-MODIFIED:20250321T113028Z
UID:4592-1752861600-1752868800@www.bastadcamping.se
SUMMARY:Barn disco på Båstad Camping
DESCRIPTION:Nu dansar vi loss och leker roliga lekar på discot! \nÅlder för discot är 6 till 12 år. Föräldrar får gärna följa med. \nTid: 18:00 till 20:00 \nPris: Gratis för alla barn
URL:https://www.bastadcamping.se/event/barn-disco-pa-bastad-camping/
ATTACH;FMTTYPE=image/jpeg:https://www.bastadcamping.se/wp-content/uploads/2023/06/pexels-koolshooters-6983014.jpg
END:VEVENT
BEGIN:VEVENT
DTSTART;TZID=Europe/Stockholm:20250718T150000
DTEND;TZID=Europe/Stockholm:20250718T170000
DTSTAMP:20260421T121617
CREATED:20250702T111612Z
LAST-MODIFIED:20250709T083916Z
UID:4777-1752850800-1752858000@www.bastadcamping.se
SUMMARY:After beach
DESCRIPTION:
URL:https://www.bastadcamping.se/event/after-beach-2/
LOCATION:Torget
ATTACH;FMTTYPE=application/pdf:https://www.bastadcamping.se/wp-content/uploads/2025/07/after-beach-1-4.pdf
ORGANIZER;CN="Torget":MAILTO:torget@bastadcamping.se
END:VEVENT
BEGIN:VEVENT
DTSTART;TZID=Europe/Stockholm:20250717T170000
DTEND;TZID=Europe/Stockholm:20250717T210000
DTSTAMP:20260421T121617
CREATED:20250626T115825Z
LAST-MODIFIED:20250626T115825Z
UID:4762-1752771600-1752786000@www.bastadcamping.se
SUMMARY:Räkfrossa
DESCRIPTION:Varmt välkomna på Räkfrossa! \nPris: 329 kr Inkl. bröd\, aioli\, citron och självklart massa goa räkor \nPS: Glöm inte att boka bord på info@bastadcamping.se eller 0431 755 11
URL:https://www.bastadcamping.se/event/rakfrossa-3/
LOCATION:Torget
ATTACH;FMTTYPE=image/jpeg:https://www.bastadcamping.se/wp-content/uploads/2023/06/pexels-terje-sollie-566344.jpg
ORGANIZER;CN="Torget":MAILTO:torget@bastadcamping.se
END:VEVENT
BEGIN:VEVENT
DTSTART;TZID=Europe/Stockholm:20250717T100000
DTEND;TZID=Europe/Stockholm:20250717T120000
DTSTAMP:20260421T121617
CREATED:20250321T112700Z
LAST-MODIFIED:20250321T112700Z
UID:4590-1752746400-1752753600@www.bastadcamping.se
SUMMARY:Barnens tipspromenad
DESCRIPTION:Nu ska vi klura och fundera! \nGå den roliga tipspromenaden genom området och lös de kluriga frågorna. \nFina priser till vinnarna utlovas. \nPris: Gratis att delta för alla barn
URL:https://www.bastadcamping.se/event/barnens-tipspromenad/
ATTACH;FMTTYPE=image/jpeg:https://www.bastadcamping.se/wp-content/uploads/2023/06/bastad-camping-barn.jpg
END:VEVENT
BEGIN:VEVENT
DTSTART;TZID=Europe/Stockholm:20250716T173000
DTEND;TZID=Europe/Stockholm:20250716T183000
DTSTAMP:20260421T121617
CREATED:20250507T124411Z
LAST-MODIFIED:20250507T124411Z
UID:4681-1752687000-1752690600@www.bastadcamping.se
SUMMARY:Utomhusträning med Friskis & Svettis
DESCRIPTION:Välkommen på gratis utomhusträning med Friskis & Svettis! \nVi kör varje måndag och onsdag kl 17:30\, från v.26 till 33 och det är helt gratis att delta. \nInstruktörerna kommer att antingen hålla i Jympa eller Multifys soft. läs nedan för vad det innebär. \n\nFriskis Jympa är energifylld träning med stor variation där du jobbar med kroppen som belastning. Fokus ligger på upplevelsen där musiken förstärker rörelsernas karaktär.\nPå Multifys soft får du ostressad fysträning utan konstigheter. Perfekt för dig som är ny\, vill komma igång med träningen eller för dig som vill ha återhämtning efter tuffa träningsutmaningar.\n\n  \nVarmt välkomna för en hälsosam sommar på Båstad Camping!
URL:https://www.bastadcamping.se/event/utomhustraning-med-friskis-svettis-8/
ATTACH;FMTTYPE=image/png:https://www.bastadcamping.se/wp-content/uploads/2025/05/friskis-och-svettis-bild.png
END:VEVENT
BEGIN:VEVENT
DTSTART;TZID=Europe/Stockholm:20250716T100000
DTEND;TZID=Europe/Stockholm:20250716T120000
DTSTAMP:20260421T121617
CREATED:20250321T112343Z
LAST-MODIFIED:20250321T112343Z
UID:4588-1752660000-1752667200@www.bastadcamping.se
SUMMARY:Barnens skattjakt
DESCRIPTION:Ge er ut på skattjakt! \nVälkommen att hämta er karta i receptionen för att kunna hitta skatten. \nPris: Gratis för alla barn att delta
URL:https://www.bastadcamping.se/event/barnens-skattjakt/
ATTACH;FMTTYPE=image/jpeg:https://www.bastadcamping.se/wp-content/uploads/2023/06/pexels-jeshootscom-576835.jpg
END:VEVENT
BEGIN:VEVENT
DTSTART;TZID=Europe/Stockholm:20250715T100000
DTEND;TZID=Europe/Stockholm:20250715T110000
DTSTAMP:20260421T121617
CREATED:20250321T112040Z
LAST-MODIFIED:20250321T112040Z
UID:4586-1752573600-1752577200@www.bastadcamping.se
SUMMARY:Kidsrun
DESCRIPTION:Sätt på dig dina snabbaste skor och spring med oss! \nVi samlas vid fotbollsplanen för uppvärmning och sen går startskottet. \nVi springer genom trollskogen och genom campingen. \nPris: Gratis för alla barn att delta
URL:https://www.bastadcamping.se/event/kidsrun-2/
ATTACH;FMTTYPE=image/jpeg:https://www.bastadcamping.se/wp-content/uploads/2023/06/IMG_3819-e1687256054835.jpeg
END:VEVENT
BEGIN:VEVENT
DTSTART;TZID=Europe/Stockholm:20250714T173000
DTEND;TZID=Europe/Stockholm:20250714T183000
DTSTAMP:20260421T121617
CREATED:20250507T124217Z
LAST-MODIFIED:20250507T124217Z
UID:4679-1752514200-1752517800@www.bastadcamping.se
SUMMARY:Utomhusträning med Friskis & Svettis
DESCRIPTION:Välkommen på gratis utomhusträning med Friskis & Svettis! \nVi kör varje måndag och onsdag kl 17:30\, från v.26 till 33 och det är helt gratis att delta. \nInstruktörerna kommer att antingen hålla i Jympa eller Multifys soft. läs nedan för vad det innebär. \n\nFriskis Jympa är energifylld träning med stor variation där du jobbar med kroppen som belastning. Fokus ligger på upplevelsen där musiken förstärker rörelsernas karaktär.\nPå Multifys soft får du ostressad fysträning utan konstigheter. Perfekt för dig som är ny\, vill komma igång med träningen eller för dig som vill ha återhämtning efter tuffa träningsutmaningar.\n\n  \nVarmt välkomna för en hälsosam sommar på Båstad Camping!
URL:https://www.bastadcamping.se/event/utomhustraning-med-friskis-svettis-7/
ATTACH;FMTTYPE=image/png:https://www.bastadcamping.se/wp-content/uploads/2025/05/friskis-och-svettis-bild.png
END:VEVENT
BEGIN:VEVENT
DTSTART;TZID=Europe/Stockholm:20250714T100000
DTEND;TZID=Europe/Stockholm:20250714T120000
DTSTAMP:20260421T121617
CREATED:20250321T111743Z
LAST-MODIFIED:20250321T111743Z
UID:4584-1752487200-1752494400@www.bastadcamping.se
SUMMARY:Legoverkstad
DESCRIPTION:Välkommen alla barn att bygga lego med oss! \nVi samlas i uterummet på restaurangen och bygger lego tillsammans. Vem kan bygga högst torn utan att det rasar? \nPris: Gratis för alla barn
URL:https://www.bastadcamping.se/event/legoverkstad/
ATTACH;FMTTYPE=image/jpeg:https://www.bastadcamping.se/wp-content/uploads/2023/06/Screenshot-2023-06-20-at-14.21.28.jpg
END:VEVENT
BEGIN:VEVENT
DTSTART;TZID=Europe/Stockholm:20250712T180000
DTEND;TZID=Europe/Stockholm:20250712T220000
DTSTAMP:20260421T121617
CREATED:20250407T115312Z
LAST-MODIFIED:20250407T115312Z
UID:4609-1752343200-1752357600@www.bastadcamping.se
SUMMARY:Livemusik med Freddans orkester
DESCRIPTION:Varmt välkomna upp på scen Freddans orkester! \nFreddans blandar de bästa låtarna och bjuder in till dans. Orkar man inte dansa går det lika bra att sitta och njuta av den härliga musiken. \nPS: Glöm inte att boka bord i restaurangen
URL:https://www.bastadcamping.se/event/livemusik-med-freddans-orkester-5/
LOCATION:Torget
ATTACH;FMTTYPE=image/jpeg:https://www.bastadcamping.se/wp-content/uploads/2024/03/IMG_5206.jpeg
ORGANIZER;CN="Torget":MAILTO:torget@bastadcamping.se
END:VEVENT
BEGIN:VEVENT
DTSTART;TZID=Europe/Stockholm:20250711T180000
DTEND;TZID=Europe/Stockholm:20250711T220000
DTSTAMP:20260421T121617
CREATED:20250630T090639Z
LAST-MODIFIED:20250630T090639Z
UID:4770-1752256800-1752271200@www.bastadcamping.se
SUMMARY:Trubadurafton med Uffe
DESCRIPTION:Varmt välkomna att njuta av härlig musik\, god mat och dryck! \nGlöm inte att boka bord i restaurangen på info@bastadcamping.se eller 0431 755 11 \nVi ses på Båstad Camping!
URL:https://www.bastadcamping.se/event/trubadurafton-med-uffe-2/
LOCATION:Torget
ATTACH;FMTTYPE=image/jpeg:https://www.bastadcamping.se/wp-content/uploads/2023/05/uffe.jpeg
ORGANIZER;CN="Torget":MAILTO:torget@bastadcamping.se
END:VEVENT
BEGIN:VEVENT
DTSTART;TZID=Europe/Stockholm:20250711T150000
DTEND;TZID=Europe/Stockholm:20250711T170000
DTSTAMP:20260421T121617
CREATED:20250702T111351Z
LAST-MODIFIED:20250709T084157Z
UID:4772-1752246000-1752253200@www.bastadcamping.se
SUMMARY:After beach
DESCRIPTION:
URL:https://www.bastadcamping.se/event/after-beach/
LOCATION:Torget
ATTACH;FMTTYPE=application/pdf:https://www.bastadcamping.se/wp-content/uploads/2025/07/after-beach-1-5.pdf
ORGANIZER;CN="Torget":MAILTO:torget@bastadcamping.se
END:VEVENT
BEGIN:VEVENT
DTSTART;TZID=Europe/Stockholm:20250710T170000
DTEND;TZID=Europe/Stockholm:20250710T210000
DTSTAMP:20260421T121617
CREATED:20250626T115558Z
LAST-MODIFIED:20250626T115558Z
UID:4760-1752166800-1752181200@www.bastadcamping.se
SUMMARY:Räkfrossa
DESCRIPTION:Varmt välkomna på Räkfrossa! \nPris: 329 kr Inkl. bröd\, aioli\, citron och självklart massa goa räkor \nPS: Glöm inte att boka bord på info@bastadcamping.se eller 0431 755 11
URL:https://www.bastadcamping.se/event/rakfrossa-2/
LOCATION:Torget
ATTACH;FMTTYPE=image/jpeg:https://www.bastadcamping.se/wp-content/uploads/2023/06/pexels-terje-sollie-566344.jpg
ORGANIZER;CN="Torget":MAILTO:torget@bastadcamping.se
END:VEVENT
BEGIN:VEVENT
DTSTART;TZID=Europe/Stockholm:20250709T173000
DTEND;TZID=Europe/Stockholm:20250709T183000
DTSTAMP:20260421T121617
CREATED:20250507T123952Z
LAST-MODIFIED:20250507T123952Z
UID:4677-1752082200-1752085800@www.bastadcamping.se
SUMMARY:Utomhusträning med Friskis & Svettis
DESCRIPTION:Välkommen på gratis utomhusträning med Friskis & Svettis! \nVi kör varje måndag och onsdag kl 17:30\, från v.26 till 33 och det är helt gratis att delta. \nInstruktörerna kommer att antingen hålla i Jympa eller Multifys soft. läs nedan för vad det innebär. \n\nFriskis Jympa är energifylld träning med stor variation där du jobbar med kroppen som belastning. Fokus ligger på upplevelsen där musiken förstärker rörelsernas karaktär.\nPå Multifys soft får du ostressad fysträning utan konstigheter. Perfekt för dig som är ny\, vill komma igång med träningen eller för dig som vill ha återhämtning efter tuffa träningsutmaningar.\n\n  \nVarmt välkomna för en hälsosam sommar på Båstad Camping!
URL:https://www.bastadcamping.se/event/utomhustraning-med-friskis-svettis-6/
ATTACH;FMTTYPE=image/png:https://www.bastadcamping.se/wp-content/uploads/2025/05/friskis-och-svettis-bild.png
END:VEVENT
BEGIN:VEVENT
DTSTART;TZID=Europe/Stockholm:20250707T173000
DTEND;TZID=Europe/Stockholm:20250707T183000
DTSTAMP:20260421T121617
CREATED:20250507T123715Z
LAST-MODIFIED:20250507T123715Z
UID:4675-1751909400-1751913000@www.bastadcamping.se
SUMMARY:Utomhusträning med Friskis & Svettis
DESCRIPTION:Välkommen på gratis utomhusträning med Friskis & Svettis! \nVi kör varje måndag och onsdag kl 17:30\, från v.26 till 33 och det är helt gratis att delta. \nInstruktörerna kommer att antingen hålla i Jympa eller Multifys soft. läs nedan för vad det innebär. \n\nFriskis Jympa är energifylld träning med stor variation där du jobbar med kroppen som belastning. Fokus ligger på upplevelsen där musiken förstärker rörelsernas karaktär.\nPå Multifys soft får du ostressad fysträning utan konstigheter. Perfekt för dig som är ny\, vill komma igång med träningen eller för dig som vill ha återhämtning efter tuffa träningsutmaningar.\n\n  \nVarmt välkomna för en hälsosam sommar på Båstad Camping!
URL:https://www.bastadcamping.se/event/utomhustraning-med-friskis-svettis-5/
ATTACH;FMTTYPE=image/png:https://www.bastadcamping.se/wp-content/uploads/2025/05/friskis-och-svettis-bild.png
END:VEVENT
BEGIN:VEVENT
DTSTART;TZID=Europe/Stockholm:20250705T180000
DTEND;TZID=Europe/Stockholm:20250705T220000
DTSTAMP:20260421T121617
CREATED:20250204T090635Z
LAST-MODIFIED:20250204T090635Z
UID:4542-1751738400-1751752800@www.bastadcamping.se
SUMMARY:Livemusik med Beirtrio
DESCRIPTION:Nu välkomnar vi Beirtrio upp på vår scen! \nBandet spelar härliga hits genom åren blandat med en fantastisk musikalitet! \nBoka bord i restaurangen för att säkra er plats. Telefon: 0431 755 11 eller mail: info@bastadcamping.se
URL:https://www.bastadcamping.se/event/livemusik-med-beirtrio-2/
LOCATION:Torget
ATTACH;FMTTYPE=image/jpeg:https://www.bastadcamping.se/wp-content/uploads/2024/05/Linus-band-bild.jpg
ORGANIZER;CN="Torget":MAILTO:torget@bastadcamping.se
END:VEVENT
BEGIN:VEVENT
DTSTART;TZID=Europe/Stockholm:20250704T180000
DTEND;TZID=Europe/Stockholm:20250704T220000
DTSTAMP:20260421T121617
CREATED:20250407T115153Z
LAST-MODIFIED:20250407T115153Z
UID:4607-1751652000-1751666400@www.bastadcamping.se
SUMMARY:Livemusik med Freddans orkester
DESCRIPTION:Varmt välkomna upp på scen Freddans orkester! \nFreddans blandar de bästa låtarna och bjuder in till dans. Orkar man inte dansa går det lika bra att sitta och njuta av den härliga musiken. \nPS: Glöm inte att boka bord i restaurangen
URL:https://www.bastadcamping.se/event/livemusik-med-freddans-orkester-4/
LOCATION:Torget
ATTACH;FMTTYPE=image/jpeg:https://www.bastadcamping.se/wp-content/uploads/2024/03/IMG_5206.jpeg
ORGANIZER;CN="Torget":MAILTO:torget@bastadcamping.se
END:VEVENT
BEGIN:VEVENT
DTSTART;TZID=Europe/Stockholm:20250702T173000
DTEND;TZID=Europe/Stockholm:20250702T183000
DTSTAMP:20260421T121617
CREATED:20250507T123450Z
LAST-MODIFIED:20250507T123450Z
UID:4673-1751477400-1751481000@www.bastadcamping.se
SUMMARY:Utomhusträning med Friskis & Svettis
DESCRIPTION:Välkommen på gratis utomhusträning med Friskis & Svettis! \nVi kör varje måndag och onsdag kl 17:30\, från v.26 till 33 och det är helt gratis att delta. \nInstruktörerna kommer att antingen hålla i Jympa eller Multifys soft. läs nedan för vad det innebär. \n\nFriskis Jympa är energifylld träning med stor variation där du jobbar med kroppen som belastning. Fokus ligger på upplevelsen där musiken förstärker rörelsernas karaktär.\nPå Multifys soft får du ostressad fysträning utan konstigheter. Perfekt för dig som är ny\, vill komma igång med träningen eller för dig som vill ha återhämtning efter tuffa träningsutmaningar.\n\n  \nVarmt välkomna för en hälsosam sommar på Båstad Camping!
URL:https://www.bastadcamping.se/event/utomhustraning-med-friskis-svettis-4/
ATTACH;FMTTYPE=image/png:https://www.bastadcamping.se/wp-content/uploads/2025/05/friskis-och-svettis-bild.png
END:VEVENT
BEGIN:VEVENT
DTSTART;TZID=Europe/Stockholm:20250630T173000
DTEND;TZID=Europe/Stockholm:20250630T180000
DTSTAMP:20260421T121617
CREATED:20250507T123225Z
LAST-MODIFIED:20250507T123225Z
UID:4671-1751304600-1751306400@www.bastadcamping.se
SUMMARY:Utomhusträning med Friskis & Svettis
DESCRIPTION:Välkommen på gratis utomhusträning med Friskis & Svettis! \nVi kör varje måndag och onsdag kl 17:30\, från v.26 till 33 och det är helt gratis att delta. \nInstruktörerna kommer att antingen hålla i Jympa eller Multifys soft. läs nedan för vad det innebär. \n\nFriskis Jympa är energifylld träning med stor variation där du jobbar med kroppen som belastning. Fokus ligger på upplevelsen där musiken förstärker rörelsernas karaktär.\nPå Multifys soft får du ostressad fysträning utan konstigheter. Perfekt för dig som är ny\, vill komma igång med träningen eller för dig som vill ha återhämtning efter tuffa träningsutmaningar.\n\n  \nVarmt välkomna för en hälsosam sommar på Båstad Camping!
URL:https://www.bastadcamping.se/event/utomhustraning-med-friskis-svettis-3/
ATTACH;FMTTYPE=image/png:https://www.bastadcamping.se/wp-content/uploads/2025/05/friskis-och-svettis-bild.png
END:VEVENT
BEGIN:VEVENT
DTSTART;TZID=Europe/Stockholm:20250628T180000
DTEND;TZID=Europe/Stockholm:20250628T220000
DTSTAMP:20260421T121617
CREATED:20250204T091357Z
LAST-MODIFIED:20250204T091357Z
UID:4546-1751133600-1751148000@www.bastadcamping.se
SUMMARY:Danskväll med Jessi och Janne
DESCRIPTION:Nu dansar vi loss till Jessi och Jannes härliga musik! \nVarmt välkomna till restaurang Torget! \n 
URL:https://www.bastadcamping.se/event/danskvall-med-jessi-och-janne/
LOCATION:Torget
ATTACH;FMTTYPE=image/jpeg:https://www.bastadcamping.se/wp-content/uploads/2024/04/Jessi-och-Janne.jpg
ORGANIZER;CN="Torget":MAILTO:torget@bastadcamping.se
END:VEVENT
BEGIN:VEVENT
DTSTART;TZID=Europe/Stockholm:20250625T173000
DTEND;TZID=Europe/Stockholm:20250625T180000
DTSTAMP:20260421T121617
CREATED:20250507T123033Z
LAST-MODIFIED:20250507T123033Z
UID:4669-1750872600-1750874400@www.bastadcamping.se
SUMMARY:Utomhusträning med Friskis & Svettis
DESCRIPTION:Välkommen på gratis utomhusträning med Friskis & Svettis! \nVi kör varje måndag och onsdag kl 17:30\, från v.26 till 33 och det är helt gratis att delta. \nInstruktörerna kommer att antingen hålla i Jympa eller Multifys soft. läs nedan för vad det innebär. \n\nFriskis Jympa är energifylld träning med stor variation där du jobbar med kroppen som belastning. Fokus ligger på upplevelsen där musiken förstärker rörelsernas karaktär.\nPå Multifys soft får du ostressad fysträning utan konstigheter. Perfekt för dig som är ny\, vill komma igång med träningen eller för dig som vill ha återhämtning efter tuffa träningsutmaningar.\n\n  \nVarmt välkomna för en hälsosam sommar på Båstad Camping!
URL:https://www.bastadcamping.se/event/utomhustraning-med-friskis-svettis-2/
ATTACH;FMTTYPE=image/png:https://www.bastadcamping.se/wp-content/uploads/2025/05/friskis-och-svettis-bild.png
END:VEVENT
BEGIN:VEVENT
DTSTART;TZID=Europe/Stockholm:20250623T173000
DTEND;TZID=Europe/Stockholm:20250623T183000
DTSTAMP:20260421T121617
CREATED:20250507T122729Z
LAST-MODIFIED:20250507T122729Z
UID:4664-1750699800-1750703400@www.bastadcamping.se
SUMMARY:Utomhusträning med Friskis & Svettis
DESCRIPTION:Välkommen på gratis utomhusträning med Friskis & Svettis! \nVi kör varje måndag och onsdag kl 17:30\, från v.26 till 33 och det är helt gratis att delta. \nInstruktörerna kommer att antingen hålla i Jympa eller Multifys soft. läs nedan för vad det innebär. \n\nFriskis Jympa är energifylld träning med stor variation där du jobbar med kroppen som belastning. Fokus ligger på upplevelsen där musiken förstärker rörelsernas karaktär.\nPå Multifys soft får du ostressad fysträning utan konstigheter. Perfekt för dig som är ny\, vill komma igång med träningen eller för dig som vill ha återhämtning efter tuffa träningsutmaningar.\n\n  \nVarmt välkomna för en hälsosam sommar på Båstad Camping!
URL:https://www.bastadcamping.se/event/utomhustraning-med-friskis-svettis/
ATTACH;FMTTYPE=image/png:https://www.bastadcamping.se/wp-content/uploads/2025/05/friskis-och-svettis-bild.png
END:VEVENT
BEGIN:VEVENT
DTSTART;TZID=Europe/Stockholm:20250621T180000
DTEND;TZID=Europe/Stockholm:20250621T220000
DTSTAMP:20260421T121617
CREATED:20250515T103228Z
LAST-MODIFIED:20250619T073653Z
UID:4707-1750528800-1750543200@www.bastadcamping.se
SUMMARY:Livemusik med Jessi och Janne
DESCRIPTION:Yes! Nu firar vi att sommaren är som bäst! \nVi hälsar Jessi och Janne upp på scen för en kväll ni inte vill missa. Duon blandar klassiker som alla kan sjunga med och dansa till. \nPS: Glöm inte att boka bord i restaurangen. Telefon: 0431 755 11 eller mail: torget@bastadcamping.se
URL:https://www.bastadcamping.se/event/livemusik-med-challe-fransson/
LOCATION:Torget
ATTACH;FMTTYPE=image/jpeg:https://www.bastadcamping.se/wp-content/uploads/2024/04/Jessi-och-Janne.jpg
ORGANIZER;CN="Torget":MAILTO:torget@bastadcamping.se
END:VEVENT
BEGIN:VEVENT
DTSTART;TZID=Europe/Stockholm:20250620T150000
DTEND;TZID=Europe/Stockholm:20250620T160000
DTSTAMP:20260421T121617
CREATED:20250130T105454Z
LAST-MODIFIED:20250130T105454Z
UID:4524-1750431600-1750435200@www.bastadcamping.se
SUMMARY:Vandrande speleman
DESCRIPTION:Vår alldeles egen Uffe går runt på området och förgyller er midsommarbuffé. \n 
URL:https://www.bastadcamping.se/event/vandrande-speleman/
ATTACH;FMTTYPE=image/jpeg:https://www.bastadcamping.se/wp-content/uploads/2023/05/uffe.jpeg
END:VEVENT
BEGIN:VEVENT
DTSTART;TZID=Europe/Stockholm:20250620T140000
DTEND;TZID=Europe/Stockholm:20250620T150000
DTSTAMP:20260421T121617
CREATED:20250130T105042Z
LAST-MODIFIED:20250130T105042Z
UID:4516-1750428000-1750431600@www.bastadcamping.se
SUMMARY:Traditionellt Midsommarfirande
DESCRIPTION:Varmt välkomna på Båstad Campings Midsommarfirande! \nNu hyllar vi våra svenska traditioner och firar att sommaren är som bäst! \nVi vandrar med stången 14:00 genom campingen för att sedan resa den på fotbollsplanen. \nNjut av en härlig gemenskap oss!
URL:https://www.bastadcamping.se/event/traditionellt-midsommarfirande-2/
ATTACH;FMTTYPE=image/jpeg:https://www.bastadcamping.se/wp-content/uploads/2025/01/2014-06-20-15.23.20-scaled.jpg
END:VEVENT
BEGIN:VEVENT
DTSTART;TZID=Europe/Stockholm:20250620T103000
DTEND;TZID=Europe/Stockholm:20250620T110000
DTSTAMP:20260421T121617
CREATED:20250130T103602Z
LAST-MODIFIED:20250130T103602Z
UID:4514-1750415400-1750417200@www.bastadcamping.se
SUMMARY:Klä midsommarstången
DESCRIPTION:Hjälp oss att klä midsommarstången! \nVi samlas bakom servicehus 2 för att gemensamt skapa Sveriges finaste midsommarstång. \nPS: Ta gärna med blommor och växter för att förgylla den.
URL:https://www.bastadcamping.se/event/kla-midsommarstangen-2/
ATTACH;FMTTYPE=image/jpeg:https://www.bastadcamping.se/wp-content/uploads/2023/05/B53BF9D5-B8B7-42FF-9707-6FB7BE9362F7.jpeg
END:VEVENT
BEGIN:VEVENT
DTSTART;TZID=Europe/Stockholm:20250607T180000
DTEND;TZID=Europe/Stockholm:20250607T220000
DTSTAMP:20260421T121617
CREATED:20250204T090443Z
LAST-MODIFIED:20250204T090443Z
UID:4540-1749319200-1749333600@www.bastadcamping.se
SUMMARY:Livemusik med Beirtrio
DESCRIPTION:Nu välkomnar vi Beirtrio upp på vår scen! \nBandet spelar härliga hits genom åren blandat med en fantastisk musikalitet! \nBoka bord i restaurangen för att säkra er plats. Telefon: 0431 755 11 eller mail: info@bastadcamping.se
URL:https://www.bastadcamping.se/event/livemusik-med-beirtrio/
LOCATION:Torget
ATTACH;FMTTYPE=image/jpeg:https://www.bastadcamping.se/wp-content/uploads/2024/05/Linus-band-bild.jpg
ORGANIZER;CN="Torget":MAILTO:torget@bastadcamping.se
END:VEVENT
BEGIN:VEVENT
DTSTART;TZID=Europe/Stockholm:20250607T130000
DTEND;TZID=Europe/Stockholm:20250607T150000
DTSTAMP:20260421T121617
CREATED:20250528T130014Z
LAST-MODIFIED:20250528T130014Z
UID:4717-1749301200-1749308400@www.bastadcamping.se
SUMMARY:Gratis tur med Morris
DESCRIPTION:Välkommen att åka med turisttåget Morris! \nVi kör gratisturer från kl 13:00. \n 
URL:https://www.bastadcamping.se/event/gratis-tur-med-morris/
ATTACH;FMTTYPE=image/jpeg:https://www.bastadcamping.se/wp-content/uploads/2023/07/169-0416-e1690186668236.jpg
END:VEVENT
END:VCALENDAR