BEGIN:VCALENDAR
VERSION:2.0
PRODID:-//Båstad Camping - ECPv6.15.20//NONSGML v1.0//EN
CALSCALE:GREGORIAN
METHOD:PUBLISH
X-ORIGINAL-URL:https://www.bastadcamping.se
X-WR-CALDESC:Händelser för Båstad Camping
REFRESH-INTERVAL;VALUE=DURATION:PT1H
X-Robots-Tag:noindex
X-PUBLISHED-TTL:PT1H
BEGIN:VTIMEZONE
TZID:Europe/Stockholm
BEGIN:DAYLIGHT
TZOFFSETFROM:+0100
TZOFFSETTO:+0200
TZNAME:CEST
DTSTART:20240331T010000
END:DAYLIGHT
BEGIN:STANDARD
TZOFFSETFROM:+0200
TZOFFSETTO:+0100
TZNAME:CET
DTSTART:20241027T010000
END:STANDARD
BEGIN:DAYLIGHT
TZOFFSETFROM:+0100
TZOFFSETTO:+0200
TZNAME:CEST
DTSTART:20250330T010000
END:DAYLIGHT
BEGIN:STANDARD
TZOFFSETFROM:+0200
TZOFFSETTO:+0100
TZNAME:CET
DTSTART:20251026T010000
END:STANDARD
BEGIN:DAYLIGHT
TZOFFSETFROM:+0100
TZOFFSETTO:+0200
TZNAME:CEST
DTSTART:20260329T010000
END:DAYLIGHT
BEGIN:STANDARD
TZOFFSETFROM:+0200
TZOFFSETTO:+0100
TZNAME:CET
DTSTART:20261025T010000
END:STANDARD
END:VTIMEZONE
BEGIN:VEVENT
DTSTART;TZID=Europe/Stockholm:20250823T170000
DTEND;TZID=Europe/Stockholm:20250823T220000
DTSTAMP:20260420T002410
CREATED:20250804T110047Z
LAST-MODIFIED:20250804T110047Z
UID:4867-1755968400-1755986400@www.bastadcamping.se
SUMMARY:Italiensk afton
DESCRIPTION:Buongiorno á tutti! \nVarmt välkomna på en härlig Italiensk afton i restaurangen. \nVi kör italiensk musik och har en fantastisk 3-rätters meny för bara 399 kr! \nTa med er vännerna eller familjen och njut tillsammans med oss på Båstad Camping. \nPS: Glöm inte att boka bord i restaurangen på info@bastadcamping.se eller 0431 755 11
URL:https://www.bastadcamping.se/event/italiensk-afton/
LOCATION:Torget
ATTACH;FMTTYPE=application/pdf:https://www.bastadcamping.se/wp-content/uploads/2025/08/meny.pdf
ORGANIZER;CN="Torget":MAILTO:torget@bastadcamping.se
END:VEVENT
BEGIN:VEVENT
DTSTART;TZID=Europe/Stockholm:20250822T170000
DTEND;TZID=Europe/Stockholm:20250822T190000
DTSTAMP:20260420T002410
CREATED:20250804T113329Z
LAST-MODIFIED:20250804T113329Z
UID:4883-1755882000-1755889200@www.bastadcamping.se
SUMMARY:After work
DESCRIPTION:Avsluta arbetsveckan med oss på Båstad Camping. \nMellan 17:00 till 19:00 har vi bra priser på mat och dryck. \nSpela en runda biljard eller bara häng i restaurangen med goda vänner. \nVi ses på restaurang Torget på Båstad Camping. \nPS: Glöm inte att boka bord för att säkra din plats. Bokning via mail: info@bastadcamping.se eller telefon: 0431-755 11
URL:https://www.bastadcamping.se/event/after-work-10/
LOCATION:Torget
ATTACH;FMTTYPE=image/jpeg:https://www.bastadcamping.se/wp-content/uploads/2023/05/pexels-tembela-bohle-1089930-scaled.jpg
ORGANIZER;CN="Torget":MAILTO:torget@bastadcamping.se
END:VEVENT
BEGIN:VEVENT
DTSTART;TZID=Europe/Stockholm:20250816T180000
DTEND;TZID=Europe/Stockholm:20250816T220000
DTSTAMP:20260420T002410
CREATED:20250717T085428Z
LAST-MODIFIED:20250717T085428Z
UID:4845-1755367200-1755381600@www.bastadcamping.se
SUMMARY:Karaoke
DESCRIPTION:Varmt välkomna igen säger vi till Klippans karaoke! \nVärm upp stämbanden och sjung just din favoritlåt.
URL:https://www.bastadcamping.se/event/karaoke/
LOCATION:Torget
ATTACH;FMTTYPE=image/jpeg:https://www.bastadcamping.se/wp-content/uploads/2023/06/pexels-koolshooters-6983014.jpg
ORGANIZER;CN="Torget":MAILTO:torget@bastadcamping.se
END:VEVENT
BEGIN:VEVENT
DTSTART;TZID=Europe/Stockholm:20250815T170000
DTEND;TZID=Europe/Stockholm:20250815T190000
DTSTAMP:20260420T002410
CREATED:20250804T113133Z
LAST-MODIFIED:20250804T113133Z
UID:4881-1755277200-1755284400@www.bastadcamping.se
SUMMARY:After work
DESCRIPTION:Avsluta arbetsveckan med oss på Båstad Camping. \nMellan 17:00 till 19:00 har vi bra priser på mat och dryck. \nSpela en runda biljard eller bara häng i restaurangen med goda vänner. \nVi ses på restaurang Torget på Båstad Camping. \nPS: Glöm inte att boka bord för att säkra din plats. Bokning via mail: info@bastadcamping.se eller telefon: 0431-755 11
URL:https://www.bastadcamping.se/event/after-work-9/
LOCATION:Torget
ATTACH;FMTTYPE=image/jpeg:https://www.bastadcamping.se/wp-content/uploads/2023/05/pexels-tembela-bohle-1089930-scaled.jpg
ORGANIZER;CN="Torget":MAILTO:torget@bastadcamping.se
END:VEVENT
BEGIN:VEVENT
DTSTART;TZID=Europe/Stockholm:20250813T173000
DTEND;TZID=Europe/Stockholm:20250813T180000
DTSTAMP:20260420T002410
CREATED:20250507T130530Z
LAST-MODIFIED:20250507T130530Z
UID:4697-1755106200-1755108000@www.bastadcamping.se
SUMMARY:Utomhusträning med Friskis & Svettis
DESCRIPTION:Välkommen på gratis utomhusträning med Friskis & Svettis! \nVi kör varje måndag och onsdag kl 17:30\, från v.26 till 33 och det är helt gratis att delta. \nInstruktörerna kommer att antingen hålla i Jympa eller Multifys soft. läs nedan för vad det innebär. \n\nFriskis Jympa är energifylld träning med stor variation där du jobbar med kroppen som belastning. Fokus ligger på upplevelsen där musiken förstärker rörelsernas karaktär.\nPå Multifys soft får du ostressad fysträning utan konstigheter. Perfekt för dig som är ny\, vill komma igång med träningen eller för dig som vill ha återhämtning efter tuffa träningsutmaningar.\n\n  \nVarmt välkomna för en hälsosam sommar på Båstad Camping!
URL:https://www.bastadcamping.se/event/utomhustraning-med-friskis-svettis-16/
ATTACH;FMTTYPE=image/png:https://www.bastadcamping.se/wp-content/uploads/2025/05/friskis-och-svettis-bild.png
END:VEVENT
BEGIN:VEVENT
DTSTART;TZID=Europe/Stockholm:20250811T173000
DTEND;TZID=Europe/Stockholm:20250811T183000
DTSTAMP:20260420T002410
CREATED:20250507T130355Z
LAST-MODIFIED:20250507T130355Z
UID:4695-1754933400-1754937000@www.bastadcamping.se
SUMMARY:Utomhusträning med Friskis & Svettis
DESCRIPTION:Välkommen på gratis utomhusträning med Friskis & Svettis! \nVi kör varje måndag och onsdag kl 17:30\, från v.26 till 33 och det är helt gratis att delta. \nInstruktörerna kommer att antingen hålla i Jympa eller Multifys soft. läs nedan för vad det innebär. \n\nFriskis Jympa är energifylld träning med stor variation där du jobbar med kroppen som belastning. Fokus ligger på upplevelsen där musiken förstärker rörelsernas karaktär.\nPå Multifys soft får du ostressad fysträning utan konstigheter. Perfekt för dig som är ny\, vill komma igång med träningen eller för dig som vill ha återhämtning efter tuffa träningsutmaningar.\n\n  \nVarmt välkomna för en hälsosam sommar på Båstad Camping!
URL:https://www.bastadcamping.se/event/utomhustraning-med-friskis-svettis-15/
ATTACH;FMTTYPE=image/png:https://www.bastadcamping.se/wp-content/uploads/2025/05/friskis-och-svettis-bild.png
END:VEVENT
BEGIN:VEVENT
DTSTART;TZID=Europe/Stockholm:20250809T180000
DTEND;TZID=Europe/Stockholm:20250809T220000
DTSTAMP:20260420T002410
CREATED:20250204T090838Z
LAST-MODIFIED:20250722T083619Z
UID:4544-1754762400-1754776800@www.bastadcamping.se
SUMMARY:Livemusik med Beirtrio
DESCRIPTION:Nu välkomnar vi Beirtrio upp på vår scen! \nBandet spelar härliga hits genom åren blandat med en fantastisk musikalitet! \nBoka bord i restaurangen för att säkra er plats. Telefon: 0431 755 11 eller mail: info@bastadcamping.se
URL:https://www.bastadcamping.se/event/livemusik-med-beirtrio-3/
LOCATION:Torget
ATTACH;FMTTYPE=image/jpeg:https://www.bastadcamping.se/wp-content/uploads/2024/05/Linus-band-bild.jpg
ORGANIZER;CN="Torget":MAILTO:torget@bastadcamping.se
END:VEVENT
BEGIN:VEVENT
DTSTART;TZID=Europe/Stockholm:20250809T170000
DTEND;TZID=Europe/Stockholm:20250809T200000
DTSTAMP:20260420T002410
CREATED:20250716T131253Z
LAST-MODIFIED:20250804T123711Z
UID:4835-1754758800-1754769600@www.bastadcamping.se
SUMMARY:Grillafton
DESCRIPTION:Nu tänder vi grillen och bjuder in till en härlig grillbuffé samtidigt som vi har livemusik! \nNjut tillsammans med vänner och familj. Håll kvar vid sommarkänslan lite längre. \nPS: Glöm inte att boka bord i restaurangen på info@bastadcamping.se eller 0431 755 11
URL:https://www.bastadcamping.se/event/grillafton/
LOCATION:Torget
ATTACH;FMTTYPE=application/pdf:https://www.bastadcamping.se/wp-content/uploads/2025/07/GRILLBUFFE.pdf
ORGANIZER;CN="Torget":MAILTO:torget@bastadcamping.se
END:VEVENT
BEGIN:VEVENT
DTSTART;TZID=Europe/Stockholm:20250808T150000
DTEND;TZID=Europe/Stockholm:20250808T170000
DTSTAMP:20260420T002410
CREATED:20250702T112704Z
LAST-MODIFIED:20250709T083411Z
UID:4797-1754665200-1754672400@www.bastadcamping.se
SUMMARY:After beach
DESCRIPTION:
URL:https://www.bastadcamping.se/event/after-beach-6/
LOCATION:Torget
ATTACH;FMTTYPE=application/pdf:https://www.bastadcamping.se/wp-content/uploads/2025/07/after-beach-1-1.pdf
ORGANIZER;CN="Torget":MAILTO:torget@bastadcamping.se
END:VEVENT
BEGIN:VEVENT
DTSTART;TZID=Europe/Stockholm:20250806T173000
DTEND;TZID=Europe/Stockholm:20250806T183000
DTSTAMP:20260420T002410
CREATED:20250507T130133Z
LAST-MODIFIED:20250507T130133Z
UID:4693-1754501400-1754505000@www.bastadcamping.se
SUMMARY:Utomhusträning med Friskis & Svettis
DESCRIPTION:Välkommen på gratis utomhusträning med Friskis & Svettis! \nVi kör varje måndag och onsdag kl 17:30\, från v.26 till 33 och det är helt gratis att delta. \nInstruktörerna kommer att antingen hålla i Jympa eller Multifys soft. läs nedan för vad det innebär. \n\nFriskis Jympa är energifylld träning med stor variation där du jobbar med kroppen som belastning. Fokus ligger på upplevelsen där musiken förstärker rörelsernas karaktär.\nPå Multifys soft får du ostressad fysträning utan konstigheter. Perfekt för dig som är ny\, vill komma igång med träningen eller för dig som vill ha återhämtning efter tuffa träningsutmaningar.\n\n  \nVarmt välkomna för en hälsosam sommar på Båstad Camping!
URL:https://www.bastadcamping.se/event/utomhustraning-med-friskis-svettis-14/
ATTACH;FMTTYPE=image/png:https://www.bastadcamping.se/wp-content/uploads/2025/05/friskis-och-svettis-bild.png
END:VEVENT
BEGIN:VEVENT
DTSTART;TZID=Europe/Stockholm:20250806T090000
DTEND;TZID=Europe/Stockholm:20250806T094500
DTSTAMP:20260420T002410
CREATED:20250527T133358Z
LAST-MODIFIED:20250527T133358Z
UID:4715-1754470800-1754473500@www.bastadcamping.se
SUMMARY:Gratis Yoga med Medborgarskolan
DESCRIPTION:Välkommen till Medborgarskolans sommarturné. Vi yogar utomhus\, det bjuds på ett mjukt flödande yogapass för kropp och sinne som kan anpassas till alla nivåer. \nLäs mer om passet och hur man anmäler sig via denna länk: https://www.medborgarskolan.se/arrangemang-sok/yoga-sommarturne-med-medborgarskolan-1463261/
URL:https://www.bastadcamping.se/event/gratis-yoga-med-medborgarskolan/
ATTACH;FMTTYPE=image/jpeg:https://www.bastadcamping.se/wp-content/uploads/2023/06/pexels-rdne-stock-project-8173554.jpg
END:VEVENT
BEGIN:VEVENT
DTSTART;TZID=Europe/Stockholm:20250804T173000
DTEND;TZID=Europe/Stockholm:20250804T183000
DTSTAMP:20260420T002410
CREATED:20250507T125621Z
LAST-MODIFIED:20250507T130919Z
UID:4691-1754328600-1754332200@www.bastadcamping.se
SUMMARY:Utomhusträning med Friskis & Svettis
DESCRIPTION:Välkommen på gratis utomhusträning med Friskis & Svettis! \nVi kör varje måndag och onsdag kl 17:30\, från v.26 till 33 och det är helt gratis att delta. \nInstruktörerna kommer att antingen hålla i Jympa eller Multifys soft. läs nedan för vad det innebär. \n\nFriskis Jympa är energifylld träning med stor variation där du jobbar med kroppen som belastning. Fokus ligger på upplevelsen där musiken förstärker rörelsernas karaktär.\nPå Multifys soft får du ostressad fysträning utan konstigheter. Perfekt för dig som är ny\, vill komma igång med träningen eller för dig som vill ha återhämtning efter tuffa träningsutmaningar.\n\n  \nVarmt välkomna för en hälsosam sommar på Båstad Camping!
URL:https://www.bastadcamping.se/event/utomhustraning-med-friskis-svettis-13/
ATTACH;FMTTYPE=image/png:https://www.bastadcamping.se/wp-content/uploads/2025/05/friskis-och-svettis-bild.png
END:VEVENT
BEGIN:VEVENT
DTSTART;TZID=Europe/Stockholm:20250802T180000
DTEND;TZID=Europe/Stockholm:20250802T220000
DTSTAMP:20260420T002410
CREATED:20250724T132115Z
LAST-MODIFIED:20250724T132115Z
UID:4850-1754157600-1754172000@www.bastadcamping.se
SUMMARY:Livemusik med Elias Olsson
DESCRIPTION:Varmt välkommen att förgylla vår kväll säger vi till Elias! \nElias drar igång stämningen med fullt ös och bjuder in till härliga låtar att sjunga med i. \nPS: Glöm inte att boka bord i restaurangen på info@bastadcamping.se eller 0431 755 11 \nVi ses på Båstad Camping!
URL:https://www.bastadcamping.se/event/livemusik-med-elias-olsson/
LOCATION:Torget
ATTACH;FMTTYPE=image/jpeg:https://www.bastadcamping.se/wp-content/uploads/2023/07/guitar-ga729161af_1280.jpg
ORGANIZER;CN="Torget":MAILTO:torget@bastadcamping.se
END:VEVENT
BEGIN:VEVENT
DTSTART;TZID=Europe/Stockholm:20250802T130000
DTEND;TZID=Europe/Stockholm:20250802T150000
DTSTAMP:20260420T002410
CREATED:20250730T131146Z
LAST-MODIFIED:20250730T131146Z
UID:4857-1754139600-1754146800@www.bastadcamping.se
SUMMARY:Bratwurst grillning på Torget
DESCRIPTION:Vi tänder grillen och erbjuder goda Bratwurst korvar. \nSå varmt välkomna från kl 13:00 till 15:00 och njut tillsammans med oss.
URL:https://www.bastadcamping.se/event/bratwurst-grillning-pa-torget-2/
LOCATION:Torget
ATTACH;FMTTYPE=image/jpeg:https://www.bastadcamping.se/wp-content/uploads/2025/06/IMG_5199-scaled.jpeg
ORGANIZER;CN="Torget":MAILTO:torget@bastadcamping.se
END:VEVENT
BEGIN:VEVENT
DTSTART;TZID=Europe/Stockholm:20250801T150000
DTEND;TZID=Europe/Stockholm:20250801T170000
DTSTAMP:20260420T002410
CREATED:20250702T112444Z
LAST-MODIFIED:20250709T083608Z
UID:4792-1754060400-1754067600@www.bastadcamping.se
SUMMARY:After beach
DESCRIPTION:
URL:https://www.bastadcamping.se/event/after-beach-5/
LOCATION:Torget
ATTACH;FMTTYPE=application/pdf:https://www.bastadcamping.se/wp-content/uploads/2025/07/after-beach-1-2.pdf
ORGANIZER;CN="Torget":MAILTO:torget@bastadcamping.se
END:VEVENT
BEGIN:VEVENT
DTSTART;TZID=Europe/Stockholm:20250730T173000
DTEND;TZID=Europe/Stockholm:20250730T183000
DTSTAMP:20260420T002410
CREATED:20250507T125433Z
LAST-MODIFIED:20250507T125433Z
UID:4689-1753896600-1753900200@www.bastadcamping.se
SUMMARY:Utomhusträning med Friskis & Svettis
DESCRIPTION:Välkommen på gratis utomhusträning med Friskis & Svettis! \nVi kör varje måndag och onsdag kl 17:30\, från v.26 till 33 och det är helt gratis att delta. \nInstruktörerna kommer att antingen hålla i Jympa eller Multifys soft. läs nedan för vad det innebär. \n\nFriskis Jympa är energifylld träning med stor variation där du jobbar med kroppen som belastning. Fokus ligger på upplevelsen där musiken förstärker rörelsernas karaktär.\nPå Multifys soft får du ostressad fysträning utan konstigheter. Perfekt för dig som är ny\, vill komma igång med träningen eller för dig som vill ha återhämtning efter tuffa träningsutmaningar.\n\n  \nVarmt välkomna för en hälsosam sommar på Båstad Camping!
URL:https://www.bastadcamping.se/event/utomhustraning-med-friskis-svettis-12/
ATTACH;FMTTYPE=image/png:https://www.bastadcamping.se/wp-content/uploads/2025/05/friskis-och-svettis-bild.png
END:VEVENT
BEGIN:VEVENT
DTSTART;TZID=Europe/Stockholm:20250728T173000
DTEND;TZID=Europe/Stockholm:20250728T183000
DTSTAMP:20260420T002410
CREATED:20250507T125142Z
LAST-MODIFIED:20250507T125142Z
UID:4687-1753723800-1753727400@www.bastadcamping.se
SUMMARY:Utomhusträning med Friskis & Svettis
DESCRIPTION:Välkommen på gratis utomhusträning med Friskis & Svettis! \nVi kör varje måndag och onsdag kl 17:30\, från v.26 till 33 och det är helt gratis att delta. \nInstruktörerna kommer att antingen hålla i Jympa eller Multifys soft. läs nedan för vad det innebär. \n\nFriskis Jympa är energifylld träning med stor variation där du jobbar med kroppen som belastning. Fokus ligger på upplevelsen där musiken förstärker rörelsernas karaktär.\nPå Multifys soft får du ostressad fysträning utan konstigheter. Perfekt för dig som är ny\, vill komma igång med träningen eller för dig som vill ha återhämtning efter tuffa träningsutmaningar.\n\n  \nVarmt välkomna för en hälsosam sommar på Båstad Camping!
URL:https://www.bastadcamping.se/event/utomhustraning-med-friskis-svettis-11/
ATTACH;FMTTYPE=image/png:https://www.bastadcamping.se/wp-content/uploads/2025/05/friskis-och-svettis-bild.png
END:VEVENT
BEGIN:VEVENT
DTSTART;TZID=Europe/Stockholm:20250726T180000
DTEND;TZID=Europe/Stockholm:20250726T220000
DTSTAMP:20260420T002410
CREATED:20250703T111700Z
LAST-MODIFIED:20250703T111700Z
UID:4802-1753552800-1753567200@www.bastadcamping.se
SUMMARY:Trubadurkväll med Rasmus Hanák
DESCRIPTION:Vi välkomnar Rasmus Hanák upp på scen! \nRasmus bjuder till en kväll med sköna låtar som alla känner igen. \nGlöm inte att boka bord i restaurangen på info@bastadcamping.se eller 0431 755 11
URL:https://www.bastadcamping.se/event/trubadurkvall-med-rasmus-hanak/
LOCATION:Torget
ATTACH;FMTTYPE=image/jpeg:https://www.bastadcamping.se/wp-content/uploads/2023/05/IMG_2138-scaled.jpg
ORGANIZER;CN="Torget":MAILTO:torget@bastadcamping.se
END:VEVENT
BEGIN:VEVENT
DTSTART;TZID=Europe/Stockholm:20250726T150000
DTEND;TZID=Europe/Stockholm:20250726T170000
DTSTAMP:20260420T002410
CREATED:20250703T135247Z
LAST-MODIFIED:20250703T135247Z
UID:4804-1753542000-1753549200@www.bastadcamping.se
SUMMARY:Romprovning med Anders Strand
DESCRIPTION:En favorit är tillbaka i restaurangen! \nVi bjuder in till en härlig Romprovning med Anders Strand vid spakarna. Fem sorter av olika karaktär kommer det att bjudas på för att få en djupare förståelse av rommens olika smaker och karaktärer. \nPris per person: 325 kr \nTid: Kl 15:00 till ca 17:00 \nIngår: 5 sorters rom och olika typer av tilltugg. \nAnmäl på mail (info@bastadcamping.se) eller telefon (0431 755 11). \nVarmt välkomna att njuta på Båstad Camping!
URL:https://www.bastadcamping.se/event/romprovning-med-anders-strand/
LOCATION:Torget
ATTACH;FMTTYPE=image/jpeg:https://www.bastadcamping.se/wp-content/uploads/2025/07/20190817_143316302_iOS.jpg
ORGANIZER;CN="Torget":MAILTO:torget@bastadcamping.se
END:VEVENT
BEGIN:VEVENT
DTSTART;TZID=Europe/Stockholm:20250725T180000
DTEND;TZID=Europe/Stockholm:20250725T220000
DTSTAMP:20260420T002410
CREATED:20250407T120933Z
LAST-MODIFIED:20250407T120933Z
UID:4611-1753466400-1753480800@www.bastadcamping.se
SUMMARY:Trubadurafton med Uffe
DESCRIPTION:Varmt välkommen upp på scen säger vi till Uffe! \nBoka bord i restaurangen för att säkra er plats.
URL:https://www.bastadcamping.se/event/trubadurafton-med-uffe/
LOCATION:Torget
ATTACH;FMTTYPE=image/jpeg:https://www.bastadcamping.se/wp-content/uploads/2023/05/uffe.jpeg
ORGANIZER;CN="Torget":MAILTO:torget@bastadcamping.se
END:VEVENT
BEGIN:VEVENT
DTSTART;TZID=Europe/Stockholm:20250725T150000
DTEND;TZID=Europe/Stockholm:20250725T170000
DTSTAMP:20260420T002410
CREATED:20250702T111845Z
LAST-MODIFIED:20250709T083748Z
UID:4782-1753455600-1753462800@www.bastadcamping.se
SUMMARY:After beach
DESCRIPTION:
URL:https://www.bastadcamping.se/event/after-beach-3/
LOCATION:Torget
ATTACH;FMTTYPE=application/pdf:https://www.bastadcamping.se/wp-content/uploads/2025/07/after-beach-1-3.pdf
ORGANIZER;CN="Torget":MAILTO:torget@bastadcamping.se
END:VEVENT
BEGIN:VEVENT
DTSTART;TZID=Europe/Stockholm:20250724T170000
DTEND;TZID=Europe/Stockholm:20250724T210000
DTSTAMP:20260420T002410
CREATED:20250626T120157Z
LAST-MODIFIED:20250626T120157Z
UID:4764-1753376400-1753390800@www.bastadcamping.se
SUMMARY:Räkfrossa
DESCRIPTION:Varmt välkomna på Räkfrossa! \nPris: 329 kr Inkl. bröd\, aioli\, citron och självklart massa goa räkor \nPS: Glöm inte att boka bord på info@bastadcamping.se eller 0431 755 11
URL:https://www.bastadcamping.se/event/rakfrossa-4/
ATTACH;FMTTYPE=image/jpeg:https://www.bastadcamping.se/wp-content/uploads/2023/06/pexels-terje-sollie-566344.jpg
END:VEVENT
BEGIN:VEVENT
DTSTART;TZID=Europe/Stockholm:20250723T173000
DTEND;TZID=Europe/Stockholm:20250723T183000
DTSTAMP:20260420T002410
CREATED:20250507T124840Z
LAST-MODIFIED:20250507T124840Z
UID:4685-1753291800-1753295400@www.bastadcamping.se
SUMMARY:Utomhusträning med Friskis & Svettis
DESCRIPTION:Välkommen på gratis utomhusträning med Friskis & Svettis! \nVi kör varje måndag och onsdag kl 17:30\, från v.26 till 33 och det är helt gratis att delta. \nInstruktörerna kommer att antingen hålla i Jympa eller Multifys soft. läs nedan för vad det innebär. \n\nFriskis Jympa är energifylld träning med stor variation där du jobbar med kroppen som belastning. Fokus ligger på upplevelsen där musiken förstärker rörelsernas karaktär.\nPå Multifys soft får du ostressad fysträning utan konstigheter. Perfekt för dig som är ny\, vill komma igång med träningen eller för dig som vill ha återhämtning efter tuffa träningsutmaningar.\n\n  \nVarmt välkomna för en hälsosam sommar på Båstad Camping!
URL:https://www.bastadcamping.se/event/utomhustraning-med-friskis-svettis-10/
ATTACH;FMTTYPE=image/png:https://www.bastadcamping.se/wp-content/uploads/2025/05/friskis-och-svettis-bild.png
END:VEVENT
BEGIN:VEVENT
DTSTART;TZID=Europe/Stockholm:20250721T173000
DTEND;TZID=Europe/Stockholm:20250721T183000
DTSTAMP:20260420T002410
CREATED:20250507T124634Z
LAST-MODIFIED:20250507T124634Z
UID:4683-1753119000-1753122600@www.bastadcamping.se
SUMMARY:Utomhusträning med Friskis & Svettis
DESCRIPTION:Välkommen på gratis utomhusträning med Friskis & Svettis! \nVi kör varje måndag och onsdag kl 17:30\, från v.26 till 33 och det är helt gratis att delta. \nInstruktörerna kommer att antingen hålla i Jympa eller Multifys soft. läs nedan för vad det innebär. \n\nFriskis Jympa är energifylld träning med stor variation där du jobbar med kroppen som belastning. Fokus ligger på upplevelsen där musiken förstärker rörelsernas karaktär.\nPå Multifys soft får du ostressad fysträning utan konstigheter. Perfekt för dig som är ny\, vill komma igång med träningen eller för dig som vill ha återhämtning efter tuffa träningsutmaningar.\n\n  \nVarmt välkomna för en hälsosam sommar på Båstad Camping!
URL:https://www.bastadcamping.se/event/utomhustraning-med-friskis-svettis-9/
ATTACH;FMTTYPE=image/png:https://www.bastadcamping.se/wp-content/uploads/2025/05/friskis-och-svettis-bild.png
END:VEVENT
BEGIN:VEVENT
DTSTART;TZID=Europe/Stockholm:20250719T180000
DTEND;TZID=Europe/Stockholm:20250719T220000
DTSTAMP:20260420T002410
CREATED:20250220T125809Z
LAST-MODIFIED:20250220T125809Z
UID:4569-1752948000-1752962400@www.bastadcamping.se
SUMMARY:Trubadurafton med Kalle Sellbrink
DESCRIPTION:Varmt välkommen upp på scen Kalle Sellbrink! \nNu kör vi två dagars underhållning med god musik när sommaren är som bäst!\nKalle blandar härliga låtar med stor igenkänningsfaktor. \nGlöm inte att boka bord i restaurangen via telefon: 0431-755 11 eller mail: info@bastadcamping.se \nVi ses!
URL:https://www.bastadcamping.se/event/trubadurafton-med-kalle-sellbrink-2/
LOCATION:Torget
ATTACH;FMTTYPE=image/jpeg:https://www.bastadcamping.se/wp-content/uploads/2024/04/Kalle-Sellbrink.jpg
ORGANIZER;CN="Torget":MAILTO:torget@bastadcamping.se
END:VEVENT
BEGIN:VEVENT
DTSTART;TZID=Europe/Stockholm:20250718T180000
DTEND;TZID=Europe/Stockholm:20250718T220000
DTSTAMP:20260420T002410
CREATED:20250220T125647Z
LAST-MODIFIED:20250220T125647Z
UID:4567-1752861600-1752876000@www.bastadcamping.se
SUMMARY:Trubadurafton med Kalle Sellbrink
DESCRIPTION:Varmt välkommen upp på scen Kalle Sellbrink! \nNu kör vi två dagars underhållning med god musik när sommaren är som bäst!\nKalle blandar härliga låtar med stor igenkänningsfaktor. \nGlöm inte att boka bord i restaurangen via telefon: 0431-755 11 eller mail: info@bastadcamping.se \nVi ses!
URL:https://www.bastadcamping.se/event/trubadurafton-med-kalle-sellbrink/
LOCATION:Torget
ATTACH;FMTTYPE=image/jpeg:https://www.bastadcamping.se/wp-content/uploads/2024/04/Kalle-Sellbrink.jpg
ORGANIZER;CN="Torget":MAILTO:torget@bastadcamping.se
END:VEVENT
BEGIN:VEVENT
DTSTART;TZID=Europe/Stockholm:20250718T180000
DTEND;TZID=Europe/Stockholm:20250718T200000
DTSTAMP:20260420T002410
CREATED:20250321T113028Z
LAST-MODIFIED:20250321T113028Z
UID:4592-1752861600-1752868800@www.bastadcamping.se
SUMMARY:Barn disco på Båstad Camping
DESCRIPTION:Nu dansar vi loss och leker roliga lekar på discot! \nÅlder för discot är 6 till 12 år. Föräldrar får gärna följa med. \nTid: 18:00 till 20:00 \nPris: Gratis för alla barn
URL:https://www.bastadcamping.se/event/barn-disco-pa-bastad-camping/
ATTACH;FMTTYPE=image/jpeg:https://www.bastadcamping.se/wp-content/uploads/2023/06/pexels-koolshooters-6983014.jpg
END:VEVENT
BEGIN:VEVENT
DTSTART;TZID=Europe/Stockholm:20250718T150000
DTEND;TZID=Europe/Stockholm:20250718T170000
DTSTAMP:20260420T002410
CREATED:20250702T111612Z
LAST-MODIFIED:20250709T083916Z
UID:4777-1752850800-1752858000@www.bastadcamping.se
SUMMARY:After beach
DESCRIPTION:
URL:https://www.bastadcamping.se/event/after-beach-2/
LOCATION:Torget
ATTACH;FMTTYPE=application/pdf:https://www.bastadcamping.se/wp-content/uploads/2025/07/after-beach-1-4.pdf
ORGANIZER;CN="Torget":MAILTO:torget@bastadcamping.se
END:VEVENT
BEGIN:VEVENT
DTSTART;TZID=Europe/Stockholm:20250717T170000
DTEND;TZID=Europe/Stockholm:20250717T210000
DTSTAMP:20260420T002410
CREATED:20250626T115825Z
LAST-MODIFIED:20250626T115825Z
UID:4762-1752771600-1752786000@www.bastadcamping.se
SUMMARY:Räkfrossa
DESCRIPTION:Varmt välkomna på Räkfrossa! \nPris: 329 kr Inkl. bröd\, aioli\, citron och självklart massa goa räkor \nPS: Glöm inte att boka bord på info@bastadcamping.se eller 0431 755 11
URL:https://www.bastadcamping.se/event/rakfrossa-3/
LOCATION:Torget
ATTACH;FMTTYPE=image/jpeg:https://www.bastadcamping.se/wp-content/uploads/2023/06/pexels-terje-sollie-566344.jpg
ORGANIZER;CN="Torget":MAILTO:torget@bastadcamping.se
END:VEVENT
BEGIN:VEVENT
DTSTART;TZID=Europe/Stockholm:20250717T100000
DTEND;TZID=Europe/Stockholm:20250717T120000
DTSTAMP:20260420T002410
CREATED:20250321T112700Z
LAST-MODIFIED:20250321T112700Z
UID:4590-1752746400-1752753600@www.bastadcamping.se
SUMMARY:Barnens tipspromenad
DESCRIPTION:Nu ska vi klura och fundera! \nGå den roliga tipspromenaden genom området och lös de kluriga frågorna. \nFina priser till vinnarna utlovas. \nPris: Gratis att delta för alla barn
URL:https://www.bastadcamping.se/event/barnens-tipspromenad/
ATTACH;FMTTYPE=image/jpeg:https://www.bastadcamping.se/wp-content/uploads/2023/06/bastad-camping-barn.jpg
END:VEVENT
END:VCALENDAR