BEGIN:VCALENDAR
VERSION:2.0
PRODID:-//Båstad Camping - ECPv6.15.20//NONSGML v1.0//EN
CALSCALE:GREGORIAN
METHOD:PUBLISH
X-ORIGINAL-URL:https://www.bastadcamping.se
X-WR-CALDESC:Händelser för Båstad Camping
REFRESH-INTERVAL;VALUE=DURATION:PT1H
X-Robots-Tag:noindex
X-PUBLISHED-TTL:PT1H
BEGIN:VTIMEZONE
TZID:Europe/Stockholm
BEGIN:DAYLIGHT
TZOFFSETFROM:+0100
TZOFFSETTO:+0200
TZNAME:CEST
DTSTART:20220327T010000
END:DAYLIGHT
BEGIN:STANDARD
TZOFFSETFROM:+0200
TZOFFSETTO:+0100
TZNAME:CET
DTSTART:20221030T010000
END:STANDARD
BEGIN:DAYLIGHT
TZOFFSETFROM:+0100
TZOFFSETTO:+0200
TZNAME:CEST
DTSTART:20230326T010000
END:DAYLIGHT
BEGIN:STANDARD
TZOFFSETFROM:+0200
TZOFFSETTO:+0100
TZNAME:CET
DTSTART:20231029T010000
END:STANDARD
BEGIN:DAYLIGHT
TZOFFSETFROM:+0100
TZOFFSETTO:+0200
TZNAME:CEST
DTSTART:20240331T010000
END:DAYLIGHT
BEGIN:STANDARD
TZOFFSETFROM:+0200
TZOFFSETTO:+0100
TZNAME:CET
DTSTART:20241027T010000
END:STANDARD
END:VTIMEZONE
BEGIN:VEVENT
DTSTART;TZID=Europe/Stockholm:20230704T090000
DTEND;TZID=Europe/Stockholm:20230704T094500
DTSTAMP:20260422T195220
CREATED:20230620T080727Z
LAST-MODIFIED:20230620T080727Z
UID:2187-1688461200-1688463900@www.bastadcamping.se
SUMMARY:Tabata-styrka
DESCRIPTION:Tabata-styrka (pulshöjande + styrka) med Maria på fotbollsplanen \n75 kr eller 279 för veckopass med fri träning.
URL:https://www.bastadcamping.se/event/tabata-styrka-2/
ATTACH;FMTTYPE=image/jpeg:https://www.bastadcamping.se/wp-content/uploads/2023/05/169-9820-2-scaled.jpg
END:VEVENT
BEGIN:VEVENT
DTSTART;TZID=Europe/Stockholm:20230703T150000
DTEND;TZID=Europe/Stockholm:20230703T154500
DTSTAMP:20260422T195220
CREATED:20230620T080124Z
LAST-MODIFIED:20230620T080238Z
UID:2185-1688396400-1688399100@www.bastadcamping.se
SUMMARY:Tabata-styrka
DESCRIPTION:Tabata-styrka med Maria på fotbollsplanen. \n\n\n75kr eller 270 kr för ett veckopass med fri träning.
URL:https://www.bastadcamping.se/event/tabata-styrka/
ATTACH;FMTTYPE=image/jpeg:https://www.bastadcamping.se/wp-content/uploads/2023/05/169-9820-2-scaled.jpg
END:VEVENT
BEGIN:VEVENT
DTSTART;TZID=Europe/Stockholm:20230703T140000
DTEND;TZID=Europe/Stockholm:20230703T144500
DTSTAMP:20260422T195220
CREATED:20230620T075840Z
LAST-MODIFIED:20230620T075840Z
UID:2183-1688392800-1688395500@www.bastadcamping.se
SUMMARY:Dans-aerobics
DESCRIPTION:Dans-aerobics med Maria på fotbollsplanen. \n  \n75kr eller 270 kr för ett veckopass med fri träning.
URL:https://www.bastadcamping.se/event/dans-aerobics/
ATTACH;FMTTYPE=image/jpeg:https://www.bastadcamping.se/wp-content/uploads/2023/05/169-9820-2-scaled.jpg
END:VEVENT
BEGIN:VEVENT
DTSTART;VALUE=DATE:20230703
DTEND;VALUE=DATE:20230710
DTSTAMP:20260422T195220
CREATED:20230607T055648Z
LAST-MODIFIED:20230607T055648Z
UID:2111-1688342400-1688947199@www.bastadcamping.se
SUMMARY:Hälsovecka
DESCRIPTION:För första gången bjuder vi in till en hel vecka med hälsoaktiviteter. Häng med på allt från cirkelträning till aerobics\, medicinsk yoga och workshops om egenvård och lymfmassage. \nSe detaljerat schema i evenemangskalendern. \nEnskilda pass: 75 kr\nVeckopass: 270 kr (all träning ingår)
URL:https://www.bastadcamping.se/event/halsovecka/
ATTACH;FMTTYPE=image/jpeg:https://www.bastadcamping.se/wp-content/uploads/2023/05/169-9820-2-scaled.jpg
END:VEVENT
BEGIN:VEVENT
DTSTART;TZID=Europe/Stockholm:20230701T190000
DTEND;TZID=Europe/Stockholm:20230701T190000
DTSTAMP:20260422T195220
CREATED:20230620T074925Z
LAST-MODIFIED:20230620T075004Z
UID:2181-1688238000-1688238000@www.bastadcamping.se
SUMMARY:Livemusik med Uffe
DESCRIPTION:Livemusik med Uffe på Torget
URL:https://www.bastadcamping.se/event/livemusik-med-uffe/
ATTACH;FMTTYPE=image/jpeg:https://www.bastadcamping.se/wp-content/uploads/2023/05/uffe.jpeg
END:VEVENT
BEGIN:VEVENT
DTSTART;TZID=Europe/Stockholm:20230630T190000
DTEND;TZID=Europe/Stockholm:20230630T213000
DTSTAMP:20260422T195220
CREATED:20230620T074630Z
LAST-MODIFIED:20230620T074630Z
UID:2179-1688151600-1688160600@www.bastadcamping.se
SUMMARY:Irländsk Afton
DESCRIPTION:Favorit i repris! Den irländska duon är tillbaka. Vi välkomna Dun Aengus upp på scen!
URL:https://www.bastadcamping.se/event/irlandsk-afton/
ATTACH;FMTTYPE=image/jpeg:https://www.bastadcamping.se/wp-content/uploads/2023/05/289791106_5536009516451725_7794715299356733971_n.jpg
END:VEVENT
BEGIN:VEVENT
DTSTART;TZID=Europe/Stockholm:20230624T190000
DTEND;TZID=Europe/Stockholm:20230624T190000
DTSTAMP:20260422T195220
CREATED:20230611T080847Z
LAST-MODIFIED:20230620T074049Z
UID:2166-1687633200-1687633200@www.bastadcamping.se
SUMMARY:Livemusik med Chris Duraffourd
DESCRIPTION:Livemusik med Chris Duraffourd på Torget
URL:https://www.bastadcamping.se/event/livemusik-med-chris-duraffourd/
ATTACH;FMTTYPE=image/jpeg:https://www.bastadcamping.se/wp-content/uploads/2023/06/18119520_1625106874183493_206436058050952546_n.jpg
END:VEVENT
BEGIN:VEVENT
DTSTART;TZID=Europe/Stockholm:20230623T150000
DTEND;TZID=Europe/Stockholm:20230623T160000
DTSTAMP:20260422T195220
CREATED:20230611T130034Z
LAST-MODIFIED:20230620T073357Z
UID:2162-1687532400-1687536000@www.bastadcamping.se
SUMMARY:Vandrande spelning med Uffe
DESCRIPTION:
URL:https://www.bastadcamping.se/event/vandrande-spelning-med-uffe-2/
ATTACH;FMTTYPE=image/jpeg:https://www.bastadcamping.se/wp-content/uploads/2023/05/uffe.jpeg
END:VEVENT
BEGIN:VEVENT
DTSTART;TZID=Europe/Stockholm:20230623T140000
DTEND;TZID=Europe/Stockholm:20230623T150000
DTSTAMP:20260422T195220
CREATED:20230611T075951Z
LAST-MODIFIED:20230620T072736Z
UID:2160-1687528800-1687532400@www.bastadcamping.se
SUMMARY:Resning av midsommarstången
DESCRIPTION:Vi vandrar ner från servicehus 2 genom campingen ner till fotbollsplanen där vi reser midsommarstången följt av dans och sång.
URL:https://www.bastadcamping.se/event/resning-av-midsommarstangen/
ATTACH;FMTTYPE=image/jpeg:https://www.bastadcamping.se/wp-content/uploads/2023/05/B53BF9D5-B8B7-42FF-9707-6FB7BE9362F7.jpeg
END:VEVENT
BEGIN:VEVENT
DTSTART;TZID=Europe/Stockholm:20230623T103000
DTEND;TZID=Europe/Stockholm:20230623T103000
DTSTAMP:20260422T195220
CREATED:20230611T074804Z
LAST-MODIFIED:20230620T073607Z
UID:2158-1687516200-1687516200@www.bastadcamping.se
SUMMARY:Midsommarfirande - Klä midsommarstången
DESCRIPTION:Vi träffas vid servicehus 2 och klär midsommarstången tillsammans.
URL:https://www.bastadcamping.se/event/midsommarfirande-kla-midsommarstangen/
ATTACH;FMTTYPE=image/jpeg:https://www.bastadcamping.se/wp-content/uploads/2023/05/B53BF9D5-B8B7-42FF-9707-6FB7BE9362F7.jpeg
END:VEVENT
BEGIN:VEVENT
DTSTART;TZID=Europe/Stockholm:20230617T180000
DTEND;TZID=Europe/Stockholm:20230617T200000
DTSTAMP:20260422T195220
CREATED:20230516T132114Z
LAST-MODIFIED:20230516T132114Z
UID:1677-1687024800-1687032000@www.bastadcamping.se
SUMMARY:LIVEMUSIK - Mixers
DESCRIPTION:Livemusik med Mixers på Torget
URL:https://www.bastadcamping.se/event/livemusik-mixers/
ATTACH;FMTTYPE=image/jpeg:https://www.bastadcamping.se/wp-content/uploads/2023/05/pexels-tuur-tisseghem-613813-scaled.jpg
END:VEVENT
BEGIN:VEVENT
DTSTART;TZID=Europe/Stockholm:20230610T180000
DTEND;TZID=Europe/Stockholm:20230610T200000
DTSTAMP:20260422T195220
CREATED:20230516T131649Z
LAST-MODIFIED:20230516T131649Z
UID:1670-1686420000-1686427200@www.bastadcamping.se
SUMMARY:LIVEMUSIK - Gerfast
DESCRIPTION:Livemusik på Torget med GERFAST. Blues och rock står på spelschemat!
URL:https://www.bastadcamping.se/event/livemusik-gerfast/
ATTACH;FMTTYPE=image/jpeg:https://www.bastadcamping.se/wp-content/uploads/2023/05/pexels-tuur-tisseghem-613813-scaled.jpg
END:VEVENT
BEGIN:VEVENT
DTSTART;TZID=Europe/Stockholm:20230603T150000
DTEND;TZID=Europe/Stockholm:20230603T220000
DTSTAMP:20260422T195220
CREATED:20230516T131524Z
LAST-MODIFIED:20230524T104543Z
UID:1666-1685804400-1685829600@www.bastadcamping.se
SUMMARY:LILLA SOMMARTIDER - En sommarfest
DESCRIPTION:Det officiella startskottet för sommaren är tillbaka! Låt oss dansa in den tillsammans på Lilla SOMMARTIDER hos Båstad Camping! \n\nPå scen får vi äran och nöjet att presentera Uffe\, PRIME TIME och Martin Nilsson som bjuder på allt från dansband till sommarparty-hits och såklart: country!\n\n16:00 Dörrarna öppnar \n17:00-18:30 Uffe \n19:00-20:45 Martin Nilsson\n21:00-22:45 Prime Time\n\nInträde: 100 kr (betalas i dörren)\nBordsbokningar reserveras för matgäster.\n\n\nEn utav höjdpunkerna på hela sommaren – varmt\, varmt välkomna!
URL:https://www.bastadcamping.se/event/lilla-sommartider-en-sommarfest/
ATTACH;FMTTYPE=image/png:https://www.bastadcamping.se/wp-content/uploads/2023/05/sommartider_2023@2x-e1684925114442.png
END:VEVENT
BEGIN:VEVENT
DTSTART;TZID=Europe/Stockholm:20230527T130000
DTEND;TZID=Europe/Stockholm:20230527T140000
DTSTAMP:20260422T195220
CREATED:20230516T123615Z
LAST-MODIFIED:20230516T123615Z
UID:1637-1685192400-1685196000@www.bastadcamping.se
SUMMARY:TRÄDGÅRDSKURS
DESCRIPTION:En kurs med trädgårdsfantasten Dennis som lär ut handfasta tips och trix för att lyckas i trädgården.
URL:https://www.bastadcamping.se/event/tradgardskurs/
ATTACH;FMTTYPE=image/jpeg:https://www.bastadcamping.se/wp-content/uploads/2023/05/pexels-kampus-production-7854134-scaled.jpg
END:VEVENT
BEGIN:VEVENT
DTSTART;TZID=Europe/Stockholm:20230526T160000
DTEND;TZID=Europe/Stockholm:20230526T180000
DTSTAMP:20260422T195220
CREATED:20230516T123041Z
LAST-MODIFIED:20230516T124026Z
UID:1632-1685116800-1685124000@www.bastadcamping.se
SUMMARY:AFTER WORK
DESCRIPTION:After Work på Torget med skön musik\, gött häng och schyssta priser i baren
URL:https://www.bastadcamping.se/event/after-work-4/
ATTACH;FMTTYPE=image/jpeg:https://www.bastadcamping.se/wp-content/uploads/2023/05/341607598_214168024644865_4331522761682885683_n.jpg
END:VEVENT
BEGIN:VEVENT
DTSTART;TZID=Europe/Stockholm:20230518T120000
DTEND;TZID=Europe/Stockholm:20230518T130000
DTSTAMP:20260422T195220
CREATED:20230508T174130Z
LAST-MODIFIED:20230516T131907Z
UID:813-1684411200-1684414800@www.bastadcamping.se
SUMMARY:VÅRLOPPET
DESCRIPTION:Ett härligt springlopp i vårens friska luft för alla barn.
URL:https://www.bastadcamping.se/event/varloppet/
ATTACH;FMTTYPE=image/png:https://www.bastadcamping.se/wp-content/uploads/2023/05/bastad-camping-vastkust-barn-kopiera.png
END:VEVENT
BEGIN:VEVENT
DTSTART;VALUE=DATE:20230516
DTEND;VALUE=DATE:20230518
DTSTAMP:20260422T195220
CREATED:20230508T173958Z
LAST-MODIFIED:20230509T154956Z
UID:811-1684278000-1684364399@www.bastadcamping.se
SUMMARY:SMÖRREBRÖD
DESCRIPTION:3 smörrebröd för avhämtning i restaurangen.\nPris: 139 kr/tre st.  \nVälj mellan:\n• Frikadeller med gurka\n• Rödkål -Räkor och ägg -Rostbiff med riven pepparrot -Spätta med remouladsås. \nOBS: Enbart förbeställning genom telefon eller mail.\n+46 431 755 11\ninfo@bastadcamping.se \nSista beställning den 16/5. Föranmälan krävs.
URL:https://www.bastadcamping.se/event/smorrebrod/
LOCATION:Torget
ATTACH;FMTTYPE=image/jpeg:https://www.bastadcamping.se/wp-content/uploads/2023/05/IMG_1746-scaled.jpg
END:VEVENT
BEGIN:VEVENT
DTSTART;TZID=Europe/Stockholm:20230513T160000
DTEND;TZID=Europe/Stockholm:20230513T223000
DTSTAMP:20260422T195220
CREATED:20230508T173411Z
LAST-MODIFIED:20230508T173532Z
UID:806-1683993600-1684017000@www.bastadcamping.se
SUMMARY:EUROVISION SONG CONTEST - uppladdning
DESCRIPTION:Vi laddar upp med mellotema på Torget inför Eurovision Song Contest.
URL:https://www.bastadcamping.se/event/eurovision-song-contest-uppladdning/
LOCATION:Torget
ATTACH;FMTTYPE=image/png:https://www.bastadcamping.se/wp-content/uploads/2023/05/image-3.png
END:VEVENT
BEGIN:VEVENT
DTSTART;VALUE=DATE:20230513
DTEND;VALUE=DATE:20230515
DTSTAMP:20260422T195220
CREATED:20230503T154527Z
LAST-MODIFIED:20230508T172615Z
UID:347-1683943200-1684029599@www.bastadcamping.se
SUMMARY:Nillas tjejhelg
DESCRIPTION:En hel helg
URL:https://www.bastadcamping.se/event/nillas-tjejhelg/
ATTACH;FMTTYPE=image/jpeg:https://www.bastadcamping.se/wp-content/uploads/2023/05/IMG_0053-copy-scaled.jpeg
END:VEVENT
BEGIN:VEVENT
DTSTART;TZID=Europe/Stockholm:20230512T160000
DTEND;TZID=Europe/Stockholm:20230512T180000
DTSTAMP:20260422T195220
CREATED:20230508T173040Z
LAST-MODIFIED:20230508T173040Z
UID:804-1683907200-1683914400@www.bastadcamping.se
SUMMARY:After work
DESCRIPTION:After Work på Torget med skön musik\, gött häng och schyssta priser i baren.
URL:https://www.bastadcamping.se/event/after-work-3/
LOCATION:Torget
ATTACH;FMTTYPE=image/jpeg:https://www.bastadcamping.se/wp-content/uploads/2023/05/341607598_214168024644865_4331522761682885683_n.jpg
END:VEVENT
BEGIN:VEVENT
DTSTART;TZID=Europe/Stockholm:20230506T120000
DTEND;TZID=Europe/Stockholm:20230506T153000
DTSTAMP:20260422T195220
CREATED:20230502T145031Z
LAST-MODIFIED:20230503T160432Z
UID:52-1683374400-1683387000@www.bastadcamping.se
SUMMARY:Loppis
DESCRIPTION:Loppis
URL:https://www.bastadcamping.se/event/loppis/
ATTACH;FMTTYPE=image/jpeg:https://www.bastadcamping.se/wp-content/uploads/2023/05/100774887_3226083467444353_8300347130736803840_n.jpg
END:VEVENT
BEGIN:VEVENT
DTSTART;TZID=Europe/Stockholm:20230505T190000
DTEND;TZID=Europe/Stockholm:20230505T210000
DTSTAMP:20260422T195220
CREATED:20230502T144842Z
LAST-MODIFIED:20230503T160907Z
UID:49-1683313200-1683320400@www.bastadcamping.se
SUMMARY:After work
DESCRIPTION:After Work på Torget med skön musik\, gött häng och schyssta priser i baren.
URL:https://www.bastadcamping.se/event/after-work/
LOCATION:Torget
ATTACH;FMTTYPE=image/jpeg:https://www.bastadcamping.se/wp-content/uploads/2023/05/341090302_178587134649324_6566694882744232606_n.jpg
END:VEVENT
END:VCALENDAR