BEGIN:VCALENDAR
VERSION:2.0
PRODID:-//Båstad Camping - ECPv6.15.20//NONSGML v1.0//EN
CALSCALE:GREGORIAN
METHOD:PUBLISH
X-WR-CALNAME:Båstad Camping
X-ORIGINAL-URL:https://www.bastadcamping.se
X-WR-CALDESC:Händelser för Båstad Camping
REFRESH-INTERVAL;VALUE=DURATION:PT1H
X-Robots-Tag:noindex
X-PUBLISHED-TTL:PT1H
BEGIN:VTIMEZONE
TZID:Europe/Stockholm
BEGIN:DAYLIGHT
TZOFFSETFROM:+0100
TZOFFSETTO:+0200
TZNAME:CEST
DTSTART:20220327T010000
END:DAYLIGHT
BEGIN:STANDARD
TZOFFSETFROM:+0200
TZOFFSETTO:+0100
TZNAME:CET
DTSTART:20221030T010000
END:STANDARD
BEGIN:DAYLIGHT
TZOFFSETFROM:+0100
TZOFFSETTO:+0200
TZNAME:CEST
DTSTART:20230326T010000
END:DAYLIGHT
BEGIN:STANDARD
TZOFFSETFROM:+0200
TZOFFSETTO:+0100
TZNAME:CET
DTSTART:20231029T010000
END:STANDARD
BEGIN:DAYLIGHT
TZOFFSETFROM:+0100
TZOFFSETTO:+0200
TZNAME:CEST
DTSTART:20240331T010000
END:DAYLIGHT
BEGIN:STANDARD
TZOFFSETFROM:+0200
TZOFFSETTO:+0100
TZNAME:CET
DTSTART:20241027T010000
END:STANDARD
END:VTIMEZONE
BEGIN:VEVENT
DTSTART;TZID=Europe/Stockholm:20230908T180000
DTEND;TZID=Europe/Stockholm:20230908T200000
DTSTAMP:20260422T123238
CREATED:20230808T074328Z
LAST-MODIFIED:20230808T074328Z
UID:2469-1694196000-1694203200@www.bastadcamping.se
SUMMARY:Musikquiz med Mr Orange
DESCRIPTION:Mr Orange gör comeback på Torget och bjudet på ett härligt musikquiz mellan 18:00-20:00.
URL:https://www.bastadcamping.se/event/musikquiz-med-mr-orange/
ATTACH;FMTTYPE=image/jpeg:https://www.bastadcamping.se/wp-content/uploads/2023/08/279029349_112635584760017_4279830070356429189_n.jpg
END:VEVENT
BEGIN:VEVENT
DTSTART;TZID=Europe/Stockholm:20230908T170000
DTEND;TZID=Europe/Stockholm:20230908T190000
DTSTAMP:20260422T123238
CREATED:20230824T110249Z
LAST-MODIFIED:20230824T110249Z
UID:3453-1694192400-1694199600@www.bastadcamping.se
SUMMARY:After Work
DESCRIPTION:After Work på Torget – varje fredag mellan 17:00 – 19:00. \nSchyssta priset på utvalda maträtter och drycker. Livekonserter på storbilds-TV och biljard/boule för de som känner sig manade! \nVarmt välkomna!
URL:https://www.bastadcamping.se/event/after-work-6/
ATTACH;FMTTYPE=image/jpeg:https://www.bastadcamping.se/wp-content/uploads/2023/05/341090302_178587134649324_6566694882744232606_n.jpg
END:VEVENT
BEGIN:VEVENT
DTSTART;TZID=Europe/Stockholm:20230902T130000
DTEND;TZID=Europe/Stockholm:20230902T150000
DTSTAMP:20260422T123238
CREATED:20230829T075029Z
LAST-MODIFIED:20230829T075029Z
UID:3510-1693659600-1693666800@www.bastadcamping.se
SUMMARY:Pölse-lunch
DESCRIPTION:Vi plockar fram korvtunnan och serverar dansk pölse till lunch mellan 13:00-15:00.
URL:https://www.bastadcamping.se/event/polse-lunch/
ATTACH;FMTTYPE=image/webp:https://www.bastadcamping.se/wp-content/uploads/2023/08/DV02_239145_03.webp
END:VEVENT
BEGIN:VEVENT
DTSTART;TZID=Europe/Stockholm:20230901T170000
DTEND;TZID=Europe/Stockholm:20230901T190000
DTSTAMP:20260422T123238
CREATED:20230824T110142Z
LAST-MODIFIED:20230824T110142Z
UID:3450-1693587600-1693594800@www.bastadcamping.se
SUMMARY:After Work
DESCRIPTION:After Work på Torget – varje fredag mellan 17:00 – 19:00. \nSchyssta priset på utvalda maträtter och drycker. Livekonserter på storbilds-TV och biljard/boule för de som känner sig manade! \nVarmt välkomna!
URL:https://www.bastadcamping.se/event/after-work-5/
ATTACH;FMTTYPE=image/jpeg:https://www.bastadcamping.se/wp-content/uploads/2023/05/341090302_178587134649324_6566694882744232606_n.jpg
END:VEVENT
BEGIN:VEVENT
DTSTART;TZID=Europe/Stockholm:20230826T190000
DTEND;TZID=Europe/Stockholm:20230826T190000
DTSTAMP:20260422T123238
CREATED:20230802T152831Z
LAST-MODIFIED:20230802T153429Z
UID:2458-1693076400-1693076400@www.bastadcamping.se
SUMMARY:Livemusik med Taxfree
DESCRIPTION:Spelningen i våras gjorde succé och vi kunde bara inte hålla oss för att boka in dem igen. Lördagen den 26 augusti välkomnar vi Taxfree upp på scenen igen. Varmt välkomna!
URL:https://www.bastadcamping.se/event/livemusik-med-taxfree/
ATTACH;FMTTYPE=image/jpeg:https://www.bastadcamping.se/wp-content/uploads/2023/05/IMG_3376.jpg
END:VEVENT
BEGIN:VEVENT
DTSTART;TZID=Europe/Stockholm:20230825T170000
DTEND;TZID=Europe/Stockholm:20230825T190000
DTSTAMP:20260422T123238
CREATED:20230824T105554Z
LAST-MODIFIED:20230824T105953Z
UID:3446-1692982800-1692990000@www.bastadcamping.se
SUMMARY:After Work
DESCRIPTION:After Work på Torget – varje fredag mellan 17:00 – 19:00. \nSchyssta priset på utvalda maträtter och drycker. Livekonserter på storbilds-TV och biljard/boule för de som känner sig manade! \nVarmt välkomna!
URL:https://www.bastadcamping.se/event/after-work-2/
ATTACH;FMTTYPE=image/jpeg:https://www.bastadcamping.se/wp-content/uploads/2023/05/341090302_178587134649324_6566694882744232606_n.jpg
END:VEVENT
BEGIN:VEVENT
DTSTART;TZID=Europe/Stockholm:20230819T190000
DTEND;TZID=Europe/Stockholm:20230819T210000
DTSTAMP:20260422T123238
CREATED:20230620T131314Z
LAST-MODIFIED:20230620T131314Z
UID:2263-1692471600-1692478800@www.bastadcamping.se
SUMMARY:Livemusik med Countrys!
DESCRIPTION:Livemusik med Countrys på Torget
URL:https://www.bastadcamping.se/event/livemusik-med-countrys/
ATTACH;FMTTYPE=image/jpeg:https://www.bastadcamping.se/wp-content/uploads/2023/05/pexels-tuur-tisseghem-613813-scaled.jpg
END:VEVENT
BEGIN:VEVENT
DTSTART;TZID=Europe/Stockholm:20230819T170000
DTEND;TZID=Europe/Stockholm:20230819T170000
DTSTAMP:20260422T123238
CREATED:20230620T131055Z
LAST-MODIFIED:20230808T101115Z
UID:2260-1692464400-1692464400@www.bastadcamping.se
SUMMARY:Kräftskiva
DESCRIPTION:Välkomna till årets kräftskiva på Torget! \nDen 19 augusti bjuder vi för första gången in till kräftskiva på Torget. Klockan 19:00 välkomnar vi Countrys upp på scen som bjussar på skön livemusik hela kvällen \nFör att säkra din plats\, föranmäl dig senast torsdagen den 17 augusti. Vi har även möjlighet för drop-in om det finns platser kvar. \nDatum: 19 augusti\nTid: från 17:00\nPlats: Torget\, Båstad Camping\nPris: 369 kr/person \nPriset inkluderar:\n10 st kräftor\nräkor \nPå buffébordet:\nvästerbottenpaj\npotatissallad\ngrönsallad\naioli\nmajonäs\nbröd\, smör och ost \nOBS! Föranmälan senast 17 augusti. Drop-in i mån av plats. \nVi ses på Torget den 19 augusti!
URL:https://www.bastadcamping.se/event/kraftskiva/
ATTACH;FMTTYPE=image/jpeg:https://www.bastadcamping.se/wp-content/uploads/2023/06/pexels-a¥¥a°¼a°-a­-2410606.jpg
END:VEVENT
BEGIN:VEVENT
DTSTART;TZID=Europe/Stockholm:20230811T180000
DTEND;TZID=Europe/Stockholm:20230811T180000
DTSTAMP:20260422T123238
CREATED:20230719T080536Z
LAST-MODIFIED:20230811T070918Z
UID:2438-1691776800-1691776800@www.bastadcamping.se
SUMMARY:Countrykväll med Martin Nilsson
DESCRIPTION:Vår country-favorit Martin Nilsson är tillbaka på Torget och bjuder på en helkväll med härlig countrymusik! \nVi kommer att få en snabbkurs i linedance som vi sen kan ha nytta av resten av kvällen. En kväll för alla countryälskare med andra ord. \n18:00 Kurs i Line Dance\n19:00 Martin Nilsson på scen \nVarmt välkomna!
URL:https://www.bastadcamping.se/event/countrykvall-med-martin-nilsson/
ATTACH;FMTTYPE=image/jpeg:https://www.bastadcamping.se/wp-content/uploads/2023/07/martin-nilsson-744x419-1.jpg
END:VEVENT
BEGIN:VEVENT
DTSTART;TZID=Europe/Stockholm:20230805T190000
DTEND;TZID=Europe/Stockholm:20230805T190000
DTSTAMP:20260422T123238
CREATED:20230620T130459Z
LAST-MODIFIED:20230620T130601Z
UID:2258-1691262000-1691262000@www.bastadcamping.se
SUMMARY:Livemusik med Freddans
DESCRIPTION:Livemusik med Freddans Orkester på Torget
URL:https://www.bastadcamping.se/event/livemusik-med-freddans-2/
ATTACH;FMTTYPE=image/jpeg:https://www.bastadcamping.se/wp-content/uploads/2023/05/guitar-gcfdade3a9_1920.jpg
END:VEVENT
BEGIN:VEVENT
DTSTART;TZID=Europe/Stockholm:20230729T190000
DTEND;TZID=Europe/Stockholm:20230729T190000
DTSTAMP:20260422T123238
CREATED:20230620T130253Z
LAST-MODIFIED:20230620T130640Z
UID:2256-1690657200-1690657200@www.bastadcamping.se
SUMMARY:Livemusik med Uffe
DESCRIPTION:Livemusik med Uffe på Torget
URL:https://www.bastadcamping.se/event/livemusik-med-uffe-3/
ATTACH;FMTTYPE=image/jpeg:https://www.bastadcamping.se/wp-content/uploads/2023/05/uffe.jpeg
END:VEVENT
BEGIN:VEVENT
DTSTART;TZID=Europe/Stockholm:20230726T190000
DTEND;TZID=Europe/Stockholm:20230726T213000
DTSTAMP:20260422T123238
CREATED:20230620T130145Z
LAST-MODIFIED:20230630T171547Z
UID:2254-1690398000-1690407000@www.bastadcamping.se
SUMMARY:Irländsk Afton
DESCRIPTION:Favorit i repris! Den irländska duon är tillbaka. Vi välkomna Dun Aengus upp på scen! \nBoka med fördel bord genom torget@bastadcamping.se
URL:https://www.bastadcamping.se/event/irlandsk-afton-2/
ATTACH;FMTTYPE=image/jpeg:https://www.bastadcamping.se/wp-content/uploads/2023/05/289791106_5536009516451725_7794715299356733971_n.jpg
END:VEVENT
BEGIN:VEVENT
DTSTART;TZID=Europe/Stockholm:20230722T190000
DTEND;TZID=Europe/Stockholm:20230722T190000
DTSTAMP:20260422T123238
CREATED:20230710T090405Z
LAST-MODIFIED:20230710T090405Z
UID:2423-1690052400-1690052400@www.bastadcamping.se
SUMMARY:Livemusik med PrimeTime
DESCRIPTION:Livemusik med Prime Time på Torget
URL:https://www.bastadcamping.se/event/livemusik-med-primetime-2/
ATTACH;FMTTYPE=image/jpeg:https://www.bastadcamping.se/wp-content/uploads/2023/06/323628379_872979014045302_7026536937589775333_n.jpg
END:VEVENT
BEGIN:VEVENT
DTSTART;TZID=Europe/Stockholm:20230722T110000
DTEND;TZID=Europe/Stockholm:20230722T173000
DTSTAMP:20260422T123238
CREATED:20230620T125552Z
LAST-MODIFIED:20230717T121830Z
UID:2248-1690023600-1690047000@www.bastadcamping.se
SUMMARY:Badets dag
DESCRIPTION:En halvdag på Skummeslövsbadet med massa lek\, bad och bus!
URL:https://www.bastadcamping.se/event/badets-dag/
ATTACH;FMTTYPE=image/jpeg:https://www.bastadcamping.se/wp-content/uploads/2023/05/bassang.jpg
END:VEVENT
BEGIN:VEVENT
DTSTART;TZID=Europe/Stockholm:20230721T180000
DTEND;TZID=Europe/Stockholm:20230721T200000
DTSTAMP:20260422T123238
CREATED:20230620T125348Z
LAST-MODIFIED:20230620T125348Z
UID:2245-1689962400-1689969600@www.bastadcamping.se
SUMMARY:Barndisco
DESCRIPTION:Barndisco! \nInträde\, snacks och läsk – 100 kr \nAnmäl intresse genom info@bastadcamping.se eller receptionen.
URL:https://www.bastadcamping.se/event/barndisco/
ATTACH;FMTTYPE=image/jpeg:https://www.bastadcamping.se/wp-content/uploads/2023/06/pexels-koolshooters-6983014.jpg
END:VEVENT
BEGIN:VEVENT
DTSTART;TZID=Europe/Stockholm:20230720T110000
DTEND;TZID=Europe/Stockholm:20230720T120000
DTSTAMP:20260422T123238
CREATED:20230620T124029Z
LAST-MODIFIED:20230620T124029Z
UID:2241-1689850800-1689854400@www.bastadcamping.se
SUMMARY:Skattjakt
DESCRIPTION:Skattjakt för alla barn med start på Torget. \nAnmäl intresse genom info@bastadcamping.se eller receptionen. Drop in i mån av plats.
URL:https://www.bastadcamping.se/event/skattjakt/
ATTACH;FMTTYPE=image/jpeg:https://www.bastadcamping.se/wp-content/uploads/2023/06/pexels-jeshootscom-576835.jpg
END:VEVENT
BEGIN:VEVENT
DTSTART;TZID=Europe/Stockholm:20230719T110000
DTEND;TZID=Europe/Stockholm:20230719T120000
DTSTAMP:20260422T123238
CREATED:20230620T123523Z
LAST-MODIFIED:20230620T123523Z
UID:2239-1689764400-1689768000@www.bastadcamping.se
SUMMARY:Kidsrun
DESCRIPTION:Springlopp för alla barn med start vid fotbollsplanen
URL:https://www.bastadcamping.se/event/kidsrun/
ATTACH;FMTTYPE=image/jpeg:https://www.bastadcamping.se/wp-content/uploads/2023/06/IMG_3819-e1687256054835.jpeg
END:VEVENT
BEGIN:VEVENT
DTSTART;TZID=Europe/Stockholm:20230718T120000
DTEND;TZID=Europe/Stockholm:20230718T130000
DTSTAMP:20260422T123238
CREATED:20230620T123009Z
LAST-MODIFIED:20230620T123039Z
UID:2235-1689681600-1689685200@www.bastadcamping.se
SUMMARY:Kidsbuffé
DESCRIPTION:All you can eat hamburgare och marängsviss! \nAnmälan sker via info@bastadcamping.se. Drop in i mån av plats
URL:https://www.bastadcamping.se/event/kidsbuffee/
ATTACH;FMTTYPE=image/jpeg:https://www.bastadcamping.se/wp-content/uploads/2023/06/pexels-marta-dzedyshko-2067403.jpg
END:VEVENT
BEGIN:VEVENT
DTSTART;TZID=Europe/Stockholm:20230718T110000
DTEND;TZID=Europe/Stockholm:20230718T120000
DTSTAMP:20260422T123238
CREATED:20230620T122252Z
LAST-MODIFIED:20230620T122252Z
UID:2232-1689678000-1689681600@www.bastadcamping.se
SUMMARY:LEGO verkstad
DESCRIPTION:LEFO verkstad för alla barn. \nAnmälan sker via info@bastadcamping.se eller receptionen. Drop in i mån av plats.
URL:https://www.bastadcamping.se/event/lego-verkstad/
ATTACH;FMTTYPE=image/jpeg:https://www.bastadcamping.se/wp-content/uploads/2023/06/Screenshot-2023-06-20-at-14.21.28.jpg
END:VEVENT
BEGIN:VEVENT
DTSTART;TZID=Europe/Stockholm:20230717T110000
DTEND;TZID=Europe/Stockholm:20230717T110000
DTSTAMP:20260422T123238
CREATED:20230620T121942Z
LAST-MODIFIED:20230620T123212Z
UID:2229-1689591600-1689591600@www.bastadcamping.se
SUMMARY:Slimeverkstad
DESCRIPTION:Slimeverkstad för alla barn. \nAnmälan sker via info@bastadcamping.se eller receptionen. Drop in i mån av plats.
URL:https://www.bastadcamping.se/event/slimeverkstad/
ATTACH;FMTTYPE=image/jpeg:https://www.bastadcamping.se/wp-content/uploads/2023/06/Screenshot-2023-06-20-at-14.18.35.jpg
END:VEVENT
BEGIN:VEVENT
DTSTART;VALUE=DATE:20230717
DTEND;VALUE=DATE:20230724
DTSTAMP:20260422T123238
CREATED:20230620T121244Z
LAST-MODIFIED:20230620T133932Z
UID:2226-1689552000-1690156799@www.bastadcamping.se
SUMMARY:KIDSWEEK
DESCRIPTION:Vi kör vidare på ett lyckat koncept och välkomnar till KIDSWEEK 2023!  \nUnder hela vecka 29 håller vi fokus på barnaktiviteter av olika slag och aktivitetsschemat kommer se ut som följande (uppdateras efter hand som saker och ting spikas)\n\nMÅNDAG: SLIMEVERKSTAD \nTISDAG: LEGOVERKSTAD  & KIDSBUFFÉ 🍔\nONSDAG: KIDSRUN \nTORSDAG: SKATTJAKT \nFREDAG: DISCO \nLÖRDAG: BADETS DAG (@skummeslövsbadet) \nSom vanligt är det fritt inträde till Skummeslövsbadet för alla incheckade gäster på campingen.\nHoppas att vi ses!
URL:https://www.bastadcamping.se/event/kidsweek/
ATTACH;FMTTYPE=image/jpeg:https://www.bastadcamping.se/wp-content/uploads/2023/06/JPEG-image-273B2414A4DA-1.jpeg
END:VEVENT
BEGIN:VEVENT
DTSTART;TZID=Europe/Stockholm:20230715T190000
DTEND;TZID=Europe/Stockholm:20230715T190000
DTSTAMP:20260422T123238
CREATED:20230620T120057Z
LAST-MODIFIED:20230620T121031Z
UID:2224-1689447600-1689447600@www.bastadcamping.se
SUMMARY:Livemusik med Kalle Sellbrink
DESCRIPTION:Livemusik med Kalle Sellbrink på Torget
URL:https://www.bastadcamping.se/event/livemusik-med-kalle-sellbrink/
END:VEVENT
BEGIN:VEVENT
DTSTART;TZID=Europe/Stockholm:20230715T130000
DTEND;TZID=Europe/Stockholm:20230715T150000
DTSTAMP:20260422T123238
CREATED:20230712T115224Z
LAST-MODIFIED:20230712T115224Z
UID:2429-1689426000-1689433200@www.bastadcamping.se
SUMMARY:Paella-lunch på Torget
DESCRIPTION:På lördagen plockar vi fram muurikkan och serverar paella på Torget mellan 13:00-15:00. \nPris: 149 kr
URL:https://www.bastadcamping.se/event/paella-lunch-pa-torget/
ATTACH;FMTTYPE=image/jpeg:https://www.bastadcamping.se/wp-content/uploads/2023/07/pexels-stefanie-baeskau-10750986.jpg
END:VEVENT
BEGIN:VEVENT
DTSTART;TZID=Europe/Stockholm:20230714T190000
DTEND;TZID=Europe/Stockholm:20230714T190000
DTSTAMP:20260422T123238
CREATED:20230710T125006Z
LAST-MODIFIED:20230710T125006Z
UID:2425-1689361200-1689361200@www.bastadcamping.se
SUMMARY:Livemusik med Uffe
DESCRIPTION:Livemusik med Uffe på Torget
URL:https://www.bastadcamping.se/event/livemusik-med-uffe-4/
ATTACH;FMTTYPE=image/jpeg:https://www.bastadcamping.se/wp-content/uploads/2023/05/uffe.jpeg
END:VEVENT
BEGIN:VEVENT
DTSTART;TZID=Europe/Stockholm:20230714T150000
DTEND;TZID=Europe/Stockholm:20230714T170000
DTSTAMP:20260422T123238
CREATED:20230620T115620Z
LAST-MODIFIED:20230620T115620Z
UID:2220-1689346800-1689354000@www.bastadcamping.se
SUMMARY:Romprovning
DESCRIPTION:Romprovning med Anders Strand på Torget. \nAnmälan sker genom info@bastadcamping.se senast den 13 juli. Max 30 deltagare.
URL:https://www.bastadcamping.se/event/romprovning/
ATTACH;FMTTYPE=image/jpeg:https://www.bastadcamping.se/wp-content/uploads/2023/05/pexels-anna-pyshniuk-7799797-scaled.jpg
END:VEVENT
BEGIN:VEVENT
DTSTART;TZID=Europe/Stockholm:20230713T170000
DTEND;TZID=Europe/Stockholm:20230713T170000
DTSTAMP:20260422T123238
CREATED:20230620T114845Z
LAST-MODIFIED:20230709T084358Z
UID:2217-1689267600-1689267600@www.bastadcamping.se
SUMMARY:Räkfrossa
DESCRIPTION:Kom och frossa obegränsat med saftiga räkor med tillbehör tillsammans med vänner och familj.\n\nDatum: torsdagen den 13 juli\nTid: från 17:00\nPlats: Restaurang Torget\nPris: 269 kr\n\nFör att säkerställa att alla får en plats på festen\, behöver du förboka senast den 11 juli till torget@bastadcamping.se eller 0431 75511\n\nVarmt\, varmt välkomna som alltid!
URL:https://www.bastadcamping.se/event/rakfrossa/
ATTACH;FMTTYPE=image/jpeg:https://www.bastadcamping.se/wp-content/uploads/2023/06/pexels-terje-sollie-566344.jpg
END:VEVENT
BEGIN:VEVENT
DTSTART;TZID=Europe/Stockholm:20230708T150000
DTEND;TZID=Europe/Stockholm:20230708T160000
DTSTAMP:20260422T123238
CREATED:20230620T094658Z
LAST-MODIFIED:20230620T094658Z
UID:2194-1688828400-1688832000@www.bastadcamping.se
SUMMARY:Medicinsk Yoga
DESCRIPTION:Medicinsk Yoga med Nicolin. \nEn enklare form a yoga med fokus på andning\, rörlighet och medveten närvaro. Går att göra både på marken eller sittandes på stol. \nMedtag egen matta/filt eller stol. \n75 kr eller 270 kr för ett veckopass med fri träning.
URL:https://www.bastadcamping.se/event/medicinsk-yoga-3/
ATTACH;FMTTYPE=image/jpeg:https://www.bastadcamping.se/wp-content/uploads/2023/06/pexels-rdne-stock-project-8173554.jpg
END:VEVENT
BEGIN:VEVENT
DTSTART;TZID=Europe/Stockholm:20230707T190000
DTEND;TZID=Europe/Stockholm:20230707T190000
DTSTAMP:20260422T123238
CREATED:20230705T121938Z
LAST-MODIFIED:20230705T121938Z
UID:2367-1688756400-1688756400@www.bastadcamping.se
SUMMARY:Livemusik med Freddans
DESCRIPTION:Livemusik med Freddans på Torget
URL:https://www.bastadcamping.se/event/livemusik-med-freddans/
ATTACH;FMTTYPE=image/jpeg:https://www.bastadcamping.se/wp-content/uploads/2023/05/341607598_214168024644865_4331522761682885683_n.jpg
END:VEVENT
BEGIN:VEVENT
DTSTART;TZID=Europe/Stockholm:20230707T140000
DTEND;TZID=Europe/Stockholm:20230707T150000
DTSTAMP:20260422T123238
CREATED:20230620T114124Z
LAST-MODIFIED:20230620T114124Z
UID:2214-1688738400-1688742000@www.bastadcamping.se
SUMMARY:QiGong
DESCRIPTION:QiGong med Manuela \n75 kr eller 270 kr för ett veckopass med fri träning
URL:https://www.bastadcamping.se/event/qigong/
ATTACH;FMTTYPE=image/jpeg:https://www.bastadcamping.se/wp-content/uploads/2023/06/Screenshot-2023-06-20-at-13.40.09.jpg
END:VEVENT
BEGIN:VEVENT
DTSTART;TZID=Europe/Stockholm:20230707T110000
DTEND;TZID=Europe/Stockholm:20230707T120000
DTSTAMP:20260422T123238
CREATED:20230620T112533Z
LAST-MODIFIED:20230620T112533Z
UID:2211-1688727600-1688731200@www.bastadcamping.se
SUMMARY:Workshop - Egenvård Lymfsystemet
DESCRIPTION:Workshop i egenvård – Om lymfsystemet och lymfmassage tillsammans med Manuela. Är du en person som lider av huvudvärk/migrän eller med smärtor i armar och ben så är detta något för dig! \n75 kr eller 270 kr för ett veckopass med fri träning.
URL:https://www.bastadcamping.se/event/workshop-egenvard-lymfsystemet/
ATTACH;FMTTYPE=image/jpeg:https://www.bastadcamping.se/wp-content/uploads/2023/06/pexels-rdne-stock-project-6724456.jpg
END:VEVENT
END:VCALENDAR