BEGIN:VCALENDAR
VERSION:2.0
PRODID:-//Båstad Camping - ECPv6.15.20//NONSGML v1.0//EN
CALSCALE:GREGORIAN
METHOD:PUBLISH
X-WR-CALNAME:Båstad Camping
X-ORIGINAL-URL:https://www.bastadcamping.se
X-WR-CALDESC:Händelser för Båstad Camping
REFRESH-INTERVAL;VALUE=DURATION:PT1H
X-Robots-Tag:noindex
X-PUBLISHED-TTL:PT1H
BEGIN:VTIMEZONE
TZID:Europe/Stockholm
BEGIN:DAYLIGHT
TZOFFSETFROM:+0100
TZOFFSETTO:+0200
TZNAME:CEST
DTSTART:20240331T010000
END:DAYLIGHT
BEGIN:STANDARD
TZOFFSETFROM:+0200
TZOFFSETTO:+0100
TZNAME:CET
DTSTART:20241027T010000
END:STANDARD
BEGIN:DAYLIGHT
TZOFFSETFROM:+0100
TZOFFSETTO:+0200
TZNAME:CEST
DTSTART:20250330T010000
END:DAYLIGHT
BEGIN:STANDARD
TZOFFSETFROM:+0200
TZOFFSETTO:+0100
TZNAME:CET
DTSTART:20251026T010000
END:STANDARD
BEGIN:DAYLIGHT
TZOFFSETFROM:+0100
TZOFFSETTO:+0200
TZNAME:CEST
DTSTART:20260329T010000
END:DAYLIGHT
BEGIN:STANDARD
TZOFFSETFROM:+0200
TZOFFSETTO:+0100
TZNAME:CET
DTSTART:20261025T010000
END:STANDARD
BEGIN:DAYLIGHT
TZOFFSETFROM:+0100
TZOFFSETTO:+0200
TZNAME:CEST
DTSTART:20270328T010000
END:DAYLIGHT
BEGIN:STANDARD
TZOFFSETFROM:+0200
TZOFFSETTO:+0100
TZNAME:CET
DTSTART:20271031T010000
END:STANDARD
END:VTIMEZONE
BEGIN:VEVENT
DTSTART;TZID=Europe/Stockholm:20260418T100000
DTEND;TZID=Europe/Stockholm:20260418T140000
DTSTAMP:20260419T172448
CREATED:20260304T121810Z
LAST-MODIFIED:20260304T121810Z
UID:5600-1776506400-1776520800@www.bastadcamping.se
SUMMARY:Pynta trollskogen tillsammans med Nilla
DESCRIPTION:Varmt välkomna att gemensamt få till världens finaste trollskog! \nVi samlas kl. 10:00 vid grillplatsen uppe vid fotbollsplanen och håller på så länge vi orkar och vill. \nTa med er prydnader\, figurer och loppisfynd. Inget är för stort eller för litet. Är det någon som vill snickra så är man varmt välkommen att göra det med. \nNu längtar vi efter en toppendag tillsammans med er!
URL:https://www.bastadcamping.se/event/pynta-trollskogen-tillsammans-med-nilla/
ATTACH;FMTTYPE=image/jpeg:https://www.bastadcamping.se/wp-content/uploads/2026/03/IMG_6746.jpg
END:VEVENT
BEGIN:VEVENT
DTSTART;TZID=Europe/Stockholm:20260417T170000
DTEND;TZID=Europe/Stockholm:20260417T190000
DTSTAMP:20260419T172448
CREATED:20260219T081551Z
LAST-MODIFIED:20260219T081551Z
UID:5077-1776445200-1776452400@www.bastadcamping.se
SUMMARY:Afterwork på Båstad Camping
DESCRIPTION:🍻 AFTERWORK PÅ BÅSTAD CAMPING 🍷\nAvsluta arbetsveckan på bästa sätt!\nSamla kollegor\, vänner eller familj och njut av en härlig afterwork i vår mysiga restaurang.Här möts skratt\, god mat och något riktigt gott i glaset – i en avslappnad miljö med skön stämning. \n🌟 Fina erbjudanden på mat och dryck🍔 Utvalda rätter till extra bra priser🍷 Specialerbjudanden på öl\, vin och alkoholfria alternativ🎶 Skön musik och härlig stämning \nDet här är den perfekta starten på kvällen – eller en välförtjänt paus efter jobbet. \nPå Båstad Camping gör vi afterwork till något att längta till. \nPS: Boka med fördel bord på info@bastadcamping.se eller 0431 755 11
URL:https://www.bastadcamping.se/event/afterwork-pa-bastad-camping-2/
LOCATION:Torget
ATTACH;FMTTYPE=image/png:https://www.bastadcamping.se/wp-content/uploads/2026/02/ChatGPT-Image-Feb-19-2026-09_07_37-AM.png
ORGANIZER;CN="Torget":MAILTO:torget@bastadcamping.se
END:VEVENT
BEGIN:VEVENT
DTSTART;TZID=Europe/Stockholm:20260410T170000
DTEND;TZID=Europe/Stockholm:20260410T190000
DTSTAMP:20260419T172448
CREATED:20260219T081409Z
LAST-MODIFIED:20260219T081409Z
UID:5072-1775840400-1775847600@www.bastadcamping.se
SUMMARY:Afterwork på Båstad Camping
DESCRIPTION:🍻 AFTERWORK PÅ BÅSTAD CAMPING 🍷\nAvsluta arbetsveckan på bästa sätt!\nSamla kollegor\, vänner eller familj och njut av en härlig afterwork i vår mysiga restaurang.Här möts skratt\, god mat och något riktigt gott i glaset – i en avslappnad miljö med skön stämning. \n🌟 Fina erbjudanden på mat och dryck🍔 Utvalda rätter till extra bra priser🍷 Specialerbjudanden på öl\, vin och alkoholfria alternativ🎶 Skön musik och härlig stämning \nDet här är den perfekta starten på kvällen – eller en välförtjänt paus efter jobbet. \nPå Båstad Camping gör vi afterwork till något att längta till. \nPS: Boka med fördel bord på info@bastadcamping.se eller 0431 755 11
URL:https://www.bastadcamping.se/event/afterwork-pa-bastad-camping/
LOCATION:Torget
ATTACH;FMTTYPE=image/png:https://www.bastadcamping.se/wp-content/uploads/2026/02/ChatGPT-Image-Feb-19-2026-09_07_37-AM.png
ORGANIZER;CN="Torget":MAILTO:torget@bastadcamping.se
END:VEVENT
BEGIN:VEVENT
DTSTART;TZID=Europe/Stockholm:20260405T150000
DTEND;TZID=Europe/Stockholm:20260405T163000
DTSTAMP:20260419T172448
CREATED:20260126T094805Z
LAST-MODIFIED:20260126T094858Z
UID:5011-1775401200-1775406600@www.bastadcamping.se
SUMMARY:Mickes berömda pubquiz
DESCRIPTION:Nu är det dags igen! \nVår alldeles egna Micke Mathiasson håller i sitt berömda pubquiz. \nOBS: Boka med fördel bord i restaurangen för att just säkra din plats. Boka på mail: info@bastadcamping.se eller tele: 0431 755 11
URL:https://www.bastadcamping.se/event/mickes-beromda-pubquiz-2/
LOCATION:Torget
ATTACH;FMTTYPE=image/jpeg:https://www.bastadcamping.se/wp-content/uploads/2023/05/Micke-Mathiasson.jpg
ORGANIZER;CN="Torget":MAILTO:torget@bastadcamping.se
END:VEVENT
BEGIN:VEVENT
DTSTART;TZID=Europe/Stockholm:20260405T130000
DTEND;TZID=Europe/Stockholm:20260405T150000
DTSTAMP:20260419T172448
CREATED:20260126T094450Z
LAST-MODIFIED:20260126T094450Z
UID:5009-1775394000-1775401200@www.bastadcamping.se
SUMMARY:Korvtunna med rödpölse
DESCRIPTION:Trött på all påskmat? \nNu åker korvtunnan fram och vi laddar den med goda pölser! \nBetalning sker inne i restaurangen.
URL:https://www.bastadcamping.se/event/korvtunna-med-rodpolse-2/
LOCATION:Torget
ATTACH;FMTTYPE=image/jpeg:https://www.bastadcamping.se/wp-content/uploads/2025/07/korvtunna.jpeg
ORGANIZER;CN="Torget":MAILTO:torget@bastadcamping.se
END:VEVENT
BEGIN:VEVENT
DTSTART;TZID=Europe/Stockholm:20260404T190000
DTEND;TZID=Europe/Stockholm:20260404T210000
DTSTAMP:20260419T172448
CREATED:20260126T094146Z
LAST-MODIFIED:20260126T094146Z
UID:5007-1775329200-1775336400@www.bastadcamping.se
SUMMARY:Livequiz med Micke Stark
DESCRIPTION:Micke stark håller i ett underhållande livequiz i restaurangen. \nSå ta något gott att äta eller dricka och slå dig ner i restaurangen för att quiza med oss! \nOBS: Boka med fördel bord innan då platserna är begränsade. Boka via mail: info@bastadcamping.se eller tele: 0431 755 11
URL:https://www.bastadcamping.se/event/livequiz-med-micke-stark/
LOCATION:Torget
ATTACH;FMTTYPE=image/jpeg:https://www.bastadcamping.se/wp-content/uploads/2025/01/IMG_2738-scaled.jpeg
ORGANIZER;CN="Torget":MAILTO:torget@bastadcamping.se
END:VEVENT
BEGIN:VEVENT
DTSTART;TZID=Europe/Stockholm:20260404T130000
DTEND;TZID=Europe/Stockholm:20260404T150000
DTSTAMP:20260419T172448
CREATED:20260126T093233Z
LAST-MODIFIED:20260206T084220Z
UID:5005-1775307600-1775314800@www.bastadcamping.se
SUMMARY:Grillning med hamburgare
DESCRIPTION:Vi ställer upp grillen och erbjuder goda hamburgare. \nBetalning sker inne i restaurangen. \nNjut på uteserveringen i vårsolen med oss!
URL:https://www.bastadcamping.se/event/grillning-med-pulled-pork-burgare-2/
LOCATION:Torget
ATTACH;FMTTYPE=image/jpeg:https://www.bastadcamping.se/wp-content/uploads/2025/07/186264969_4247676831951673_7176992701478653120_n.jpg
ORGANIZER;CN="Torget":MAILTO:torget@bastadcamping.se
END:VEVENT
BEGIN:VEVENT
DTSTART;TZID=Europe/Stockholm:20260404T130000
DTEND;TZID=Europe/Stockholm:20260404T133000
DTSTAMP:20260419T172448
CREATED:20260126T092846Z
LAST-MODIFIED:20260126T092846Z
UID:4997-1775307600-1775309400@www.bastadcamping.se
SUMMARY:Påskakärringsrace!
DESCRIPTION:Ta med dina snabbaste och roligaste vänner och tävla med oss! \nBilda ett lag på 4 medlemmar och klä ut er till påskakärringar. Glöm inte kvasten! (En kvast per lag) \nFint pris utlovas till vinnarna och bäst utklädda lag! \nVi samlas på fotbollsplanen kl. 13:00.
URL:https://www.bastadcamping.se/event/paskakarringsrace/
ATTACH;FMTTYPE=image/jpeg:https://www.bastadcamping.se/wp-content/uploads/2026/01/IMG_6688-1.jpg
END:VEVENT
BEGIN:VEVENT
DTSTART;TZID=Europe/Stockholm:20260404T110000
DTEND;TZID=Europe/Stockholm:20260404T120000
DTSTAMP:20260419T172448
CREATED:20260126T092102Z
LAST-MODIFIED:20260126T092106Z
UID:4995-1775300400-1775304000@www.bastadcamping.se
SUMMARY:Gratis tågtur med Morris
DESCRIPTION:Varmt välkomna att åka med Morris! \nAlla barn åker en gratis tur med vårat turisttåg. Vi kör så länge alla barn som vill har fått åka en runda. \nTåget stannar utanför receptionen för på och avstigning.
URL:https://www.bastadcamping.se/event/gratis-tagtur-med-morris/
ATTACH;FMTTYPE=image/jpeg:https://www.bastadcamping.se/wp-content/uploads/2023/05/image.jpg
END:VEVENT
BEGIN:VEVENT
DTSTART;TZID=Europe/Stockholm:20260404T100000
DTEND;TZID=Europe/Stockholm:20260404T110000
DTSTAMP:20260419T172448
CREATED:20260126T091554Z
LAST-MODIFIED:20260126T091554Z
UID:4993-1775296800-1775300400@www.bastadcamping.se
SUMMARY:Den stora äggjakten
DESCRIPTION:Påskharen har varit på campingen och gömt massor av påskägg! \nVi samlas vid scenen för att starta jakten kl 10:00 Hittar man ett ägg får man ett fint pris i receptionen. \nVarmt välkomna alla barn! \nOBS: Ett ägg per barn.
URL:https://www.bastadcamping.se/event/den-stora-aggjakten/
ATTACH;FMTTYPE=image/jpeg:https://www.bastadcamping.se/wp-content/uploads/2025/01/IMG_3039-scaled.jpeg
END:VEVENT
BEGIN:VEVENT
DTSTART;TZID=Europe/Stockholm:20260403T130000
DTEND;TZID=Europe/Stockholm:20260403T150000
DTSTAMP:20260419T172448
CREATED:20260126T091019Z
LAST-MODIFIED:20260126T091019Z
UID:4988-1775221200-1775228400@www.bastadcamping.se
SUMMARY:Tipspromenad
DESCRIPTION:Utmana familj eller vännerna på vår roliga tipspromenad! Så kom in i receptionen och hämta din svarstallong samt penna. \nFint pris utlovas till den med flest rätt. \nKostnad: 40 kr för vuxen och 20 kr för barn
URL:https://www.bastadcamping.se/event/tipspromenad-2/
ATTACH;FMTTYPE=image/jpeg:https://www.bastadcamping.se/wp-content/uploads/2026/01/tipspromenad.jpg
END:VEVENT
BEGIN:VEVENT
DTSTART;TZID=Europe/Stockholm:20260403T130000
DTEND;TZID=Europe/Stockholm:20260403T150000
DTSTAMP:20260419T172448
CREATED:20260126T090429Z
LAST-MODIFIED:20260126T090429Z
UID:4977-1775221200-1775228400@www.bastadcamping.se
SUMMARY:Bratwurstgrillning
DESCRIPTION:Vi ställer upp grillen och grillar goda bratwurstar. \nTa med vännerna\, familjen och slipp stressen att laga mat och diska. \nVarmt välkomna!
URL:https://www.bastadcamping.se/event/bratwurstgrillning-2/
LOCATION:Torget
ATTACH;FMTTYPE=image/jpeg:https://www.bastadcamping.se/wp-content/uploads/2026/01/Grillade-Bratwurst.jpg
ORGANIZER;CN="Torget":MAILTO:torget@bastadcamping.se
END:VEVENT
BEGIN:VEVENT
DTSTART;TZID=Europe/Stockholm:20260403T100000
DTEND;TZID=Europe/Stockholm:20260403T120000
DTSTAMP:20260419T172448
CREATED:20260126T084158Z
LAST-MODIFIED:20260126T084158Z
UID:4972-1775210400-1775217600@www.bastadcamping.se
SUMMARY:Påskpyssel
DESCRIPTION:Varmt välkomna på påskpyssel! \nDet är helt gratis för alla barn att pyssla med oss. Vi kommer att måla ägg och rita påsk-teckningar. \nVi håller till i uterummet på restaurangen. \nVarmt välkomna! \nObs: Ta med egna hårdkokta ägg.
URL:https://www.bastadcamping.se/event/paskpyssel/
ATTACH;FMTTYPE=image/jpeg:https://www.bastadcamping.se/wp-content/uploads/2026/01/IMG_6991-scaled.jpeg
END:VEVENT
BEGIN:VEVENT
DTSTART;TZID=Europe/Stockholm:20260402T150000
DTEND;TZID=Europe/Stockholm:20260402T170000
DTSTAMP:20260419T172448
CREATED:20260126T082540Z
LAST-MODIFIED:20260202T154108Z
UID:4970-1775142000-1775149200@www.bastadcamping.se
SUMMARY:Josses goda smörrebröd
DESCRIPTION:Smörrebröd för avhämtning \nVälj mellan dessa sorter: \n\nÄgg & räkor\nSpätta med remouladsås\nRostbiff med pepparrot\nSalami och brieost\n\nPris: 169 kr för 3 st \nBeställs senast innan onsdag den 1/4 kl. 12:00. Beställningen görs via mail: info@bastadcamping.se eller tele: 0431 755 11 \nUpphämtning och betalning sker torsdagen den 2/4 mellan kl. 15:00-17:00 i restaurangen. \nVarmt välkomna att starta påsken med oss på bästa möjliga sätt!
URL:https://www.bastadcamping.se/event/josses-goda-smorrebrod/
LOCATION:Torget
ATTACH;FMTTYPE=image/jpeg:https://www.bastadcamping.se/wp-content/uploads/2025/02/smorrebrod.jpg
ORGANIZER;CN="Torget":MAILTO:torget@bastadcamping.se
END:VEVENT
BEGIN:VEVENT
DTSTART;TZID=Europe/Stockholm:20250920T170000
DTEND;TZID=Europe/Stockholm:20250920T230000
DTSTAMP:20260419T172448
CREATED:20250804T112549Z
LAST-MODIFIED:20250829T092856Z
UID:4879-1758387600-1758409200@www.bastadcamping.se
SUMMARY:Säsongsavslutning i restaurangen
DESCRIPTION:Varmt välkomna på säsongsavslutning i restaurangen! \nVi lovar bra pris på mat och dryck. Vi har även vår hus-trubadur Uffe vid gitarren för att skapa en riktigt god stämning! Så ta med vännerna och familjen och njut tillsammans med oss på Båstad Camping. \nPS: Glöm inte att boka bord i restaurangen på info@bastadcamping.se eller 0431 755 11
URL:https://www.bastadcamping.se/event/sasongsavslutning-i-restaurangen-2/
LOCATION:Torget
ATTACH;FMTTYPE=image/jpeg:https://www.bastadcamping.se/wp-content/uploads/2024/03/IMG_5206.jpeg
ORGANIZER;CN="Torget":MAILTO:torget@bastadcamping.se
END:VEVENT
BEGIN:VEVENT
DTSTART;TZID=Europe/Stockholm:20250919T170000
DTEND;TZID=Europe/Stockholm:20250919T190000
DTSTAMP:20260419T172448
CREATED:20250804T123211Z
LAST-MODIFIED:20250804T123211Z
UID:4891-1758301200-1758308400@www.bastadcamping.se
SUMMARY:After work
DESCRIPTION:Avsluta arbetsveckan med oss på Båstad Camping. \nMellan 17:00 till 19:00 har vi bra priser på mat och dryck. \nSpela en runda biljard eller bara häng i restaurangen med goda vänner. \nVi ses på restaurang Torget på Båstad Camping. \nPS: Glöm inte att boka bord för att säkra din plats. Bokning via mail: info@bastadcamping.se eller telefon: 0431-755 11
URL:https://www.bastadcamping.se/event/after-work-14/
LOCATION:Torget
ATTACH;FMTTYPE=image/jpeg:https://www.bastadcamping.se/wp-content/uploads/2023/05/pexels-tembela-bohle-1089930-scaled.jpg
ORGANIZER;CN="Torget":MAILTO:torget@bastadcamping.se
END:VEVENT
BEGIN:VEVENT
DTSTART;TZID=Europe/Stockholm:20250913T170000
DTEND;TZID=Europe/Stockholm:20250913T230000
DTSTAMP:20260419T172448
CREATED:20250716T132204Z
LAST-MODIFIED:20250804T112232Z
UID:4840-1757782800-1757804400@www.bastadcamping.se
SUMMARY:Oktoberfest
DESCRIPTION:Varmt välkomna på Oktoberfest den 13/9! \nNu bjuder vi in till en härlig kväll i sann Byersk anda. \nPS: Glöm inte att boka bord i restaurangen på info@bastadcamping.se eller 0431 755 11
URL:https://www.bastadcamping.se/event/oktoberfest-2/
LOCATION:Torget
ATTACH;FMTTYPE=application/pdf:https://www.bastadcamping.se/wp-content/uploads/2025/07/oktoberfest-1.pdf
ORGANIZER;CN="Torget":MAILTO:torget@bastadcamping.se
END:VEVENT
BEGIN:VEVENT
DTSTART;TZID=Europe/Stockholm:20250912T170000
DTEND;TZID=Europe/Stockholm:20250912T190000
DTSTAMP:20260419T172448
CREATED:20250804T123054Z
LAST-MODIFIED:20250804T123054Z
UID:4889-1757696400-1757703600@www.bastadcamping.se
SUMMARY:After work
DESCRIPTION:Avsluta arbetsveckan med oss på Båstad Camping. \nMellan 17:00 till 19:00 har vi bra priser på mat och dryck. \nSpela en runda biljard eller bara häng i restaurangen med goda vänner. \nVi ses på restaurang Torget på Båstad Camping. \nPS: Glöm inte att boka bord för att säkra din plats. Bokning via mail: info@bastadcamping.se eller telefon: 0431-755 11
URL:https://www.bastadcamping.se/event/after-work-13/
LOCATION:Torget
ATTACH;FMTTYPE=image/jpeg:https://www.bastadcamping.se/wp-content/uploads/2023/05/pexels-tembela-bohle-1089930-scaled.jpg
ORGANIZER;CN="Torget":MAILTO:torget@bastadcamping.se
END:VEVENT
BEGIN:VEVENT
DTSTART;TZID=Europe/Stockholm:20250906T160000
DTEND;TZID=Europe/Stockholm:20250906T173000
DTSTAMP:20260419T172448
CREATED:20250804T110713Z
LAST-MODIFIED:20250804T110713Z
UID:4872-1757174400-1757179800@www.bastadcamping.se
SUMMARY:Mickes berömda Pubquiz
DESCRIPTION:Yes\, nu spetsar vi geniknölarna igen och quizar tillsammans! \nVår fantastiska Micke håller i spakarna. Är det kanske just du som kan titulera dig som vinnare? \nPS: Glöm inte att boka bord i restaurangen på info@bastadcamping.se eller 0431 755 11 \nVi ses på Båstad Camping!
URL:https://www.bastadcamping.se/event/mickes-beromda-pubquiz/
LOCATION:Torget
ATTACH;FMTTYPE=image/jpeg:https://www.bastadcamping.se/wp-content/uploads/2023/05/Micke-Mathiasson.jpg
ORGANIZER;CN="Torget":MAILTO:torget@bastadcamping.se
END:VEVENT
BEGIN:VEVENT
DTSTART;TZID=Europe/Stockholm:20250906T130000
DTEND;TZID=Europe/Stockholm:20250906T150000
DTSTAMP:20260419T172448
CREATED:20250829T064554Z
LAST-MODIFIED:20250829T064554Z
UID:4932-1757163600-1757170800@www.bastadcamping.se
SUMMARY:Grillning på Torget
DESCRIPTION:Vi ställer upp grillen mellan kl 13-15. \nVarmt välkomna att njuta av en god lunch tillsammans med oss!
URL:https://www.bastadcamping.se/event/grillning-pa-torget-2/
LOCATION:Torget
ATTACH;FMTTYPE=image/jpeg:https://www.bastadcamping.se/wp-content/uploads/2025/06/IMG_2678-scaled.jpeg
ORGANIZER;CN="Torget":MAILTO:torget@bastadcamping.se
END:VEVENT
BEGIN:VEVENT
DTSTART;TZID=Europe/Stockholm:20250905T170000
DTEND;TZID=Europe/Stockholm:20250905T190000
DTSTAMP:20260419T172448
CREATED:20250804T122932Z
LAST-MODIFIED:20250804T122932Z
UID:4887-1757091600-1757098800@www.bastadcamping.se
SUMMARY:After work
DESCRIPTION:Avsluta arbetsveckan med oss på Båstad Camping. \nMellan 17:00 till 19:00 har vi bra priser på mat och dryck. \nSpela en runda biljard eller bara häng i restaurangen med goda vänner. \nVi ses på restaurang Torget på Båstad Camping. \nPS: Glöm inte att boka bord för att säkra din plats. Bokning via mail: info@bastadcamping.se eller telefon: 0431-755 11
URL:https://www.bastadcamping.se/event/after-work-12/
LOCATION:Torget
ATTACH;FMTTYPE=image/jpeg:https://www.bastadcamping.se/wp-content/uploads/2023/05/pexels-tembela-bohle-1089930-scaled.jpg
ORGANIZER;CN="Torget":MAILTO:torget@bastadcamping.se
END:VEVENT
BEGIN:VEVENT
DTSTART;TZID=Europe/Stockholm:20250830T190000
DTEND;TZID=Europe/Stockholm:20250830T210000
DTSTAMP:20260419T172448
CREATED:20250811T123916Z
LAST-MODIFIED:20250811T123916Z
UID:4913-1756580400-1756587600@www.bastadcamping.se
SUMMARY:Musikbingo med Uffe
DESCRIPTION:Välkomna på ett roligt musikbingo i restaurangen! \nKom med vänner och familjen och spela bingo tillsammans. Det är helt gratis att delta och ett pris utlovas till vinnaren. \nPS: Glöm inte att boka bord i restaurangen på info@bastadcamping.se eller 0431 755 11 \nVi ses på Båstad Camping!
URL:https://www.bastadcamping.se/event/musikbingo-med-uffe/
LOCATION:Torget
ATTACH;FMTTYPE=image/jpeg:https://www.bastadcamping.se/wp-content/uploads/2025/01/IMG_2738-scaled.jpeg
ORGANIZER;CN="Torget":MAILTO:torget@bastadcamping.se
END:VEVENT
BEGIN:VEVENT
DTSTART;TZID=Europe/Stockholm:20250830T130000
DTEND;TZID=Europe/Stockholm:20250830T150000
DTSTAMP:20260419T172448
CREATED:20250829T064421Z
LAST-MODIFIED:20250829T064421Z
UID:4930-1756558800-1756566000@www.bastadcamping.se
SUMMARY:Grillning på Torget
DESCRIPTION:Vi ställer upp grillen mellan kl 13-15. \nVarmt välkomna att njuta av en god lunch tillsammans med oss!
URL:https://www.bastadcamping.se/event/grillning-pa-torget/
LOCATION:Torget
ATTACH;FMTTYPE=image/jpeg:https://www.bastadcamping.se/wp-content/uploads/2025/06/IMG_2678-scaled.jpeg
ORGANIZER;CN="Torget":MAILTO:torget@bastadcamping.se
END:VEVENT
BEGIN:VEVENT
DTSTART;TZID=Europe/Stockholm:20250829T170000
DTEND;TZID=Europe/Stockholm:20250829T190000
DTSTAMP:20260419T172448
CREATED:20250804T122741Z
LAST-MODIFIED:20250804T122741Z
UID:4885-1756486800-1756494000@www.bastadcamping.se
SUMMARY:After work
DESCRIPTION:Avsluta arbetsveckan med oss på Båstad Camping. \nMellan 17:00 till 19:00 har vi bra priser på mat och dryck. \nSpela en runda biljard eller bara häng i restaurangen med goda vänner. \nVi ses på restaurang Torget på Båstad Camping. \nPS: Glöm inte att boka bord för att säkra din plats. Bokning via mail: info@bastadcamping.se eller telefon: 0431-755 11
URL:https://www.bastadcamping.se/event/after-work-11/
LOCATION:Torget
ATTACH;FMTTYPE=image/jpeg:https://www.bastadcamping.se/wp-content/uploads/2023/05/pexels-tembela-bohle-1089930-scaled.jpg
ORGANIZER;CN="Torget":MAILTO:torget@bastadcamping.se
END:VEVENT
BEGIN:VEVENT
DTSTART;TZID=Europe/Stockholm:20250823T170000
DTEND;TZID=Europe/Stockholm:20250823T220000
DTSTAMP:20260419T172448
CREATED:20250804T110047Z
LAST-MODIFIED:20250804T110047Z
UID:4867-1755968400-1755986400@www.bastadcamping.se
SUMMARY:Italiensk afton
DESCRIPTION:Buongiorno á tutti! \nVarmt välkomna på en härlig Italiensk afton i restaurangen. \nVi kör italiensk musik och har en fantastisk 3-rätters meny för bara 399 kr! \nTa med er vännerna eller familjen och njut tillsammans med oss på Båstad Camping. \nPS: Glöm inte att boka bord i restaurangen på info@bastadcamping.se eller 0431 755 11
URL:https://www.bastadcamping.se/event/italiensk-afton/
LOCATION:Torget
ATTACH;FMTTYPE=application/pdf:https://www.bastadcamping.se/wp-content/uploads/2025/08/meny.pdf
ORGANIZER;CN="Torget":MAILTO:torget@bastadcamping.se
END:VEVENT
BEGIN:VEVENT
DTSTART;TZID=Europe/Stockholm:20250822T170000
DTEND;TZID=Europe/Stockholm:20250822T190000
DTSTAMP:20260419T172448
CREATED:20250804T113329Z
LAST-MODIFIED:20250804T113329Z
UID:4883-1755882000-1755889200@www.bastadcamping.se
SUMMARY:After work
DESCRIPTION:Avsluta arbetsveckan med oss på Båstad Camping. \nMellan 17:00 till 19:00 har vi bra priser på mat och dryck. \nSpela en runda biljard eller bara häng i restaurangen med goda vänner. \nVi ses på restaurang Torget på Båstad Camping. \nPS: Glöm inte att boka bord för att säkra din plats. Bokning via mail: info@bastadcamping.se eller telefon: 0431-755 11
URL:https://www.bastadcamping.se/event/after-work-10/
LOCATION:Torget
ATTACH;FMTTYPE=image/jpeg:https://www.bastadcamping.se/wp-content/uploads/2023/05/pexels-tembela-bohle-1089930-scaled.jpg
ORGANIZER;CN="Torget":MAILTO:torget@bastadcamping.se
END:VEVENT
BEGIN:VEVENT
DTSTART;TZID=Europe/Stockholm:20250816T180000
DTEND;TZID=Europe/Stockholm:20250816T220000
DTSTAMP:20260419T172448
CREATED:20250717T085428Z
LAST-MODIFIED:20250717T085428Z
UID:4845-1755367200-1755381600@www.bastadcamping.se
SUMMARY:Karaoke
DESCRIPTION:Varmt välkomna igen säger vi till Klippans karaoke! \nVärm upp stämbanden och sjung just din favoritlåt.
URL:https://www.bastadcamping.se/event/karaoke/
LOCATION:Torget
ATTACH;FMTTYPE=image/jpeg:https://www.bastadcamping.se/wp-content/uploads/2023/06/pexels-koolshooters-6983014.jpg
ORGANIZER;CN="Torget":MAILTO:torget@bastadcamping.se
END:VEVENT
BEGIN:VEVENT
DTSTART;TZID=Europe/Stockholm:20250815T170000
DTEND;TZID=Europe/Stockholm:20250815T190000
DTSTAMP:20260419T172448
CREATED:20250804T113133Z
LAST-MODIFIED:20250804T113133Z
UID:4881-1755277200-1755284400@www.bastadcamping.se
SUMMARY:After work
DESCRIPTION:Avsluta arbetsveckan med oss på Båstad Camping. \nMellan 17:00 till 19:00 har vi bra priser på mat och dryck. \nSpela en runda biljard eller bara häng i restaurangen med goda vänner. \nVi ses på restaurang Torget på Båstad Camping. \nPS: Glöm inte att boka bord för att säkra din plats. Bokning via mail: info@bastadcamping.se eller telefon: 0431-755 11
URL:https://www.bastadcamping.se/event/after-work-9/
LOCATION:Torget
ATTACH;FMTTYPE=image/jpeg:https://www.bastadcamping.se/wp-content/uploads/2023/05/pexels-tembela-bohle-1089930-scaled.jpg
ORGANIZER;CN="Torget":MAILTO:torget@bastadcamping.se
END:VEVENT
BEGIN:VEVENT
DTSTART;TZID=Europe/Stockholm:20250813T173000
DTEND;TZID=Europe/Stockholm:20250813T180000
DTSTAMP:20260419T172448
CREATED:20250507T130530Z
LAST-MODIFIED:20250507T130530Z
UID:4697-1755106200-1755108000@www.bastadcamping.se
SUMMARY:Utomhusträning med Friskis & Svettis
DESCRIPTION:Välkommen på gratis utomhusträning med Friskis & Svettis! \nVi kör varje måndag och onsdag kl 17:30\, från v.26 till 33 och det är helt gratis att delta. \nInstruktörerna kommer att antingen hålla i Jympa eller Multifys soft. läs nedan för vad det innebär. \n\nFriskis Jympa är energifylld träning med stor variation där du jobbar med kroppen som belastning. Fokus ligger på upplevelsen där musiken förstärker rörelsernas karaktär.\nPå Multifys soft får du ostressad fysträning utan konstigheter. Perfekt för dig som är ny\, vill komma igång med träningen eller för dig som vill ha återhämtning efter tuffa träningsutmaningar.\n\n  \nVarmt välkomna för en hälsosam sommar på Båstad Camping!
URL:https://www.bastadcamping.se/event/utomhustraning-med-friskis-svettis-16/
ATTACH;FMTTYPE=image/png:https://www.bastadcamping.se/wp-content/uploads/2025/05/friskis-och-svettis-bild.png
END:VEVENT
BEGIN:VEVENT
DTSTART;TZID=Europe/Stockholm:20250811T173000
DTEND;TZID=Europe/Stockholm:20250811T183000
DTSTAMP:20260419T172448
CREATED:20250507T130355Z
LAST-MODIFIED:20250507T130355Z
UID:4695-1754933400-1754937000@www.bastadcamping.se
SUMMARY:Utomhusträning med Friskis & Svettis
DESCRIPTION:Välkommen på gratis utomhusträning med Friskis & Svettis! \nVi kör varje måndag och onsdag kl 17:30\, från v.26 till 33 och det är helt gratis att delta. \nInstruktörerna kommer att antingen hålla i Jympa eller Multifys soft. läs nedan för vad det innebär. \n\nFriskis Jympa är energifylld träning med stor variation där du jobbar med kroppen som belastning. Fokus ligger på upplevelsen där musiken förstärker rörelsernas karaktär.\nPå Multifys soft får du ostressad fysträning utan konstigheter. Perfekt för dig som är ny\, vill komma igång med träningen eller för dig som vill ha återhämtning efter tuffa träningsutmaningar.\n\n  \nVarmt välkomna för en hälsosam sommar på Båstad Camping!
URL:https://www.bastadcamping.se/event/utomhustraning-med-friskis-svettis-15/
ATTACH;FMTTYPE=image/png:https://www.bastadcamping.se/wp-content/uploads/2025/05/friskis-och-svettis-bild.png
END:VEVENT
END:VCALENDAR