BEGIN:VCALENDAR
VERSION:2.0
PRODID:-//Båstad Camping - ECPv6.15.20//NONSGML v1.0//EN
CALSCALE:GREGORIAN
METHOD:PUBLISH
X-ORIGINAL-URL:https://www.bastadcamping.se/en/
X-WR-CALDESC:Events for Båstad Camping
REFRESH-INTERVAL;VALUE=DURATION:PT1H
X-Robots-Tag:noindex
X-PUBLISHED-TTL:PT1H
BEGIN:VTIMEZONE
TZID:Europe/Stockholm
BEGIN:DAYLIGHT
TZOFFSETFROM:+0100
TZOFFSETTO:+0200
TZNAME:CEST
DTSTART:20220327T010000
END:DAYLIGHT
BEGIN:STANDARD
TZOFFSETFROM:+0200
TZOFFSETTO:+0100
TZNAME:CET
DTSTART:20221030T010000
END:STANDARD
BEGIN:DAYLIGHT
TZOFFSETFROM:+0100
TZOFFSETTO:+0200
TZNAME:CEST
DTSTART:20230326T010000
END:DAYLIGHT
BEGIN:STANDARD
TZOFFSETFROM:+0200
TZOFFSETTO:+0100
TZNAME:CET
DTSTART:20231029T010000
END:STANDARD
BEGIN:DAYLIGHT
TZOFFSETFROM:+0100
TZOFFSETTO:+0200
TZNAME:CEST
DTSTART:20240331T010000
END:DAYLIGHT
BEGIN:STANDARD
TZOFFSETFROM:+0200
TZOFFSETTO:+0100
TZNAME:CET
DTSTART:20241027T010000
END:STANDARD
END:VTIMEZONE
BEGIN:VEVENT
DTSTART;TZID=Europe/Stockholm:20230715T130000
DTEND;TZID=Europe/Stockholm:20230715T150000
DTSTAMP:20260422T135020
CREATED:20230712T115224Z
LAST-MODIFIED:20230712T115224Z
UID:3199-1689426000-1689433200@www.bastadcamping.se
SUMMARY:Paella lunch in the square
DESCRIPTION:On Saturday we bring out the muurikkan and serve paella in the square between 13:00-15:00. \nPrice: 149 kr
URL:https://www.bastadcamping.se/en/event/paella-lunch-in-the-square/
ATTACH;FMTTYPE=image/jpeg:https://www.bastadcamping.se/wp-content/uploads/2023/07/pexels-stefanie-baeskau-10750986.jpg
END:VEVENT
BEGIN:VEVENT
DTSTART;TZID=Europe/Stockholm:20230714T190000
DTEND;TZID=Europe/Stockholm:20230714T190000
DTSTAMP:20260422T135020
CREATED:20230710T125006Z
LAST-MODIFIED:20230710T125006Z
UID:3192-1689361200-1689361200@www.bastadcamping.se
SUMMARY:Live music with Uffe
DESCRIPTION:Live music with Uffe on the square
URL:https://www.bastadcamping.se/en/event/live-music-with-uffe-3/
ATTACH;FMTTYPE=image/jpeg:https://www.bastadcamping.se/wp-content/uploads/2023/05/uffe.jpeg
END:VEVENT
BEGIN:VEVENT
DTSTART;TZID=Europe/Stockholm:20230714T150000
DTEND;TZID=Europe/Stockholm:20230714T170000
DTSTAMP:20260422T135020
CREATED:20230620T115620Z
LAST-MODIFIED:20230808T101356Z
UID:3173-1689346800-1689354000@www.bastadcamping.se
SUMMARY:Space test
DESCRIPTION:Space test with Anders Strand in the square. \nPlease register via info@bastadcamping.se no later than July 13. Maximum 30 participants.
URL:https://www.bastadcamping.se/en/event/space-test/
ATTACH;FMTTYPE=image/jpeg:https://www.bastadcamping.se/wp-content/uploads/2023/05/pexels-anna-pyshniuk-7799797-scaled.jpg
END:VEVENT
BEGIN:VEVENT
DTSTART;TZID=Europe/Stockholm:20230713T170000
DTEND;TZID=Europe/Stockholm:20230713T170000
DTSTAMP:20260422T135020
CREATED:20230620T114845Z
LAST-MODIFIED:20230808T101351Z
UID:3166-1689267600-1689267600@www.bastadcamping.se
SUMMARY:Shrimp gluttony
DESCRIPTION:Come and enjoy an unlimited supply of succulent prawns and accompaniments with friends and family.\n\nDate: Thursday\, July 13\nTime: from 17:00\nLocation: Restaurant Torget\nPrice: 269 kr\n\nTo ensure that everyone gets a place at the party\, you need to pre-book by July 11 to torget@bastadcamping.se or 0431 75511.\n\nA warm\, warm welcome as always!
URL:https://www.bastadcamping.se/en/event/shrimp-gluttony/
ATTACH;FMTTYPE=image/jpeg:https://www.bastadcamping.se/wp-content/uploads/2023/06/pexels-terje-sollie-566344.jpg
END:VEVENT
BEGIN:VEVENT
DTSTART;TZID=Europe/Stockholm:20230708T150000
DTEND;TZID=Europe/Stockholm:20230708T160000
DTSTAMP:20260422T135020
CREATED:20230620T094658Z
LAST-MODIFIED:20230620T094658Z
UID:3149-1688828400-1688832000@www.bastadcamping.se
SUMMARY:Medical Yoga
DESCRIPTION:Medical Yoga with Nicolin. \nA simple form of yoga with a focus on breathing\, movement and awareness. Can be done both on the ground or sitting on a chair. \nBring your own mat/blanket or chair. \n75 kr or 270 kr for a weekly session with free training.
URL:https://www.bastadcamping.se/en/event/medical-yoga-3/
ATTACH;FMTTYPE=image/jpeg:https://www.bastadcamping.se/wp-content/uploads/2023/06/pexels-rdne-stock-project-8173554.jpg
END:VEVENT
BEGIN:VEVENT
DTSTART;TZID=Europe/Stockholm:20230707T190000
DTEND;TZID=Europe/Stockholm:20230707T190000
DTSTAMP:20260422T135020
CREATED:20230705T121938Z
LAST-MODIFIED:20230705T121938Z
UID:3197-1688756400-1688756400@www.bastadcamping.se
SUMMARY:Live music with Peace Dance
DESCRIPTION:Live music with Peace Dance in the Square
URL:https://www.bastadcamping.se/en/event/live-music-with-peace-dance-2/
ATTACH;FMTTYPE=image/jpeg:https://www.bastadcamping.se/wp-content/uploads/2023/05/341607598_214168024644865_4331522761682885683_n.jpg
END:VEVENT
BEGIN:VEVENT
DTSTART;TZID=Europe/Stockholm:20230707T140000
DTEND;TZID=Europe/Stockholm:20230707T150000
DTSTAMP:20260422T135020
CREATED:20230620T114124Z
LAST-MODIFIED:20230808T101359Z
UID:3177-1688738400-1688742000@www.bastadcamping.se
SUMMARY:QiGong
DESCRIPTION:QiGong with Manuela \n75 kr or 270 kr for a weekly free training session
URL:https://www.bastadcamping.se/en/event/qigong/
ATTACH;FMTTYPE=image/jpeg:https://www.bastadcamping.se/wp-content/uploads/2023/06/Screenshot-2023-06-20-at-13.40.09.jpg
END:VEVENT
BEGIN:VEVENT
DTSTART;TZID=Europe/Stockholm:20230707T110000
DTEND;TZID=Europe/Stockholm:20230707T120000
DTSTAMP:20260422T135020
CREATED:20230620T112533Z
LAST-MODIFIED:20230808T101351Z
UID:3170-1688727600-1688731200@www.bastadcamping.se
SUMMARY:Workshop - Self-care Lymphatic System
DESCRIPTION:Self-care workshop – About the lymphatic system and lymphatic massage with Manuela. If you are a person who suffers from headaches/migraines or pain in the arms and legs\, this is for you! \n75 kr or 270 kr for a weekly session with free training.
URL:https://www.bastadcamping.se/en/event/workshop-self-care-lymphatic-system/
ATTACH;FMTTYPE=image/jpeg:https://www.bastadcamping.se/wp-content/uploads/2023/06/pexels-rdne-stock-project-6724456.jpg
END:VEVENT
BEGIN:VEVENT
DTSTART;TZID=Europe/Stockholm:20230707T090000
DTEND;TZID=Europe/Stockholm:20230707T100000
DTSTAMP:20260422T135020
CREATED:20230620T101503Z
LAST-MODIFIED:20230808T101334Z
UID:3159-1688720400-1688724000@www.bastadcamping.se
SUMMARY:Children's gymnastics
DESCRIPTION:Children’s gym on the football pitch with dance and music
URL:https://www.bastadcamping.se/en/event/childrens-gymnastics/
ATTACH;FMTTYPE=image/jpeg:https://www.bastadcamping.se/wp-content/uploads/2023/06/IMG_3819-e1687256054835.jpeg
END:VEVENT
BEGIN:VEVENT
DTSTART;TZID=Europe/Stockholm:20230706T090000
DTEND;TZID=Europe/Stockholm:20230706T094500
DTSTAMP:20260422T135020
CREATED:20230620T095039Z
LAST-MODIFIED:20230620T095039Z
UID:3152-1688634000-1688636700@www.bastadcamping.se
SUMMARY:Circular gymnastics
DESCRIPTION:Circuit training with Isac on the football field \n  \n75 or 270 for a weekly free training session
URL:https://www.bastadcamping.se/en/event/circular-gymnastics-2/
ATTACH;FMTTYPE=image/jpeg:https://www.bastadcamping.se/wp-content/uploads/2023/05/169-9820-2-scaled.jpg
END:VEVENT
BEGIN:VEVENT
DTSTART;TZID=Europe/Stockholm:20230705T150000
DTEND;TZID=Europe/Stockholm:20230705T160000
DTSTAMP:20260422T135020
CREATED:20230620T094534Z
LAST-MODIFIED:20230620T094534Z
UID:3140-1688569200-1688572800@www.bastadcamping.se
SUMMARY:Medical Yoga
DESCRIPTION:Medical Yoga with Nicolin. \nA simple form of yoga with a focus on breathing\, movement and awareness. Can be done both on the ground or sitting on a chair. \nBring your own mat/blanket or chair. \n75 kr or 270 kr for a weekly session with free training.
URL:https://www.bastadcamping.se/en/event/medical-yoga-2/
ATTACH;FMTTYPE=image/jpeg:https://www.bastadcamping.se/wp-content/uploads/2023/06/pexels-rdne-stock-project-8173554.jpg
END:VEVENT
BEGIN:VEVENT
DTSTART;TZID=Europe/Stockholm:20230705T090000
DTEND;TZID=Europe/Stockholm:20230705T094500
DTSTAMP:20260422T135020
CREATED:20230620T094901Z
LAST-MODIFIED:20230620T094901Z
UID:3138-1688547600-1688550300@www.bastadcamping.se
SUMMARY:Circular gymnastics
DESCRIPTION:Circuit training with Isac on the football field \n  \n75 kr or 270 kr for a weekly free training session
URL:https://www.bastadcamping.se/en/event/circular-gymnastics/
ATTACH;FMTTYPE=image/jpeg:https://www.bastadcamping.se/wp-content/uploads/2023/05/169-9820-2-scaled.jpg
END:VEVENT
BEGIN:VEVENT
DTSTART;TZID=Europe/Stockholm:20230704T150000
DTEND;TZID=Europe/Stockholm:20230704T160000
DTSTAMP:20260422T135020
CREATED:20230620T094420Z
LAST-MODIFIED:20230620T094420Z
UID:3125-1688482800-1688486400@www.bastadcamping.se
SUMMARY:Medical Yoga
DESCRIPTION:Medical Yoga with Nicolin. \nA simple form of yoga with a focus on breathing\, movement and awareness. Can be done both on the ground or sitting on a chair. \nBring your own mat/blanket or chair. \n75 kr or 270 kr for a weekly session with free training.
URL:https://www.bastadcamping.se/en/event/medical-yoga/
ATTACH;FMTTYPE=image/jpeg:https://www.bastadcamping.se/wp-content/uploads/2023/06/pexels-rdne-stock-project-8173554.jpg
END:VEVENT
BEGIN:VEVENT
DTSTART;TZID=Europe/Stockholm:20230704T100000
DTEND;TZID=Europe/Stockholm:20230704T104500
DTSTAMP:20260422T135020
CREATED:20230703T124804Z
LAST-MODIFIED:20230703T124804Z
UID:3184-1688464800-1688467500@www.bastadcamping.se
SUMMARY:Dance aerobics
DESCRIPTION:Dance-Aerobics with Maria on the football field \n  \n75kr/pass \n270kr/weekly session with free training
URL:https://www.bastadcamping.se/en/event/dance-aerobics-2/
END:VEVENT
BEGIN:VEVENT
DTSTART;TZID=Europe/Stockholm:20230704T090000
DTEND;TZID=Europe/Stockholm:20230704T094500
DTSTAMP:20260422T135020
CREATED:20230620T080727Z
LAST-MODIFIED:20230620T080727Z
UID:3168-1688461200-1688463900@www.bastadcamping.se
SUMMARY:Tabata strength
DESCRIPTION:Tabata strength (heart rate raising + strength) with Maria on the football field \n75 or 279 for weekly sessions with free training.
URL:https://www.bastadcamping.se/en/event/tabata-strength-2/
ATTACH;FMTTYPE=image/jpeg:https://www.bastadcamping.se/wp-content/uploads/2023/05/169-9820-2-scaled.jpg
END:VEVENT
BEGIN:VEVENT
DTSTART;TZID=Europe/Stockholm:20230703T150000
DTEND;TZID=Europe/Stockholm:20230703T154500
DTSTAMP:20260422T135020
CREATED:20230620T080124Z
LAST-MODIFIED:20230620T080124Z
UID:3134-1688396400-1688399100@www.bastadcamping.se
SUMMARY:Tabata strength
DESCRIPTION:Tabata strength with Maria on the football field. \n\n\n75 kr or 270 kr for a weekly session with free training.
URL:https://www.bastadcamping.se/en/event/tabata-strength/
ATTACH;FMTTYPE=image/jpeg:https://www.bastadcamping.se/wp-content/uploads/2023/05/169-9820-2-scaled.jpg
END:VEVENT
BEGIN:VEVENT
DTSTART;TZID=Europe/Stockholm:20230703T140000
DTEND;TZID=Europe/Stockholm:20230703T144500
DTSTAMP:20260422T135020
CREATED:20230620T075840Z
LAST-MODIFIED:20230620T075840Z
UID:3150-1688392800-1688395500@www.bastadcamping.se
SUMMARY:Dance aerobics
DESCRIPTION:Dance aerobics with Maria on the football field. \n  \n75 kr or 270 kr for a weekly session with free training.
URL:https://www.bastadcamping.se/en/event/dance-aerobics/
ATTACH;FMTTYPE=image/jpeg:https://www.bastadcamping.se/wp-content/uploads/2023/05/169-9820-2-scaled.jpg
END:VEVENT
BEGIN:VEVENT
DTSTART;VALUE=DATE:20230703
DTEND;VALUE=DATE:20230710
DTSTAMP:20260422T135020
CREATED:20230607T055648Z
LAST-MODIFIED:20230607T055648Z
UID:3148-1688342400-1688947199@www.bastadcamping.se
SUMMARY:Health Week
DESCRIPTION:For the first time\, we invite you to a whole week of health activities. Join us for everything from circuit training to aerobics\, medical yoga and workshops on self-care and lymphatic massage. \nSee the detailed schedule in the events calendar. \nIndividual passes: 75 kr\nWeekly sessions: 270 kr (all training included)
URL:https://www.bastadcamping.se/en/event/health-week/
ATTACH;FMTTYPE=image/jpeg:https://www.bastadcamping.se/wp-content/uploads/2023/05/169-9820-2-scaled.jpg
END:VEVENT
BEGIN:VEVENT
DTSTART;TZID=Europe/Stockholm:20230701T190000
DTEND;TZID=Europe/Stockholm:20230701T190000
DTSTAMP:20260422T135020
CREATED:20230620T074925Z
LAST-MODIFIED:20230620T074925Z
UID:3141-1688238000-1688238000@www.bastadcamping.se
SUMMARY:Live music with Uffe
DESCRIPTION:Live music with Uffe on the square
URL:https://www.bastadcamping.se/en/event/live-music-with-uffe-2/
ATTACH;FMTTYPE=image/jpeg:https://www.bastadcamping.se/wp-content/uploads/2023/05/uffe.jpeg
END:VEVENT
BEGIN:VEVENT
DTSTART;TZID=Europe/Stockholm:20230630T190000
DTEND;TZID=Europe/Stockholm:20230630T213000
DTSTAMP:20260422T135020
CREATED:20230620T074630Z
LAST-MODIFIED:20230620T074630Z
UID:3127-1688151600-1688160600@www.bastadcamping.se
SUMMARY:Irish Evening
DESCRIPTION:A favorite on repeat! The Irish duo is back. We welcome Dun Aengus to the stage!
URL:https://www.bastadcamping.se/en/event/irish-evening/
ATTACH;FMTTYPE=image/jpeg:https://www.bastadcamping.se/wp-content/uploads/2023/05/289791106_5536009516451725_7794715299356733971_n.jpg
END:VEVENT
BEGIN:VEVENT
DTSTART;TZID=Europe/Stockholm:20230624T190000
DTEND;TZID=Europe/Stockholm:20230624T190000
DTSTAMP:20260422T135020
CREATED:20230611T080847Z
LAST-MODIFIED:20230611T080847Z
UID:3146-1687633200-1687633200@www.bastadcamping.se
SUMMARY:Live music with Chris Duraffourd
DESCRIPTION:Live music with Chris Duraffourd on the square
URL:https://www.bastadcamping.se/en/event/live-music-with-chris-duraffourd/
ATTACH;FMTTYPE=image/jpeg:https://www.bastadcamping.se/wp-content/uploads/2023/06/18119520_1625106874183493_206436058050952546_n.jpg
END:VEVENT
BEGIN:VEVENT
DTSTART;TZID=Europe/Stockholm:20230623T150000
DTEND;TZID=Europe/Stockholm:20230623T160000
DTSTAMP:20260422T135020
CREATED:20230611T130034Z
LAST-MODIFIED:20230808T101224Z
UID:3160-1687532400-1687536000@www.bastadcamping.se
SUMMARY:Wandering gig with Uffe
DESCRIPTION:
URL:https://www.bastadcamping.se/en/event/wandering-gig-with-uffe-2/
ATTACH;FMTTYPE=image/jpeg:https://www.bastadcamping.se/wp-content/uploads/2023/05/uffe.jpeg
END:VEVENT
BEGIN:VEVENT
DTSTART;TZID=Europe/Stockholm:20230623T140000
DTEND;TZID=Europe/Stockholm:20230623T150000
DTSTAMP:20260422T135020
CREATED:20230611T075951Z
LAST-MODIFIED:20230611T075951Z
UID:3142-1687528800-1687532400@www.bastadcamping.se
SUMMARY:Raising the midsummer pole
DESCRIPTION:We walk down from service house 2 through the campsite down to the football field where we raise the midsummer pole followed by dancing and singing.
URL:https://www.bastadcamping.se/en/event/raising-the-midsummer-pole/
ATTACH;FMTTYPE=image/jpeg:https://www.bastadcamping.se/wp-content/uploads/2023/05/B53BF9D5-B8B7-42FF-9707-6FB7BE9362F7.jpeg
END:VEVENT
BEGIN:VEVENT
DTSTART;TZID=Europe/Stockholm:20230623T103000
DTEND;TZID=Europe/Stockholm:20230623T103000
DTSTAMP:20260422T135020
CREATED:20230611T074804Z
LAST-MODIFIED:20230611T074804Z
UID:3126-1687516200-1687516200@www.bastadcamping.se
SUMMARY:Midsummer celebrations - dressing the midsummer pole
DESCRIPTION:We meet at service house 2 and decorate the midsummer pole together.
URL:https://www.bastadcamping.se/en/event/midsummer-celebrations-dressing-the-midsummer-pole/
ATTACH;FMTTYPE=image/jpeg:https://www.bastadcamping.se/wp-content/uploads/2023/05/B53BF9D5-B8B7-42FF-9707-6FB7BE9362F7.jpeg
END:VEVENT
BEGIN:VEVENT
DTSTART;TZID=Europe/Stockholm:20230617T180000
DTEND;TZID=Europe/Stockholm:20230617T200000
DTSTAMP:20260422T135020
CREATED:20230516T132114Z
LAST-MODIFIED:20230516T132114Z
UID:3056-1687024800-1687032000@www.bastadcamping.se
SUMMARY:LIVE MUSIC - Mixers
DESCRIPTION:Live music with Mixers on the square
URL:https://www.bastadcamping.se/en/event/live-music-mixers/
ATTACH;FMTTYPE=image/jpeg:https://www.bastadcamping.se/wp-content/uploads/2023/05/pexels-tuur-tisseghem-613813-scaled.jpg
END:VEVENT
BEGIN:VEVENT
DTSTART;TZID=Europe/Stockholm:20230610T180000
DTEND;TZID=Europe/Stockholm:20230610T200000
DTSTAMP:20260422T135020
CREATED:20230516T131649Z
LAST-MODIFIED:20230516T131649Z
UID:3078-1686420000-1686427200@www.bastadcamping.se
SUMMARY:LIVE MUSIC - Gerfast
DESCRIPTION:Live music in the square with GERFAST. Blues and rock are on the agenda!
URL:https://www.bastadcamping.se/en/event/live-music-gerfast/
ATTACH;FMTTYPE=image/jpeg:https://www.bastadcamping.se/wp-content/uploads/2023/05/pexels-tuur-tisseghem-613813-scaled.jpg
END:VEVENT
BEGIN:VEVENT
DTSTART;TZID=Europe/Stockholm:20230603T150000
DTEND;TZID=Europe/Stockholm:20230603T220000
DTSTAMP:20260422T135020
CREATED:20230516T131524Z
LAST-MODIFIED:20230516T131524Z
UID:3066-1685804400-1685829600@www.bastadcamping.se
SUMMARY:LITTLE SUMMER TIMES - A summer party
DESCRIPTION:The official start of summer is back! Let’s dance it in together at Lilla SOMMARTIDER at Båstad Camping! \n\nOn stage\, we have the honor and pleasure of presenting Uffe\, PRIME TIME and Martin Nilsson who offer everything from dance bands to summer party hits and of course: country!\n\n16:00 Doors open  \n17:00-18:30 Uffe  \n19:00-20:45 Martin Nilsson\n21:00-22:45 Prime Time\n\nAdmission: 100 kr (paid at the door)\nTable reservations are reserved for diners.\n\n\nOne of the highlights of the whole summer – a warm\, warm welcome!
URL:https://www.bastadcamping.se/en/event/little-summer-times-a-summer-party/
ATTACH;FMTTYPE=image/png:https://www.bastadcamping.se/wp-content/uploads/2023/05/sommartider_2023@2x-e1684925114442.png
END:VEVENT
BEGIN:VEVENT
DTSTART;TZID=Europe/Stockholm:20230527T130000
DTEND;TZID=Europe/Stockholm:20230527T140000
DTSTAMP:20260422T135020
CREATED:20230516T123615Z
LAST-MODIFIED:20230516T123615Z
UID:3067-1685192400-1685196000@www.bastadcamping.se
SUMMARY:TREE FARMING COURSE
DESCRIPTION:A course with gardening enthusiast Dennis who teaches practical tips and tricks to succeed in the garden.
URL:https://www.bastadcamping.se/en/event/tree-farming-course/
ATTACH;FMTTYPE=image/jpeg:https://www.bastadcamping.se/wp-content/uploads/2023/05/pexels-kampus-production-7854134-scaled.jpg
END:VEVENT
BEGIN:VEVENT
DTSTART;TZID=Europe/Stockholm:20230526T160000
DTEND;TZID=Europe/Stockholm:20230526T180000
DTSTAMP:20260422T135020
CREATED:20230516T123041Z
LAST-MODIFIED:20230516T123041Z
UID:3057-1685116800-1685124000@www.bastadcamping.se
SUMMARY:AFTER WORK
DESCRIPTION:After Work at Torget with good music\, good company and great prices in the bar.
URL:https://www.bastadcamping.se/en/event/after-work/
ATTACH;FMTTYPE=image/jpeg:https://www.bastadcamping.se/wp-content/uploads/2023/05/341607598_214168024644865_4331522761682885683_n.jpg
END:VEVENT
BEGIN:VEVENT
DTSTART;TZID=Europe/Stockholm:20230518T120000
DTEND;TZID=Europe/Stockholm:20230518T130000
DTSTAMP:20260422T135020
CREATED:20230508T174130Z
LAST-MODIFIED:20230508T174130Z
UID:3122-1684411200-1684414800@www.bastadcamping.se
SUMMARY:SPRING RACE
DESCRIPTION:A great run in the fresh spring air for all children.
URL:https://www.bastadcamping.se/en/event/spring-race/
ATTACH;FMTTYPE=image/png:https://www.bastadcamping.se/wp-content/uploads/2023/05/bastad-camping-vastkust-barn-kopiera.png
END:VEVENT
END:VCALENDAR