BEGIN:VCALENDAR
VERSION:2.0
PRODID:-//Båstad Camping - ECPv6.15.20//NONSGML v1.0//EN
CALSCALE:GREGORIAN
METHOD:PUBLISH
X-WR-CALNAME:Båstad Camping
X-ORIGINAL-URL:https://www.bastadcamping.se/en/
X-WR-CALDESC:Events for Båstad Camping
REFRESH-INTERVAL;VALUE=DURATION:PT1H
X-Robots-Tag:noindex
X-PUBLISHED-TTL:PT1H
BEGIN:VTIMEZONE
TZID:Europe/Stockholm
BEGIN:DAYLIGHT
TZOFFSETFROM:+0100
TZOFFSETTO:+0200
TZNAME:CEST
DTSTART:20240331T010000
END:DAYLIGHT
BEGIN:STANDARD
TZOFFSETFROM:+0200
TZOFFSETTO:+0100
TZNAME:CET
DTSTART:20241027T010000
END:STANDARD
BEGIN:DAYLIGHT
TZOFFSETFROM:+0100
TZOFFSETTO:+0200
TZNAME:CEST
DTSTART:20250330T010000
END:DAYLIGHT
BEGIN:STANDARD
TZOFFSETFROM:+0200
TZOFFSETTO:+0100
TZNAME:CET
DTSTART:20251026T010000
END:STANDARD
BEGIN:DAYLIGHT
TZOFFSETFROM:+0100
TZOFFSETTO:+0200
TZNAME:CEST
DTSTART:20260329T010000
END:DAYLIGHT
BEGIN:STANDARD
TZOFFSETFROM:+0200
TZOFFSETTO:+0100
TZNAME:CET
DTSTART:20261025T010000
END:STANDARD
END:VTIMEZONE
BEGIN:VEVENT
DTSTART;TZID=Europe/Stockholm:20250503T180000
DTEND;TZID=Europe/Stockholm:20250503T220000
DTSTAMP:20260419T170545
CREATED:20250130T093324Z
LAST-MODIFIED:20250130T093324Z
UID:5319-1746295200-1746309600@www.bastadcamping.se
SUMMARY:Troubadour evening
DESCRIPTION:Welcome to the restaurant to dance into spring with us! \nOn stage we have our wife-badger Uffe who mixes the best music from the 60s\, 70s and 80s. \nDon’t forget to book a table in the restaurant to secure your and your friends’ place.
URL:https://www.bastadcamping.se/en/event/troubadour-evening/
LOCATION:The square
ATTACH;FMTTYPE=image/jpeg:https://www.bastadcamping.se/wp-content/uploads/2023/05/uffe.jpeg
ORGANIZER;CN="The square":MAILTO:torget@bastadcamping.se
END:VEVENT
END:VCALENDAR