BEGIN:VCALENDAR
VERSION:2.0
PRODID:-//Båstad Camping - ECPv6.15.20//NONSGML v1.0//EN
CALSCALE:GREGORIAN
METHOD:PUBLISH
X-WR-CALNAME:Båstad Camping
X-ORIGINAL-URL:https://www.bastadcamping.se/en/
X-WR-CALDESC:Events for Båstad Camping
REFRESH-INTERVAL;VALUE=DURATION:PT1H
X-Robots-Tag:noindex
X-PUBLISHED-TTL:PT1H
BEGIN:VTIMEZONE
TZID:Europe/Stockholm
BEGIN:DAYLIGHT
TZOFFSETFROM:+0100
TZOFFSETTO:+0200
TZNAME:CEST
DTSTART:20250330T010000
END:DAYLIGHT
BEGIN:STANDARD
TZOFFSETFROM:+0200
TZOFFSETTO:+0100
TZNAME:CET
DTSTART:20251026T010000
END:STANDARD
BEGIN:DAYLIGHT
TZOFFSETFROM:+0100
TZOFFSETTO:+0200
TZNAME:CEST
DTSTART:20260329T010000
END:DAYLIGHT
BEGIN:STANDARD
TZOFFSETFROM:+0200
TZOFFSETTO:+0100
TZNAME:CET
DTSTART:20261025T010000
END:STANDARD
BEGIN:DAYLIGHT
TZOFFSETFROM:+0100
TZOFFSETTO:+0200
TZNAME:CEST
DTSTART:20270328T010000
END:DAYLIGHT
BEGIN:STANDARD
TZOFFSETFROM:+0200
TZOFFSETTO:+0100
TZNAME:CET
DTSTART:20271031T010000
END:STANDARD
END:VTIMEZONE
BEGIN:VEVENT
DTSTART;TZID=Europe/Stockholm:20260619T140000
DTEND;TZID=Europe/Stockholm:20260619T150000
DTSTAMP:20260420T205439
CREATED:20260213T082608Z
LAST-MODIFIED:20260213T082608Z
UID:5474-1781877600-1781881200@www.bastadcamping.se
SUMMARY:Traditional midsummer celebration at Båstad Camping
DESCRIPTION:Welcome to a traditional midsummer celebration at Båstad Camping! 🌸🌿 \nWe celebrate as we should – with a flower-covered midsummer pole\, dancing around the pole\, classic games and wonderful singing. The scent of summer\, happy laughter and community fill the campsite as we create memories together for both young and old.  \nBring your family and friends and experience an authentic Swedish midsummer by the sea – just as it should be! ✨
URL:https://www.bastadcamping.se/en/event/traditional-midsummer-celebration-at-bastad-camping/
ATTACH;FMTTYPE=image/jpeg:https://www.bastadcamping.se/wp-content/uploads/2025/06/IMG_3385.jpeg
END:VEVENT
END:VCALENDAR