BEGIN:VCALENDAR
VERSION:2.0
PRODID:-//Båstad Camping - ECPv6.15.20//NONSGML v1.0//EN
CALSCALE:GREGORIAN
METHOD:PUBLISH
X-WR-CALNAME:Båstad Camping
X-ORIGINAL-URL:https://www.bastadcamping.se/en/
X-WR-CALDESC:Events for Båstad Camping
REFRESH-INTERVAL;VALUE=DURATION:PT1H
X-Robots-Tag:noindex
X-PUBLISHED-TTL:PT1H
BEGIN:VTIMEZONE
TZID:Europe/Stockholm
BEGIN:DAYLIGHT
TZOFFSETFROM:+0100
TZOFFSETTO:+0200
TZNAME:CEST
DTSTART:20250330T010000
END:DAYLIGHT
BEGIN:STANDARD
TZOFFSETFROM:+0200
TZOFFSETTO:+0100
TZNAME:CET
DTSTART:20251026T010000
END:STANDARD
BEGIN:DAYLIGHT
TZOFFSETFROM:+0100
TZOFFSETTO:+0200
TZNAME:CEST
DTSTART:20260329T010000
END:DAYLIGHT
BEGIN:STANDARD
TZOFFSETFROM:+0200
TZOFFSETTO:+0100
TZNAME:CET
DTSTART:20261025T010000
END:STANDARD
BEGIN:DAYLIGHT
TZOFFSETFROM:+0100
TZOFFSETTO:+0200
TZNAME:CEST
DTSTART:20270328T010000
END:DAYLIGHT
BEGIN:STANDARD
TZOFFSETFROM:+0200
TZOFFSETTO:+0100
TZNAME:CET
DTSTART:20271031T010000
END:STANDARD
END:VTIMEZONE
BEGIN:VEVENT
DTSTART;TZID=Europe/Stockholm:20260605T183000
DTEND;TZID=Europe/Stockholm:20260605T220000
DTSTAMP:20260419T180428
CREATED:20260219T105812Z
LAST-MODIFIED:20260313T110531Z
UID:5432-1780684200-1780696800@www.bastadcamping.se
SUMMARY:Live music with Rasmus Hanák
DESCRIPTION:Celebrate Sweden’s National Day with Ramus Hanák at Båstad Camping! 🎶\nOn June 6\, we invite you to a real party night when Ramus Hanák steps on stage at Båstad Camping! \nIt will be an atmospheric evening filled with music\, energy and summer feeling. With a strong stage presence and a repertoire that makes both hearts and audiences sway\, Ramus creates an experience to remember.  \n🎤 Live entertainment in a lovely summer atmosphere and celebrate the national day with us🍔 Good food and something good in the glass🌅 Evening atmosphere in the best camping way \nBring your family and friends and make this year’s National Day extra special.We bring together community\, music and a summer evening – all in one place. \nWelcome to celebrate the weekend with us at Båstad Camping – you won’t want to miss this!
URL:https://www.bastadcamping.se/en/event/national-day-celebration-with-live-music-by-rasmus-hanak/
LOCATION:The square
ATTACH;FMTTYPE=image/jpeg:https://www.bastadcamping.se/wp-content/uploads/2025/09/20190725_181048577_iOS-scaled.jpg
ORGANIZER;CN="The square":MAILTO:torget@bastadcamping.se
END:VEVENT
END:VCALENDAR