BEGIN:VCALENDAR
VERSION:2.0
PRODID:-//Båstad Camping - ECPv6.15.20//NONSGML v1.0//EN
CALSCALE:GREGORIAN
METHOD:PUBLISH
X-WR-CALNAME:Båstad Camping
X-ORIGINAL-URL:https://www.bastadcamping.se/en/
X-WR-CALDESC:Events for Båstad Camping
REFRESH-INTERVAL;VALUE=DURATION:PT1H
X-Robots-Tag:noindex
X-PUBLISHED-TTL:PT1H
BEGIN:VTIMEZONE
TZID:Europe/Stockholm
BEGIN:DAYLIGHT
TZOFFSETFROM:+0100
TZOFFSETTO:+0200
TZNAME:CEST
DTSTART:20240331T010000
END:DAYLIGHT
BEGIN:STANDARD
TZOFFSETFROM:+0200
TZOFFSETTO:+0100
TZNAME:CET
DTSTART:20241027T010000
END:STANDARD
BEGIN:DAYLIGHT
TZOFFSETFROM:+0100
TZOFFSETTO:+0200
TZNAME:CEST
DTSTART:20250330T010000
END:DAYLIGHT
BEGIN:STANDARD
TZOFFSETFROM:+0200
TZOFFSETTO:+0100
TZNAME:CET
DTSTART:20251026T010000
END:STANDARD
BEGIN:DAYLIGHT
TZOFFSETFROM:+0100
TZOFFSETTO:+0200
TZNAME:CEST
DTSTART:20260329T010000
END:DAYLIGHT
BEGIN:STANDARD
TZOFFSETFROM:+0200
TZOFFSETTO:+0100
TZNAME:CET
DTSTART:20261025T010000
END:STANDARD
END:VTIMEZONE
BEGIN:VEVENT
DTSTART;TZID=Europe/Stockholm:20250621T180000
DTEND;TZID=Europe/Stockholm:20250621T220000
DTSTAMP:20260419T171708
CREATED:20250515T103228Z
LAST-MODIFIED:20250515T103228Z
UID:5392-1750528800-1750543200@www.bastadcamping.se
SUMMARY:Live music with Jessi and Janne
DESCRIPTION:Yes! Let’s celebrate summer at its best!  \nWe welcome Jessi and Janne on stage for an evening you won’t want to miss. The duo mixes classics that everyone can sing along and dance to.  \nPS: Don’t forget to book a table in the restaurant. Phone: 0431 755 11 or email: torget@bastadcamping.se
URL:https://www.bastadcamping.se/en/event/live-music-with-jessi-and-janne-4/
LOCATION:The square
ATTACH;FMTTYPE=image/jpeg:https://www.bastadcamping.se/wp-content/uploads/2024/04/Jessi-och-Janne.jpg
ORGANIZER;CN="The square":MAILTO:torget@bastadcamping.se
END:VEVENT
END:VCALENDAR