BEGIN:VCALENDAR
VERSION:2.0
PRODID:-//Båstad Camping - ECPv6.15.20//NONSGML v1.0//EN
CALSCALE:GREGORIAN
METHOD:PUBLISH
X-WR-CALNAME:Båstad Camping
X-ORIGINAL-URL:https://www.bastadcamping.se/en/
X-WR-CALDESC:Events for Båstad Camping
REFRESH-INTERVAL;VALUE=DURATION:PT1H
X-Robots-Tag:noindex
X-PUBLISHED-TTL:PT1H
BEGIN:VTIMEZONE
TZID:Europe/Stockholm
BEGIN:DAYLIGHT
TZOFFSETFROM:+0100
TZOFFSETTO:+0200
TZNAME:CEST
DTSTART:20240331T010000
END:DAYLIGHT
BEGIN:STANDARD
TZOFFSETFROM:+0200
TZOFFSETTO:+0100
TZNAME:CET
DTSTART:20241027T010000
END:STANDARD
BEGIN:DAYLIGHT
TZOFFSETFROM:+0100
TZOFFSETTO:+0200
TZNAME:CEST
DTSTART:20250330T010000
END:DAYLIGHT
BEGIN:STANDARD
TZOFFSETFROM:+0200
TZOFFSETTO:+0100
TZNAME:CET
DTSTART:20251026T010000
END:STANDARD
BEGIN:DAYLIGHT
TZOFFSETFROM:+0100
TZOFFSETTO:+0200
TZNAME:CEST
DTSTART:20260329T010000
END:DAYLIGHT
BEGIN:STANDARD
TZOFFSETFROM:+0200
TZOFFSETTO:+0100
TZNAME:CET
DTSTART:20261025T010000
END:STANDARD
END:VTIMEZONE
BEGIN:VEVENT
DTSTART;TZID=Europe/Stockholm:20250712T180000
DTEND;TZID=Europe/Stockholm:20250712T220000
DTSTAMP:20260419T202702
CREATED:20250407T115312Z
LAST-MODIFIED:20250407T115312Z
UID:5260-1752343200-1752357600@www.bastadcamping.se
SUMMARY:Live music with Freddans orchestra
DESCRIPTION:A warm welcome to the Freddans Orchestra! \nFreddans mixes the best songs and invites you to dance. If you don’t feel like dancing\, you can just as easily sit and enjoy the wonderful music. \nPS: Don’t forget to book a table in the restaurant
URL:https://www.bastadcamping.se/en/event/live-music-with-freddans-orchestra-4/
LOCATION:The square
ATTACH;FMTTYPE=image/jpeg:https://www.bastadcamping.se/wp-content/uploads/2024/03/IMG_5206.jpeg
ORGANIZER;CN="The square":MAILTO:torget@bastadcamping.se
END:VEVENT
END:VCALENDAR