BEGIN:VCALENDAR
VERSION:2.0
PRODID:-//Båstad Camping - ECPv6.15.20//NONSGML v1.0//EN
CALSCALE:GREGORIAN
METHOD:PUBLISH
X-WR-CALNAME:Båstad Camping
X-ORIGINAL-URL:https://www.bastadcamping.se/en/
X-WR-CALDESC:Events for Båstad Camping
REFRESH-INTERVAL;VALUE=DURATION:PT1H
X-Robots-Tag:noindex
X-PUBLISHED-TTL:PT1H
BEGIN:VTIMEZONE
TZID:Europe/Stockholm
BEGIN:DAYLIGHT
TZOFFSETFROM:+0100
TZOFFSETTO:+0200
TZNAME:CEST
DTSTART:20250330T010000
END:DAYLIGHT
BEGIN:STANDARD
TZOFFSETFROM:+0200
TZOFFSETTO:+0100
TZNAME:CET
DTSTART:20251026T010000
END:STANDARD
BEGIN:DAYLIGHT
TZOFFSETFROM:+0100
TZOFFSETTO:+0200
TZNAME:CEST
DTSTART:20260329T010000
END:DAYLIGHT
BEGIN:STANDARD
TZOFFSETFROM:+0200
TZOFFSETTO:+0100
TZNAME:CET
DTSTART:20261025T010000
END:STANDARD
BEGIN:DAYLIGHT
TZOFFSETFROM:+0100
TZOFFSETTO:+0200
TZNAME:CEST
DTSTART:20270328T010000
END:DAYLIGHT
BEGIN:STANDARD
TZOFFSETFROM:+0200
TZOFFSETTO:+0100
TZNAME:CET
DTSTART:20271031T010000
END:STANDARD
END:VTIMEZONE
BEGIN:VEVENT
DTSTART;TZID=Europe/Stockholm:20260404T130000
DTEND;TZID=Europe/Stockholm:20260404T133000
DTSTAMP:20260420T155951
CREATED:20260126T092846Z
LAST-MODIFIED:20260126T092846Z
UID:5420-1775307600-1775309400@www.bastadcamping.se
SUMMARY:Easter Bunny Race!
DESCRIPTION:Bring your fastest and funniest friends and compete with us! \nForm a team of 4 members and dress up as Easter bunnies. Don’t forget the broom! (One broom per team)   \nGreat prizes are promised to the winners and best dressed teams! \nWe gather at the football field at. 13:00.
URL:https://www.bastadcamping.se/en/event/easter-bunny-race/
ATTACH;FMTTYPE=image/jpeg:https://www.bastadcamping.se/wp-content/uploads/2026/01/IMG_6688-1.jpg
END:VEVENT
END:VCALENDAR