BEGIN:VCALENDAR
VERSION:2.0
PRODID:-//Båstad Camping - ECPv6.15.20//NONSGML v1.0//EN
CALSCALE:GREGORIAN
METHOD:PUBLISH
X-WR-CALNAME:Båstad Camping
X-ORIGINAL-URL:https://www.bastadcamping.se/de/
X-WR-CALDESC:Veranstaltungen für Båstad Camping
REFRESH-INTERVAL;VALUE=DURATION:PT1H
X-Robots-Tag:noindex
X-PUBLISHED-TTL:PT1H
BEGIN:VTIMEZONE
TZID:Europe/Stockholm
BEGIN:DAYLIGHT
TZOFFSETFROM:+0100
TZOFFSETTO:+0200
TZNAME:CEST
DTSTART:20240331T010000
END:DAYLIGHT
BEGIN:STANDARD
TZOFFSETFROM:+0200
TZOFFSETTO:+0100
TZNAME:CET
DTSTART:20241027T010000
END:STANDARD
BEGIN:DAYLIGHT
TZOFFSETFROM:+0100
TZOFFSETTO:+0200
TZNAME:CEST
DTSTART:20250330T010000
END:DAYLIGHT
BEGIN:STANDARD
TZOFFSETFROM:+0200
TZOFFSETTO:+0100
TZNAME:CET
DTSTART:20251026T010000
END:STANDARD
BEGIN:DAYLIGHT
TZOFFSETFROM:+0100
TZOFFSETTO:+0200
TZNAME:CEST
DTSTART:20260329T010000
END:DAYLIGHT
BEGIN:STANDARD
TZOFFSETFROM:+0200
TZOFFSETTO:+0100
TZNAME:CET
DTSTART:20261025T010000
END:STANDARD
END:VTIMEZONE
BEGIN:VEVENT
DTSTART;TZID=Europe/Stockholm:20250726T150000
DTEND;TZID=Europe/Stockholm:20250726T170000
DTSTAMP:20260421T105252
CREATED:20250703T135247Z
LAST-MODIFIED:20250703T135247Z
UID:5518-1753542000-1753549200@www.bastadcamping.se
SUMMARY:Zimmerverkostung mit Anders Strand
DESCRIPTION:Ein Favorit ist zurück im Restaurant! \nWir laden Sie zu einer wunderbaren Rumverkostung mit Anders Strand am Ruder ein. Fünf Sorten mit unterschiedlichem Charakter werden angeboten\, um ein tieferes Verständnis für die verschiedenen Aromen und Charaktere von Rum zu bekommen.  \nPreis pro Person: 325 kr \nZeit: 15:00 bis etwa 17:00 \nEnthält: 5 Sorten Rum und verschiedene Snacks. \nBitte melden Sie sich per E-Mail (info@bastadcamping.se) oder telefonisch (0431 755 11) an. \nHerzlich willkommen auf dem Båstad Camping!
URL:https://www.bastadcamping.se/de/event/zimmerverkostung-mit-anders-strand/
LOCATION:Das Quadrat
ATTACH;FMTTYPE=image/jpeg:https://www.bastadcamping.se/wp-content/uploads/2025/07/20190817_143316302_iOS.jpg
ORGANIZER;CN="Das Quadrat":MAILTO:torget@bastadcamping.se
END:VEVENT
END:VCALENDAR