BEGIN:VCALENDAR
VERSION:2.0
PRODID:-//Båstad Camping - ECPv6.15.20//NONSGML v1.0//EN
CALSCALE:GREGORIAN
METHOD:PUBLISH
X-WR-CALNAME:Båstad Camping
X-ORIGINAL-URL:https://www.bastadcamping.se/de/
X-WR-CALDESC:Veranstaltungen für Båstad Camping
REFRESH-INTERVAL;VALUE=DURATION:PT1H
X-Robots-Tag:noindex
X-PUBLISHED-TTL:PT1H
BEGIN:VTIMEZONE
TZID:Europe/Stockholm
BEGIN:DAYLIGHT
TZOFFSETFROM:+0100
TZOFFSETTO:+0200
TZNAME:CEST
DTSTART:20230326T010000
END:DAYLIGHT
BEGIN:STANDARD
TZOFFSETFROM:+0200
TZOFFSETTO:+0100
TZNAME:CET
DTSTART:20231029T010000
END:STANDARD
BEGIN:DAYLIGHT
TZOFFSETFROM:+0100
TZOFFSETTO:+0200
TZNAME:CEST
DTSTART:20240331T010000
END:DAYLIGHT
BEGIN:STANDARD
TZOFFSETFROM:+0200
TZOFFSETTO:+0100
TZNAME:CET
DTSTART:20241027T010000
END:STANDARD
BEGIN:DAYLIGHT
TZOFFSETFROM:+0100
TZOFFSETTO:+0200
TZNAME:CEST
DTSTART:20250330T010000
END:DAYLIGHT
BEGIN:STANDARD
TZOFFSETFROM:+0200
TZOFFSETTO:+0100
TZNAME:CET
DTSTART:20251026T010000
END:STANDARD
END:VTIMEZONE
BEGIN:VEVENT
DTSTART;TZID=Europe/Stockholm:20240720T110000
DTEND;TZID=Europe/Stockholm:20240720T120000
DTSTAMP:20260420T221000
CREATED:20240419T091826Z
LAST-MODIFIED:20240419T091826Z
UID:5241-1721473200-1721476800@www.bastadcamping.se
SUMMARY:Zaubershow und Zauberschule
DESCRIPTION:Wir heißen die Zauberer Herr Berger und Ann der Narr auf der Bühne herzlich willkommen! \nSie bieten eine fantastische Zaubershow für alle Kinder und nach der Show eine Zauberschule. \nAlso schärfen Sie Ihre Augen und lassen Sie sich von den Wundern der Magie begeistern! \nZeit: 11:00 bis 12:00 \nKosten: Kostenlos \nOrt: Die Bühne beim Restaurant
URL:https://www.bastadcamping.se/de/event/zaubershow-und-zauberschule/
ATTACH;FMTTYPE=image/jpeg:https://www.bastadcamping.se/wp-content/uploads/2024/04/Mr-Berger-o-Gycklaren-Ann-vykort.jpg
END:VEVENT
END:VCALENDAR