BEGIN:VCALENDAR
VERSION:2.0
PRODID:-//Båstad Camping - ECPv6.15.20//NONSGML v1.0//EN
CALSCALE:GREGORIAN
METHOD:PUBLISH
X-WR-CALNAME:Båstad Camping
X-ORIGINAL-URL:https://www.bastadcamping.se/de/
X-WR-CALDESC:Veranstaltungen für Båstad Camping
REFRESH-INTERVAL;VALUE=DURATION:PT1H
X-Robots-Tag:noindex
X-PUBLISHED-TTL:PT1H
BEGIN:VTIMEZONE
TZID:Europe/Stockholm
BEGIN:DAYLIGHT
TZOFFSETFROM:+0100
TZOFFSETTO:+0200
TZNAME:CEST
DTSTART:20230326T010000
END:DAYLIGHT
BEGIN:STANDARD
TZOFFSETFROM:+0200
TZOFFSETTO:+0100
TZNAME:CET
DTSTART:20231029T010000
END:STANDARD
BEGIN:DAYLIGHT
TZOFFSETFROM:+0100
TZOFFSETTO:+0200
TZNAME:CEST
DTSTART:20240331T010000
END:DAYLIGHT
BEGIN:STANDARD
TZOFFSETFROM:+0200
TZOFFSETTO:+0100
TZNAME:CET
DTSTART:20241027T010000
END:STANDARD
BEGIN:DAYLIGHT
TZOFFSETFROM:+0100
TZOFFSETTO:+0200
TZNAME:CEST
DTSTART:20250330T010000
END:DAYLIGHT
BEGIN:STANDARD
TZOFFSETFROM:+0200
TZOFFSETTO:+0100
TZNAME:CET
DTSTART:20251026T010000
END:STANDARD
END:VTIMEZONE
BEGIN:VEVENT
DTSTART;TZID=Europe/Stockholm:20240803T140000
DTEND;TZID=Europe/Stockholm:20240803T153000
DTSTAMP:20260419T234109
CREATED:20240709T072609Z
LAST-MODIFIED:20240709T072609Z
UID:5356-1722693600-1722699000@www.bastadcamping.se
SUMMARY:Whisky-Verkostung
DESCRIPTION:Herzlich willkommen zu einer Whiskyverkostung mit Peter und Ulf! \nNach der letzten Whiskyverkostung wurden wir gebeten\, eine neue Verkostung mit Whisky aus allen Ecken der Welt durchzuführen. Am 3/8 nehmen wir Sie mit auf eine Reise mit neuen Geschmacksrichtungen. Wir werden Whisky aus Frankreich\, Japan\, Indien\, den USA (beachten Sie einen Single Malt)\, Schweden und einen schwedischen Whisky\, der in ungewöhnlichen Fässern gereift ist\, anbieten.\nWir hoffen\, Sie zu sehen!   \nGrüße\,\nPeter und Ulf \nMelden Sie sich jetzt an und sichern Sie sich Ihren Platz. Um sich anzumelden\, rufen Sie bitte an: +46 0431 755 11 oder schreiben Sie eine E-Mail an: info@bastadcamping.se  \nPreis: 350 kr pro Person
URL:https://www.bastadcamping.se/de/event/whisky-verkostung/
LOCATION:Das Quadrat
ATTACH;FMTTYPE=image/jpeg:https://www.bastadcamping.se/wp-content/uploads/2023/05/pexels-anna-pyshniuk-7799797-scaled.jpg
ORGANIZER;CN="Das Quadrat":MAILTO:torget@bastadcamping.se
END:VEVENT
END:VCALENDAR