BEGIN:VCALENDAR
VERSION:2.0
PRODID:-//Båstad Camping - ECPv6.15.20//NONSGML v1.0//EN
CALSCALE:GREGORIAN
METHOD:PUBLISH
X-WR-CALNAME:Båstad Camping
X-ORIGINAL-URL:https://www.bastadcamping.se/de/
X-WR-CALDESC:Veranstaltungen für Båstad Camping
REFRESH-INTERVAL;VALUE=DURATION:PT1H
X-Robots-Tag:noindex
X-PUBLISHED-TTL:PT1H
BEGIN:VTIMEZONE
TZID:Europe/Stockholm
BEGIN:DAYLIGHT
TZOFFSETFROM:+0100
TZOFFSETTO:+0200
TZNAME:CEST
DTSTART:20240331T010000
END:DAYLIGHT
BEGIN:STANDARD
TZOFFSETFROM:+0200
TZOFFSETTO:+0100
TZNAME:CET
DTSTART:20241027T010000
END:STANDARD
BEGIN:DAYLIGHT
TZOFFSETFROM:+0100
TZOFFSETTO:+0200
TZNAME:CEST
DTSTART:20250330T010000
END:DAYLIGHT
BEGIN:STANDARD
TZOFFSETFROM:+0200
TZOFFSETTO:+0100
TZNAME:CET
DTSTART:20251026T010000
END:STANDARD
BEGIN:DAYLIGHT
TZOFFSETFROM:+0100
TZOFFSETTO:+0200
TZNAME:CEST
DTSTART:20260329T010000
END:DAYLIGHT
BEGIN:STANDARD
TZOFFSETFROM:+0200
TZOFFSETTO:+0100
TZNAME:CET
DTSTART:20261025T010000
END:STANDARD
END:VTIMEZONE
BEGIN:VEVENT
DTSTART;TZID=Europe/Stockholm:20250719T180000
DTEND;TZID=Europe/Stockholm:20250719T220000
DTSTAMP:20260421T144141
CREATED:20250220T125809Z
LAST-MODIFIED:20250220T125809Z
UID:5278-1752948000-1752962400@www.bastadcamping.se
SUMMARY:Troubadour-Abend mit Kalle Sellbrink
DESCRIPTION:Ein herzliches Willkommen auf der Bühne Kalle Sellbrink! \nJetzt gibt es zwei Tage lang Unterhaltung mit guter Musik\, wenn der Sommer sich von seiner besten Seite zeigt!\nKalle mischt wunderbare Songs mit hohem Wiedererkennungswert. \nVergessen Sie nicht\, einen Tisch im Restaurant zu reservieren\, telefonisch: 0431-755 11 oder per Mail: info@bastadcamping.se \nBis dann!
URL:https://www.bastadcamping.se/de/event/troubadour-abend-mit-kalle-sellbrink/
LOCATION:Das Quadrat
ATTACH;FMTTYPE=image/jpeg:https://www.bastadcamping.se/wp-content/uploads/2024/04/Kalle-Sellbrink.jpg
ORGANIZER;CN="Das Quadrat":MAILTO:torget@bastadcamping.se
END:VEVENT
END:VCALENDAR