BEGIN:VCALENDAR
VERSION:2.0
PRODID:-//Båstad Camping - ECPv6.15.20//NONSGML v1.0//EN
CALSCALE:GREGORIAN
METHOD:PUBLISH
X-WR-CALNAME:Båstad Camping
X-ORIGINAL-URL:https://www.bastadcamping.se/de/
X-WR-CALDESC:Veranstaltungen für Båstad Camping
REFRESH-INTERVAL;VALUE=DURATION:PT1H
X-Robots-Tag:noindex
X-PUBLISHED-TTL:PT1H
BEGIN:VTIMEZONE
TZID:Europe/Stockholm
BEGIN:DAYLIGHT
TZOFFSETFROM:+0100
TZOFFSETTO:+0200
TZNAME:CEST
DTSTART:20240331T010000
END:DAYLIGHT
BEGIN:STANDARD
TZOFFSETFROM:+0200
TZOFFSETTO:+0100
TZNAME:CET
DTSTART:20241027T010000
END:STANDARD
BEGIN:DAYLIGHT
TZOFFSETFROM:+0100
TZOFFSETTO:+0200
TZNAME:CEST
DTSTART:20250330T010000
END:DAYLIGHT
BEGIN:STANDARD
TZOFFSETFROM:+0200
TZOFFSETTO:+0100
TZNAME:CET
DTSTART:20251026T010000
END:STANDARD
BEGIN:DAYLIGHT
TZOFFSETFROM:+0100
TZOFFSETTO:+0200
TZNAME:CEST
DTSTART:20260329T010000
END:DAYLIGHT
BEGIN:STANDARD
TZOFFSETFROM:+0200
TZOFFSETTO:+0100
TZNAME:CET
DTSTART:20261025T010000
END:STANDARD
END:VTIMEZONE
BEGIN:VEVENT
DTSTART;TZID=Europe/Stockholm:20250523T170000
DTEND;TZID=Europe/Stockholm:20250523T190000
DTSTAMP:20260419T190603
CREATED:20250130T121624Z
LAST-MODIFIED:20250130T121624Z
UID:5292-1748019600-1748026800@www.bastadcamping.se
SUMMARY:Nach der Arbeit auf Båstad Camping
DESCRIPTION:Beenden Sie die Arbeitswoche mit uns auf Båstad Camping. \nZwischen 17:00 und 19:00 Uhr bieten wir Ihnen günstige Preise für Speisen und Getränke. \nSpielen Sie eine Partie Billard oder hängen Sie einfach im Restaurant mit guten Freunden ab. \nWir sehen uns im Restaurant Torget auf Båstad Camping. \nPS: Vergessen Sie nicht\, einen Tisch zu reservieren\, um sich Ihren Platz zu sichern. Buchung per E-Mail: info@bastadcamping.se oder Telefon: 0431-755 11
URL:https://www.bastadcamping.se/de/event/nach-der-arbeit-auf-bastad-camping/
LOCATION:Das Quadrat
ATTACH;FMTTYPE=image/jpeg:https://www.bastadcamping.se/wp-content/uploads/2023/05/pexels-tembela-bohle-1089930-scaled.jpg
ORGANIZER;CN="Das Quadrat":MAILTO:torget@bastadcamping.se
END:VEVENT
END:VCALENDAR