BEGIN:VCALENDAR
VERSION:2.0
PRODID:-//Båstad Camping - ECPv6.15.20//NONSGML v1.0//EN
CALSCALE:GREGORIAN
METHOD:PUBLISH
X-WR-CALNAME:Båstad Camping
X-ORIGINAL-URL:https://www.bastadcamping.se/de/
X-WR-CALDESC:Veranstaltungen für Båstad Camping
REFRESH-INTERVAL;VALUE=DURATION:PT1H
X-Robots-Tag:noindex
X-PUBLISHED-TTL:PT1H
BEGIN:VTIMEZONE
TZID:Europe/Stockholm
BEGIN:DAYLIGHT
TZOFFSETFROM:+0100
TZOFFSETTO:+0200
TZNAME:CEST
DTSTART:20240331T010000
END:DAYLIGHT
BEGIN:STANDARD
TZOFFSETFROM:+0200
TZOFFSETTO:+0100
TZNAME:CET
DTSTART:20241027T010000
END:STANDARD
BEGIN:DAYLIGHT
TZOFFSETFROM:+0100
TZOFFSETTO:+0200
TZNAME:CEST
DTSTART:20250330T010000
END:DAYLIGHT
BEGIN:STANDARD
TZOFFSETFROM:+0200
TZOFFSETTO:+0100
TZNAME:CET
DTSTART:20251026T010000
END:STANDARD
BEGIN:DAYLIGHT
TZOFFSETFROM:+0100
TZOFFSETTO:+0200
TZNAME:CEST
DTSTART:20260329T010000
END:DAYLIGHT
BEGIN:STANDARD
TZOFFSETFROM:+0200
TZOFFSETTO:+0100
TZNAME:CET
DTSTART:20261025T010000
END:STANDARD
END:VTIMEZONE
BEGIN:VEVENT
DTSTART;TZID=Europe/Stockholm:20250830T190000
DTEND;TZID=Europe/Stockholm:20250830T210000
DTSTAMP:20260421T103626
CREATED:20250811T123916Z
LAST-MODIFIED:20250811T123916Z
UID:5489-1756580400-1756587600@www.bastadcamping.se
SUMMARY:Musik-Bingo mit Uffe
DESCRIPTION:Willkommen zum Musik-Bingo im Restaurant! \nBringen Sie Ihre Freunde und Familie mit und spielen Sie gemeinsam Bingo. Die Teilnahme ist völlig kostenlos und dem Gewinner wird ein Preis versprochen.  \nPS: Vergessen Sie nicht\, einen Tisch im Restaurant zu reservieren: info@bastadcamping.se oder 0431 755 11 \nWir sehen uns auf dem Båstad Camping!
URL:https://www.bastadcamping.se/de/event/musik-bingo-mit-uffe/
LOCATION:Das Quadrat
ATTACH;FMTTYPE=image/jpeg:https://www.bastadcamping.se/wp-content/uploads/2025/01/IMG_2738-scaled.jpeg
ORGANIZER;CN="Das Quadrat":MAILTO:torget@bastadcamping.se
END:VEVENT
END:VCALENDAR