BEGIN:VCALENDAR
VERSION:2.0
PRODID:-//Båstad Camping - ECPv6.15.20//NONSGML v1.0//EN
CALSCALE:GREGORIAN
METHOD:PUBLISH
X-WR-CALNAME:Båstad Camping
X-ORIGINAL-URL:https://www.bastadcamping.se/de/
X-WR-CALDESC:Veranstaltungen für Båstad Camping
REFRESH-INTERVAL;VALUE=DURATION:PT1H
X-Robots-Tag:noindex
X-PUBLISHED-TTL:PT1H
BEGIN:VTIMEZONE
TZID:Europe/Stockholm
BEGIN:DAYLIGHT
TZOFFSETFROM:+0100
TZOFFSETTO:+0200
TZNAME:CEST
DTSTART:20250330T010000
END:DAYLIGHT
BEGIN:STANDARD
TZOFFSETFROM:+0200
TZOFFSETTO:+0100
TZNAME:CET
DTSTART:20251026T010000
END:STANDARD
BEGIN:DAYLIGHT
TZOFFSETFROM:+0100
TZOFFSETTO:+0200
TZNAME:CEST
DTSTART:20260329T010000
END:DAYLIGHT
BEGIN:STANDARD
TZOFFSETFROM:+0200
TZOFFSETTO:+0100
TZNAME:CET
DTSTART:20261025T010000
END:STANDARD
BEGIN:DAYLIGHT
TZOFFSETFROM:+0100
TZOFFSETTO:+0200
TZNAME:CEST
DTSTART:20270328T010000
END:DAYLIGHT
BEGIN:STANDARD
TZOFFSETFROM:+0200
TZOFFSETTO:+0100
TZNAME:CET
DTSTART:20271031T010000
END:STANDARD
END:VTIMEZONE
BEGIN:VEVENT
DTSTART;TZID=Europe/Stockholm:20260619T103000
DTEND;TZID=Europe/Stockholm:20260619T110000
DTSTAMP:20260421T010234
CREATED:20260213T082159Z
LAST-MODIFIED:20260213T082159Z
UID:5529-1781865000-1781866800@www.bastadcamping.se
SUMMARY:Kleiden Sie den Mittsommerpfahl
DESCRIPTION:Willkommen zum Anziehen des Mittsommerpfahls auf Båstad Camping um 10:30 Uhr! 🌸🌿   \nBringen Sie Ihre eigenen Blumen mit und schaffen Sie gemeinsam mit uns eine schöne\, sommerliche Mittsommeratmosphäre. Je mehr wir sind – desto schöner wird der Pfahl sein! 🌼✨   \nWir versammeln uns hinter dem Servicegebäude 2.
URL:https://www.bastadcamping.se/de/event/kleiden-sie-den-mittsommerpfahl-2/
ATTACH;FMTTYPE=image/jpeg:https://www.bastadcamping.se/wp-content/uploads/2023/05/B53BF9D5-B8B7-42FF-9707-6FB7BE9362F7.jpeg
END:VEVENT
END:VCALENDAR