BEGIN:VCALENDAR
VERSION:2.0
PRODID:-//Båstad Camping - ECPv6.15.20//NONSGML v1.0//EN
CALSCALE:GREGORIAN
METHOD:PUBLISH
X-WR-CALNAME:Båstad Camping
X-ORIGINAL-URL:https://www.bastadcamping.se/de/
X-WR-CALDESC:Veranstaltungen für Båstad Camping
REFRESH-INTERVAL;VALUE=DURATION:PT1H
X-Robots-Tag:noindex
X-PUBLISHED-TTL:PT1H
BEGIN:VTIMEZONE
TZID:Europe/Stockholm
BEGIN:DAYLIGHT
TZOFFSETFROM:+0100
TZOFFSETTO:+0200
TZNAME:CEST
DTSTART:20240331T010000
END:DAYLIGHT
BEGIN:STANDARD
TZOFFSETFROM:+0200
TZOFFSETTO:+0100
TZNAME:CET
DTSTART:20241027T010000
END:STANDARD
BEGIN:DAYLIGHT
TZOFFSETFROM:+0100
TZOFFSETTO:+0200
TZNAME:CEST
DTSTART:20250330T010000
END:DAYLIGHT
BEGIN:STANDARD
TZOFFSETFROM:+0200
TZOFFSETTO:+0100
TZNAME:CET
DTSTART:20251026T010000
END:STANDARD
BEGIN:DAYLIGHT
TZOFFSETFROM:+0100
TZOFFSETTO:+0200
TZNAME:CEST
DTSTART:20260329T010000
END:DAYLIGHT
BEGIN:STANDARD
TZOFFSETFROM:+0200
TZOFFSETTO:+0100
TZNAME:CET
DTSTART:20261025T010000
END:STANDARD
END:VTIMEZONE
BEGIN:VEVENT
DTSTART;TZID=Europe/Stockholm:20250503T100000
DTEND;TZID=Europe/Stockholm:20250503T140000
DTSTAMP:20260419T193250
CREATED:20250407T113703Z
LAST-MODIFIED:20250407T113703Z
UID:5270-1746266400-1746280800@www.bastadcamping.se
SUMMARY:Flohmarkt auf Båstad Camping
DESCRIPTION:Herzlich willkommen auf dem Flohmarkt von Båstad Camping! \nWir werden einen großen Flohmarkt veranstalten\, auf dem wir selbst schöne Dinge ausstellen werden\, aber jeder ist willkommen\, einen Tisch aufzustellen und sich selbst zu verkaufen. Das Aufstellen eines Tisches ist völlig kostenlos.  \nBei schönem Wetter bauen wir den Flohmarkt auf dem Fußballplatz auf. Wenn es regnet\, bauen wir ihn im Restaurant auf.  \nNB: Bringen Sie Ihren eigenen Klapptisch mit
URL:https://www.bastadcamping.se/de/event/flohmarkt-auf-bastad-camping/
ATTACH;FMTTYPE=image/jpeg:https://www.bastadcamping.se/wp-content/uploads/2024/01/Pask23.jpg
END:VEVENT
END:VCALENDAR