BEGIN:VCALENDAR
VERSION:2.0
PRODID:-//Båstad Camping - ECPv6.15.20//NONSGML v1.0//EN
CALSCALE:GREGORIAN
METHOD:PUBLISH
X-WR-CALNAME:Båstad Camping
X-ORIGINAL-URL:https://www.bastadcamping.se/de/
X-WR-CALDESC:Veranstaltungen für Båstad Camping
REFRESH-INTERVAL;VALUE=DURATION:PT1H
X-Robots-Tag:noindex
X-PUBLISHED-TTL:PT1H
BEGIN:VTIMEZONE
TZID:Europe/Stockholm
BEGIN:DAYLIGHT
TZOFFSETFROM:+0100
TZOFFSETTO:+0200
TZNAME:CEST
DTSTART:20240331T010000
END:DAYLIGHT
BEGIN:STANDARD
TZOFFSETFROM:+0200
TZOFFSETTO:+0100
TZNAME:CET
DTSTART:20241027T010000
END:STANDARD
BEGIN:DAYLIGHT
TZOFFSETFROM:+0100
TZOFFSETTO:+0200
TZNAME:CEST
DTSTART:20250330T010000
END:DAYLIGHT
BEGIN:STANDARD
TZOFFSETFROM:+0200
TZOFFSETTO:+0100
TZNAME:CET
DTSTART:20251026T010000
END:STANDARD
BEGIN:DAYLIGHT
TZOFFSETFROM:+0100
TZOFFSETTO:+0200
TZNAME:CEST
DTSTART:20260329T010000
END:DAYLIGHT
BEGIN:STANDARD
TZOFFSETFROM:+0200
TZOFFSETTO:+0100
TZNAME:CET
DTSTART:20261025T010000
END:STANDARD
END:VTIMEZONE
BEGIN:VEVENT
DTSTART;TZID=Europe/Stockholm:20250920T170000
DTEND;TZID=Europe/Stockholm:20250920T230000
DTSTAMP:20260421T105411
CREATED:20250804T112549Z
LAST-MODIFIED:20250804T112549Z
UID:5506-1758387600-1758409200@www.bastadcamping.se
SUMMARY:Ende der Saison im Restaurant
DESCRIPTION:Ein herzliches Willkommen zum Ende der Saison im Restaurant! \nWir versprechen gute Preise für Essen und Getränke. Außerdem haben wir unseren Haus-Troubadour Uffe an der Gitarre\, der für eine richtig gute Stimmung sorgt! Bringen Sie also Ihre Freunde und Familie mit und genießen Sie gemeinsam mit uns auf Båstad Camping.   \nPS: Vergessen Sie nicht\, einen Tisch im Restaurant zu reservieren: info@bastadcamping.se oder 0431 755 11
URL:https://www.bastadcamping.se/de/event/ende-der-saison-im-restaurant-2/
LOCATION:Das Quadrat
ATTACH;FMTTYPE=image/jpeg:https://www.bastadcamping.se/wp-content/uploads/2024/03/IMG_5206.jpeg
ORGANIZER;CN="Das Quadrat":MAILTO:torget@bastadcamping.se
END:VEVENT
END:VCALENDAR