BEGIN:VCALENDAR
VERSION:2.0
PRODID:-//Båstad Camping - ECPv6.15.20//NONSGML v1.0//EN
CALSCALE:GREGORIAN
METHOD:PUBLISH
X-WR-CALNAME:Båstad Camping
X-ORIGINAL-URL:https://www.bastadcamping.se/de/
X-WR-CALDESC:Veranstaltungen für Båstad Camping
REFRESH-INTERVAL;VALUE=DURATION:PT1H
X-Robots-Tag:noindex
X-PUBLISHED-TTL:PT1H
BEGIN:VTIMEZONE
TZID:Europe/Stockholm
BEGIN:DAYLIGHT
TZOFFSETFROM:+0100
TZOFFSETTO:+0200
TZNAME:CEST
DTSTART:20230326T010000
END:DAYLIGHT
BEGIN:STANDARD
TZOFFSETFROM:+0200
TZOFFSETTO:+0100
TZNAME:CET
DTSTART:20231029T010000
END:STANDARD
BEGIN:DAYLIGHT
TZOFFSETFROM:+0100
TZOFFSETTO:+0200
TZNAME:CEST
DTSTART:20240331T010000
END:DAYLIGHT
BEGIN:STANDARD
TZOFFSETFROM:+0200
TZOFFSETTO:+0100
TZNAME:CET
DTSTART:20241027T010000
END:STANDARD
BEGIN:DAYLIGHT
TZOFFSETFROM:+0100
TZOFFSETTO:+0200
TZNAME:CEST
DTSTART:20250330T010000
END:DAYLIGHT
BEGIN:STANDARD
TZOFFSETFROM:+0200
TZOFFSETTO:+0100
TZNAME:CET
DTSTART:20251026T010000
END:STANDARD
END:VTIMEZONE
BEGIN:VEVENT
DTSTART;TZID=Europe/Stockholm:20240606T110000
DTEND;TZID=Europe/Stockholm:20240606T150000
DTSTAMP:20260421T154051
CREATED:20240523T093606Z
LAST-MODIFIED:20240523T093606Z
UID:5367-1717671600-1717686000@www.bastadcamping.se
SUMMARY:Båstad Autos und Kaffeeservice
DESCRIPTION:Herzlich willkommen bei der Autoausstellung von Båstad Cars and Coffeé! \nSehen Sie sich coole Autos an und essen Sie einen guten Burger. Besser kann der Nationalfeiertag gar nicht werden.  \nZeit: 11:00 – 15:00 \nPreis: Kostenlos
URL:https://www.bastadcamping.se/de/event/bastad-autos-und-kaffeeservice/
ATTACH;FMTTYPE=image/jpeg:https://www.bastadcamping.se/wp-content/uploads/2024/05/Bastad-Cars-and-Coffee.jpg
END:VEVENT
END:VCALENDAR