BEGIN:VCALENDAR
VERSION:2.0
PRODID:-//Båstad Camping - ECPv6.15.20//NONSGML v1.0//EN
CALSCALE:GREGORIAN
METHOD:PUBLISH
X-WR-CALNAME:Båstad Camping
X-ORIGINAL-URL:https://www.bastadcamping.se/de/
X-WR-CALDESC:Veranstaltungen für Båstad Camping
REFRESH-INTERVAL;VALUE=DURATION:PT1H
X-Robots-Tag:noindex
X-PUBLISHED-TTL:PT1H
BEGIN:VTIMEZONE
TZID:Europe/Stockholm
BEGIN:DAYLIGHT
TZOFFSETFROM:+0100
TZOFFSETTO:+0200
TZNAME:CEST
DTSTART:20240331T010000
END:DAYLIGHT
BEGIN:STANDARD
TZOFFSETFROM:+0200
TZOFFSETTO:+0100
TZNAME:CET
DTSTART:20241027T010000
END:STANDARD
BEGIN:DAYLIGHT
TZOFFSETFROM:+0100
TZOFFSETTO:+0200
TZNAME:CEST
DTSTART:20250330T010000
END:DAYLIGHT
BEGIN:STANDARD
TZOFFSETFROM:+0200
TZOFFSETTO:+0100
TZNAME:CET
DTSTART:20251026T010000
END:STANDARD
BEGIN:DAYLIGHT
TZOFFSETFROM:+0100
TZOFFSETTO:+0200
TZNAME:CEST
DTSTART:20260329T010000
END:DAYLIGHT
BEGIN:STANDARD
TZOFFSETFROM:+0200
TZOFFSETTO:+0100
TZNAME:CET
DTSTART:20261025T010000
END:STANDARD
END:VTIMEZONE
BEGIN:VEVENT
DTSTART;TZID=Europe/Stockholm:20250809T170000
DTEND;TZID=Europe/Stockholm:20250809T200000
DTSTAMP:20260421T152520
CREATED:20250716T131253Z
LAST-MODIFIED:20250716T131253Z
UID:5515-1754758800-1754769600@www.bastadcamping.se
SUMMARY:Barbecue Abend
DESCRIPTION:Schmeißen wir den Grill an und laden Sie zu einem köstlichen Grillbuffet und Live-Musik ein! \nGenießen Sie mit Freunden und Familie. Halten Sie das Sommergefühl noch ein wenig länger fest.  \nPS: Vergessen Sie nicht\, einen Tisch im Restaurant zu reservieren: info@bastadcamping.se oder 0431 755 11
URL:https://www.bastadcamping.se/de/event/barbecue-abend/
LOCATION:Das Quadrat
ATTACH;FMTTYPE=application/pdf:https://www.bastadcamping.se/wp-content/uploads/2025/07/GRILLBUFFE.pdf
ORGANIZER;CN="Das Quadrat":MAILTO:torget@bastadcamping.se
END:VEVENT
END:VCALENDAR