BEGIN:VCALENDAR
VERSION:2.0
PRODID:-//Båstad Camping - ECPv6.15.20//NONSGML v1.0//EN
CALSCALE:GREGORIAN
METHOD:PUBLISH
X-WR-CALNAME:Båstad Camping
X-ORIGINAL-URL:https://www.bastadcamping.se/de/
X-WR-CALDESC:Veranstaltungen für Båstad Camping
REFRESH-INTERVAL;VALUE=DURATION:PT1H
X-Robots-Tag:noindex
X-PUBLISHED-TTL:PT1H
BEGIN:VTIMEZONE
TZID:Europe/Stockholm
BEGIN:DAYLIGHT
TZOFFSETFROM:+0100
TZOFFSETTO:+0200
TZNAME:CEST
DTSTART:20250330T010000
END:DAYLIGHT
BEGIN:STANDARD
TZOFFSETFROM:+0200
TZOFFSETTO:+0100
TZNAME:CET
DTSTART:20251026T010000
END:STANDARD
BEGIN:DAYLIGHT
TZOFFSETFROM:+0100
TZOFFSETTO:+0200
TZNAME:CEST
DTSTART:20260329T010000
END:DAYLIGHT
BEGIN:STANDARD
TZOFFSETFROM:+0200
TZOFFSETTO:+0100
TZNAME:CET
DTSTART:20261025T010000
END:STANDARD
BEGIN:DAYLIGHT
TZOFFSETFROM:+0100
TZOFFSETTO:+0200
TZNAME:CEST
DTSTART:20270328T010000
END:DAYLIGHT
BEGIN:STANDARD
TZOFFSETFROM:+0200
TZOFFSETTO:+0100
TZNAME:CET
DTSTART:20271031T010000
END:STANDARD
END:VTIMEZONE
BEGIN:VEVENT
DTSTART;VALUE=DATE:20260706
DTEND;VALUE=DATE:20260711
DTSTAMP:20260419T175723
CREATED:20260305T115106Z
LAST-MODIFIED:20260305T115106Z
UID:5611-1783296000-1783727999@www.bastadcamping.se
SUMMARY:Kinderwoche auf Båstad Camping
DESCRIPTION:🎉 Kidsweek auf Båstad Camping – Die schönste Woche des Sommers für Kinder! 🌞 \nMachen Sie sich bereit für eine Woche voller Lachen\, Spiel und vielen lustigen Aktivitäten! Während der Kidsweek auf Båstad Camping verwandelt sich der Campingplatz in ein wahres Paradies für Kinder. Von spannenden Wettbewerben und kreativen Bastelarbeiten bis hin zu Spielen\, Sport und neuen Freunden ist alles dabei.   \nEs werden Tage voller Energie\, Abenteuer und Erinnerungen sein\, von denen die Kinder noch lange nach dem Sommer sprechen werden. Perfekt für die ganze Familie – während die Kinder mit lustigen Aktivitäten beschäftigt sind\, können Sie all die wunderbaren Dinge genießen\, die Båstad und der Campingplatz zu bieten haben.  \n📅 Das vollständige Programm wird bald veröffentlicht – bleiben Sie dran\, damit Sie nichts verpassen! \nWir freuen uns darauf\, mit Ihnen eine unvergessliche Woche zu verbringen! 🌈
URL:https://www.bastadcamping.se/de/event/kinderwoche-auf-bastad-camping/
ATTACH;FMTTYPE=image/jpeg:https://www.bastadcamping.se/wp-content/uploads/2024/04/IMG_5335.jpg
END:VEVENT
BEGIN:VEVENT
DTSTART;TZID=Europe/Stockholm:20260706T180000
DTEND;TZID=Europe/Stockholm:20260706T190000
DTSTAMP:20260419T175723
CREATED:20260410T074710Z
LAST-MODIFIED:20260410T074710Z
UID:5769-1783360800-1783364400@www.bastadcamping.se
SUMMARY:Kostenlose Bewegung im Freien mit Friskis och Svettis
DESCRIPTION:Herzlich willkommen zur kostenlosen Bewegung im Freien mit Friskis och Svettis! \nJeden Montag zwischen dem 22. Juni und dem 10. August wird Friskis och Svettis in unseren Räumlichkeiten Schulungen unter Anleitung durchführen. \nUnd wissen Sie\, was das Beste daran ist? Die Teilnahme ist völlig kostenlos!  \nWir sehen uns auf dem Båstad Camping!
URL:https://www.bastadcamping.se/de/event/kostenlose-bewegung-im-freien-mit-friskis-och-svettis-3/
ATTACH;FMTTYPE=image/png:https://www.bastadcamping.se/wp-content/uploads/2025/05/friskis-och-svettis-bild.png
END:VEVENT
END:VCALENDAR