BEGIN:VCALENDAR
VERSION:2.0
PRODID:-//Båstad Camping - ECPv6.15.20//NONSGML v1.0//EN
CALSCALE:GREGORIAN
METHOD:PUBLISH
X-ORIGINAL-URL:https://www.bastadcamping.se/de/
X-WR-CALDESC:Veranstaltungen für Båstad Camping
REFRESH-INTERVAL;VALUE=DURATION:PT1H
X-Robots-Tag:noindex
X-PUBLISHED-TTL:PT1H
BEGIN:VTIMEZONE
TZID:Europe/Stockholm
BEGIN:DAYLIGHT
TZOFFSETFROM:+0100
TZOFFSETTO:+0200
TZNAME:CEST
DTSTART:20250330T010000
END:DAYLIGHT
BEGIN:STANDARD
TZOFFSETFROM:+0200
TZOFFSETTO:+0100
TZNAME:CET
DTSTART:20251026T010000
END:STANDARD
BEGIN:DAYLIGHT
TZOFFSETFROM:+0100
TZOFFSETTO:+0200
TZNAME:CEST
DTSTART:20260329T010000
END:DAYLIGHT
BEGIN:STANDARD
TZOFFSETFROM:+0200
TZOFFSETTO:+0100
TZNAME:CET
DTSTART:20261025T010000
END:STANDARD
BEGIN:DAYLIGHT
TZOFFSETFROM:+0100
TZOFFSETTO:+0200
TZNAME:CEST
DTSTART:20270328T010000
END:DAYLIGHT
BEGIN:STANDARD
TZOFFSETFROM:+0200
TZOFFSETTO:+0100
TZNAME:CET
DTSTART:20271031T010000
END:STANDARD
END:VTIMEZONE
BEGIN:VEVENT
DTSTART;TZID=Europe/Stockholm:20260619T103000
DTEND;TZID=Europe/Stockholm:20260619T110000
DTSTAMP:20260419T160208
CREATED:20260213T082159Z
LAST-MODIFIED:20260213T082159Z
UID:5529-1781865000-1781866800@www.bastadcamping.se
SUMMARY:Kleiden Sie den Mittsommerpfahl
DESCRIPTION:Willkommen zum Anziehen des Mittsommerpfahls auf Båstad Camping um 10:30 Uhr! 🌸🌿   \nBringen Sie Ihre eigenen Blumen mit und schaffen Sie gemeinsam mit uns eine schöne\, sommerliche Mittsommeratmosphäre. Je mehr wir sind – desto schöner wird der Pfahl sein! 🌼✨   \nWir versammeln uns hinter dem Servicegebäude 2.
URL:https://www.bastadcamping.se/de/event/kleiden-sie-den-mittsommerpfahl-2/
ATTACH;FMTTYPE=image/jpeg:https://www.bastadcamping.se/wp-content/uploads/2023/05/B53BF9D5-B8B7-42FF-9707-6FB7BE9362F7.jpeg
END:VEVENT
BEGIN:VEVENT
DTSTART;TZID=Europe/Stockholm:20260619T140000
DTEND;TZID=Europe/Stockholm:20260619T150000
DTSTAMP:20260419T160208
CREATED:20260213T082608Z
LAST-MODIFIED:20260213T082608Z
UID:5525-1781877600-1781881200@www.bastadcamping.se
SUMMARY:Traditionelle Mittsommerfeiern auf Båstad Camping
DESCRIPTION:Willkommen zu einem traditionellen Mittsommerfest auf dem Båstad Camping! 🌸🌿 \nWir feiern\, wie es sich gehört – mit einem blumenbedeckten Mittsommerpfahl\, Tänzen um den Pfahl\, klassischen Spielen und wundervollen Gesangseinlagen. Der Duft des Sommers\, fröhliches Lachen und Gemeinschaft erfüllen den Campingplatz\, während wir gemeinsam Erinnerungen für Jung und Alt schaffen.  \nBringen Sie Ihre Familie und Freunde mit und erleben Sie einen echten schwedischen Mittsommer am Meer – so wie er sein sollte! ✨
URL:https://www.bastadcamping.se/de/event/traditionelle-mittsommerfeiern-auf-bastad-camping/
ATTACH;FMTTYPE=image/jpeg:https://www.bastadcamping.se/wp-content/uploads/2025/06/IMG_3385.jpeg
END:VEVENT
BEGIN:VEVENT
DTSTART;TZID=Europe/Stockholm:20260619T150000
DTEND;TZID=Europe/Stockholm:20260619T163000
DTSTAMP:20260419T160208
CREATED:20260219T085029Z
LAST-MODIFIED:20260219T085029Z
UID:5447-1781881200-1781886600@www.bastadcamping.se
SUMMARY:Reisender Glücksspieler
DESCRIPTION:Während Sie an der langen Tafel Hering und Nubbe genießen\, spaziert unsere Frau Uffe umher und vergoldet Ihr Dasein auf dem Campingplatz. \nGenießen Sie bei uns auf Båstad Camping den Sommer von seiner schönsten Seite!
URL:https://www.bastadcamping.se/de/event/reisender-gluecksspieler-2/
ATTACH;FMTTYPE=image/jpeg:https://www.bastadcamping.se/wp-content/uploads/2023/05/uffe.jpeg
END:VEVENT
END:VCALENDAR