BEGIN:VCALENDAR
VERSION:2.0
PRODID:-//Båstad Camping - ECPv6.15.20//NONSGML v1.0//EN
CALSCALE:GREGORIAN
METHOD:PUBLISH
X-ORIGINAL-URL:https://www.bastadcamping.se/de/
X-WR-CALDESC:Veranstaltungen für Båstad Camping
REFRESH-INTERVAL;VALUE=DURATION:PT1H
X-Robots-Tag:noindex
X-PUBLISHED-TTL:PT1H
BEGIN:VTIMEZONE
TZID:Europe/Stockholm
BEGIN:DAYLIGHT
TZOFFSETFROM:+0100
TZOFFSETTO:+0200
TZNAME:CEST
DTSTART:20250330T010000
END:DAYLIGHT
BEGIN:STANDARD
TZOFFSETFROM:+0200
TZOFFSETTO:+0100
TZNAME:CET
DTSTART:20251026T010000
END:STANDARD
BEGIN:DAYLIGHT
TZOFFSETFROM:+0100
TZOFFSETTO:+0200
TZNAME:CEST
DTSTART:20260329T010000
END:DAYLIGHT
BEGIN:STANDARD
TZOFFSETFROM:+0200
TZOFFSETTO:+0100
TZNAME:CET
DTSTART:20261025T010000
END:STANDARD
BEGIN:DAYLIGHT
TZOFFSETFROM:+0100
TZOFFSETTO:+0200
TZNAME:CEST
DTSTART:20270328T010000
END:DAYLIGHT
BEGIN:STANDARD
TZOFFSETFROM:+0200
TZOFFSETTO:+0100
TZNAME:CET
DTSTART:20271031T010000
END:STANDARD
END:VTIMEZONE
BEGIN:VEVENT
DTSTART;TZID=Europe/Stockholm:20260605T170000
DTEND;TZID=Europe/Stockholm:20260605T190000
DTSTAMP:20260419T173128
CREATED:20260219T082705Z
LAST-MODIFIED:20260219T082705Z
UID:5453-1780678800-1780686000@www.bastadcamping.se
SUMMARY:Feierabend auf dem Båstad Camping
DESCRIPTION:🍻 FEIERABEND AUF DEM BÅSTAD CAMPING 🍷\nBeenden Sie die Arbeitswoche auf die beste Weise!\nVersammeln Sie Kollegen\, Freunde oder Familie und genießen Sie einen schönen Feierabend in unserem gemütlichen Restaurant.Hier treffen sich Lachen\, gutes Essen und etwas wirklich Gutes im Glas – in einer entspannten Umgebung mit einer netten Atmosphäre. \n🌟 Tolle Angebote für Speisen und Getränke🍔 Ausgewählte Gerichte zu besonders günstigen Preisen🍷 Sonderangebote für Bier\, Wein und alkoholfreie Optionen🎶 Tolle Musik und tolle Atmosphäre \nDies ist der perfekte Start in den Abend – oder eine wohlverdiente Pause nach der Arbeit. \nUnter Båstad Camping machen wir den Feierabend zu etwas\, worauf Sie sich freuen können. \nPS: Reservieren Sie einen Tisch unter info@bastadcamping.se oder 0431 755 11
URL:https://www.bastadcamping.se/de/event/feierabend-auf-dem-bastad-camping-2/
LOCATION:Das Quadrat
ATTACH;FMTTYPE=image/png:https://www.bastadcamping.se/wp-content/uploads/2026/02/ChatGPT-Image-Feb-19-2026-09_07_37-AM.png
ORGANIZER;CN="Das Quadrat":MAILTO:torget@bastadcamping.se
END:VEVENT
BEGIN:VEVENT
DTSTART;TZID=Europe/Stockholm:20260605T183000
DTEND;TZID=Europe/Stockholm:20260605T220000
DTSTAMP:20260419T173128
CREATED:20260219T105812Z
LAST-MODIFIED:20260313T110535Z
UID:5433-1780684200-1780696800@www.bastadcamping.se
SUMMARY:Live-Musik mit Rasmus Hanák
DESCRIPTION:Feiern Sie Schwedens Nationalfeiertag mit Ramus Hanák auf Båstad Camping! 🎶\nAm 6. Juni laden wir Sie zu einer echten Partynacht ein\, wenn Ramus Hanák die Bühne auf dem Båstad Camping! \nEs wird ein stimmungsvoller Abend voller Musik\, Energie und Sommerfeeling. Mit einer starken Bühnenpräsenz und einem Repertoire\, das sowohl die Herzen als auch das Publikum zum Schwingen bringt\, schafft Ramus ein Erlebnis\, an das man sich gerne erinnert.  \n🎤 Live-Unterhaltung in schöner Sommeratmosphäre und feiern Sie den Nationalfeiertag mit uns🍔 Gutes Essen und etwas Gutes im Glas🌅 Abendstimmung in bester Camping-Manier \nBringen Sie Ihre Familie und Freunde mit und machen Sie den diesjährigen Nationalfeiertag zu etwas ganz Besonderem.Wir bringen Gemeinschaft\, Musik und einen Sommerabend zusammen – alles an einem Ort. \nWillkommen zu einem Wochenende bei uns auf dem Båstad Camping – das sollten Sie nicht verpassen!
URL:https://www.bastadcamping.se/de/event/feierlichkeiten-zum-nationalfeiertag-mit-live-musik-von-rasmus-hanak/
LOCATION:Das Quadrat
ATTACH;FMTTYPE=image/jpeg:https://www.bastadcamping.se/wp-content/uploads/2025/09/20190725_181048577_iOS-scaled.jpg
ORGANIZER;CN="Das Quadrat":MAILTO:torget@bastadcamping.se
END:VEVENT
END:VCALENDAR